BEGIN:VCALENDAR
VERSION:2.0
PRODID:-//English Springer Spaniel Field Trials - ECPv6.15.20//NONSGML v1.0//EN
CALSCALE:GREGORIAN
METHOD:PUBLISH
X-WR-CALNAME:English Springer Spaniel Field Trials
X-ORIGINAL-URL:https://essft.com
X-WR-CALDESC:Events for English Springer Spaniel Field Trials
REFRESH-INTERVAL;VALUE=DURATION:PT1H
X-Robots-Tag:noindex
X-PUBLISHED-TTL:PT1H
BEGIN:VTIMEZONE
TZID:America/Chicago
BEGIN:DAYLIGHT
TZOFFSETFROM:-0600
TZOFFSETTO:-0500
TZNAME:CDT
DTSTART:20170312T080000
END:DAYLIGHT
BEGIN:STANDARD
TZOFFSETFROM:-0500
TZOFFSETTO:-0600
TZNAME:CST
DTSTART:20171105T070000
END:STANDARD
BEGIN:DAYLIGHT
TZOFFSETFROM:-0600
TZOFFSETTO:-0500
TZNAME:CDT
DTSTART:20180311T080000
END:DAYLIGHT
BEGIN:STANDARD
TZOFFSETFROM:-0500
TZOFFSETTO:-0600
TZNAME:CST
DTSTART:20181104T070000
END:STANDARD
BEGIN:DAYLIGHT
TZOFFSETFROM:-0600
TZOFFSETTO:-0500
TZNAME:CDT
DTSTART:20190310T080000
END:DAYLIGHT
BEGIN:STANDARD
TZOFFSETFROM:-0500
TZOFFSETTO:-0600
TZNAME:CST
DTSTART:20191103T070000
END:STANDARD
END:VTIMEZONE
BEGIN:VEVENT
DTSTART;TZID=America/Chicago:20181102T000000
DTEND;TZID=America/Chicago:20181103T000000
DTSTAMP:20260424T020346
CREATED:20250611T200640Z
LAST-MODIFIED:20250611T200640Z
UID:75149-1541116800-1541203200@essft.com
SUMMARY:SE Texas English Springer Spaniel Club
DESCRIPTION:Entries Close: Tuesday October 23\, 2018\, at 6:00 pm with the FTS. \nJudges: Gary Breitbarth and Kevin Rutherford\n\n		\n			\n			\n		\n\n		\n  \n  \n\n		\n			\n			\n		\n\n		\n  \nClick here for the SE Texas FT Premium \n  \n\n		\n			\n			\n		\n\n		\n  \n[wunderground location=”Huntsville\, TX” numdays=”5″ showdata=”alert\,daynames\,pop\,icon\,highlow\,conditions\,date” layout=”table-horizontal”]
URL:https://essft.com/event/se-texas-english-springer-spaniel-club/
LOCATION:Springer Creek Ranch\, 4918 FM1374\, Huntsville\, TX 77340\, USA\, Huntsville\, Texas\, 77340\, United States
CATEGORIES:Field Trials - Rocky Mountain
GEO:30.613039;-95.621861
X-APPLE-STRUCTURED-LOCATION;VALUE=URI;X-ADDRESS=Springer Creek Ranch 4918 FM1374 Huntsville TX 77340 USA Huntsville Texas 77340 United States;X-APPLE-RADIUS=500;X-TITLE=4918 FM1374\, Huntsville\, TX 77340\, USA:geo:-95.621861,30.613039
END:VEVENT
END:VCALENDAR