BEGIN:VCALENDAR
VERSION:2.0
PRODID:-//English Springer Spaniel Field Trials - ECPv6.15.20//NONSGML v1.0//EN
CALSCALE:GREGORIAN
METHOD:PUBLISH
X-WR-CALNAME:English Springer Spaniel Field Trials
X-ORIGINAL-URL:https://essft.com
X-WR-CALDESC:Events for English Springer Spaniel Field Trials
REFRESH-INTERVAL;VALUE=DURATION:PT1H
X-Robots-Tag:noindex
X-PUBLISHED-TTL:PT1H
BEGIN:VTIMEZONE
TZID:America/New_York
BEGIN:DAYLIGHT
TZOFFSETFROM:-0500
TZOFFSETTO:-0400
TZNAME:EDT
DTSTART:20160313T070000
END:DAYLIGHT
BEGIN:STANDARD
TZOFFSETFROM:-0400
TZOFFSETTO:-0500
TZNAME:EST
DTSTART:20161106T060000
END:STANDARD
BEGIN:DAYLIGHT
TZOFFSETFROM:-0500
TZOFFSETTO:-0400
TZNAME:EDT
DTSTART:20170312T070000
END:DAYLIGHT
BEGIN:STANDARD
TZOFFSETFROM:-0400
TZOFFSETTO:-0500
TZNAME:EST
DTSTART:20171105T060000
END:STANDARD
BEGIN:DAYLIGHT
TZOFFSETFROM:-0500
TZOFFSETTO:-0400
TZNAME:EDT
DTSTART:20180311T070000
END:DAYLIGHT
BEGIN:STANDARD
TZOFFSETFROM:-0400
TZOFFSETTO:-0500
TZNAME:EST
DTSTART:20181104T060000
END:STANDARD
END:VTIMEZONE
BEGIN:VEVENT
DTSTART;TZID=America/New_York:20170930T000000
DTEND;TZID=America/New_York:20171001T000000
DTSTAMP:20260423T215141
CREATED:20250611T174630Z
LAST-MODIFIED:20250611T174630Z
UID:74868-1506729600-1506816000@essft.com
SUMMARY:Southern Michigan
DESCRIPTION:Entries Close Monday\, September 18\, 2017 on Entry Express \nJudges: Cindy Goode-Wilson and Mhari Peschel \n2017 Southern Michigan Fall FT Premium \nRunning Orders & Directions\n2017 Southern Michigan Fall FT Running Order Open & Puppy \n2017 Southern Michigan Fall FT Running Order Amateur \n2017 Southern Michigan Fall FT Directions \n  \n[wunderground location=”Dundee\, MI” numdays=”5″ showdata=”alert\,daynames\,pop\,icon\,highlow\,conditions\,date” layout=”table-horizontal”] 
URL:https://essft.com/event/southern-michigan/
LOCATION:Sexy Pheasant Farm\, 18378 Day Rd\, Dundee\, MI 48131\, USA\, Dundee\, Michigan\, 48131\, United States
CATEGORIES:Field Trials - Mid East
GEO:42.000234;-83.701633
X-APPLE-STRUCTURED-LOCATION;VALUE=URI;X-ADDRESS=Sexy Pheasant Farm 18378 Day Rd Dundee MI 48131 USA Dundee Michigan 48131 United States;X-APPLE-RADIUS=500;X-TITLE=18378 Day Rd\, Dundee\, MI 48131\, USA:geo:-83.701633,42.000234
END:VEVENT
END:VCALENDAR