BEGIN:VCALENDAR
VERSION:2.0
PRODID:-//English Springer Spaniel Field Trials - ECPv6.15.20//NONSGML v1.0//EN
CALSCALE:GREGORIAN
METHOD:PUBLISH
X-WR-CALNAME:English Springer Spaniel Field Trials
X-ORIGINAL-URL:https://essft.com
X-WR-CALDESC:Events for English Springer Spaniel Field Trials
REFRESH-INTERVAL;VALUE=DURATION:PT1H
X-Robots-Tag:noindex
X-PUBLISHED-TTL:PT1H
BEGIN:VTIMEZONE
TZID:America/Chicago
BEGIN:DAYLIGHT
TZOFFSETFROM:-0600
TZOFFSETTO:-0500
TZNAME:CDT
DTSTART:20170312T080000
END:DAYLIGHT
BEGIN:STANDARD
TZOFFSETFROM:-0500
TZOFFSETTO:-0600
TZNAME:CST
DTSTART:20171105T070000
END:STANDARD
BEGIN:DAYLIGHT
TZOFFSETFROM:-0600
TZOFFSETTO:-0500
TZNAME:CDT
DTSTART:20180311T080000
END:DAYLIGHT
BEGIN:STANDARD
TZOFFSETFROM:-0500
TZOFFSETTO:-0600
TZNAME:CST
DTSTART:20181104T070000
END:STANDARD
BEGIN:DAYLIGHT
TZOFFSETFROM:-0600
TZOFFSETTO:-0500
TZNAME:CDT
DTSTART:20190310T080000
END:DAYLIGHT
BEGIN:STANDARD
TZOFFSETFROM:-0500
TZOFFSETTO:-0600
TZNAME:CST
DTSTART:20191103T070000
END:STANDARD
END:VTIMEZONE
BEGIN:VEVENT
DTSTART;TZID=America/Chicago:20180511T000000
DTEND;TZID=America/Chicago:20180513T000000
DTSTAMP:20260424T055924
CREATED:20250611T183205Z
LAST-MODIFIED:20250611T183205Z
UID:75002-1525996800-1526169600@essft.com
SUMMARY:SPANIEL TRAINING SEMINAR WITH RAY CACCHIO MAY 11-13\, 2018
DESCRIPTION:Hint: Depending upon your computer and mouse set up you can scroll through the PDF in different ways.  Regardless of setup if you go to the bottom of the pdf and hover your mouse  you will see a gray bar that will allow you to page through the document\, download it for printing etc. \n 
URL:https://essft.com/event/spaniel-training-seminar-with-ray-cacchio-may-11-13-2018/
LOCATION:Windrift Kennels\, Cochranton\, PA\, USA\, Cochranton\, Pennsylvania\, United States
CATEGORIES:Training Seminar
GEO:41.520053;-80.048393
X-APPLE-STRUCTURED-LOCATION;VALUE=URI;X-ADDRESS=Windrift Kennels Cochranton PA USA Cochranton Pennsylvania United States;X-APPLE-RADIUS=500;X-TITLE=Cochranton\, PA\, USA:geo:-80.048393,41.520053
END:VEVENT
END:VCALENDAR