BEGIN:VCALENDAR
VERSION:2.0
PRODID:-//English Springer Spaniel Field Trials - ECPv6.15.20//NONSGML v1.0//EN
CALSCALE:GREGORIAN
METHOD:PUBLISH
X-WR-CALNAME:English Springer Spaniel Field Trials
X-ORIGINAL-URL:https://essft.com
X-WR-CALDESC:Events for English Springer Spaniel Field Trials
REFRESH-INTERVAL;VALUE=DURATION:PT1H
X-Robots-Tag:noindex
X-PUBLISHED-TTL:PT1H
BEGIN:VTIMEZONE
TZID:America/Chicago
BEGIN:DAYLIGHT
TZOFFSETFROM:-0600
TZOFFSETTO:-0500
TZNAME:CDT
DTSTART:20190310T080000
END:DAYLIGHT
BEGIN:STANDARD
TZOFFSETFROM:-0500
TZOFFSETTO:-0600
TZNAME:CST
DTSTART:20191103T070000
END:STANDARD
BEGIN:DAYLIGHT
TZOFFSETFROM:-0600
TZOFFSETTO:-0500
TZNAME:CDT
DTSTART:20200308T080000
END:DAYLIGHT
BEGIN:STANDARD
TZOFFSETFROM:-0500
TZOFFSETTO:-0600
TZNAME:CST
DTSTART:20201101T070000
END:STANDARD
BEGIN:DAYLIGHT
TZOFFSETFROM:-0600
TZOFFSETTO:-0500
TZNAME:CDT
DTSTART:20210314T080000
END:DAYLIGHT
BEGIN:STANDARD
TZOFFSETFROM:-0500
TZOFFSETTO:-0600
TZNAME:CST
DTSTART:20211107T070000
END:STANDARD
END:VTIMEZONE
BEGIN:VEVENT
DTSTART;TZID=America/Chicago:20201024T000000
DTEND;TZID=America/Chicago:20201025T000000
DTSTAMP:20260422T232706
CREATED:20250613T024242Z
LAST-MODIFIED:20250613T024242Z
UID:75688-1603497600-1603584000@essft.com
SUMMARY:Springer Spaniel Club of Central Kansas
DESCRIPTION:Entries Close: Tuesday\, October 13\, 2020 11:59:59 PM Eastern Time(ET) on Hunt Secretary \nJudge change 10/9/2020: Don Mock and Brian Sonier
URL:https://essft.com/event/springer-spaniel-club-of-central-kansas-6-2/
LOCATION:Bramwell Residence\, 12826 SW 77 Ave\, Zenda\, KS 67159\, USA\, Zenda\, Kansas\, 67159\, United States
CATEGORIES:Field Trials - Rocky Mountain
GEO:37.460004;-98.259078
X-APPLE-STRUCTURED-LOCATION;VALUE=URI;X-ADDRESS=Bramwell Residence 12826 SW 77 Ave Zenda KS 67159 USA Zenda Kansas 67159 United States;X-APPLE-RADIUS=500;X-TITLE=12826 SW 77 Ave\, Zenda\, KS 67159\, USA:geo:-98.259078,37.460004
END:VEVENT
END:VCALENDAR