BEGIN:VCALENDAR
VERSION:2.0
PRODID:-//English Springer Spaniel Field Trials - ECPv6.15.20//NONSGML v1.0//EN
CALSCALE:GREGORIAN
METHOD:PUBLISH
X-WR-CALNAME:English Springer Spaniel Field Trials
X-ORIGINAL-URL:https://essft.com
X-WR-CALDESC:Events for English Springer Spaniel Field Trials
REFRESH-INTERVAL;VALUE=DURATION:PT1H
X-Robots-Tag:noindex
X-PUBLISHED-TTL:PT1H
BEGIN:VTIMEZONE
TZID:America/Chicago
BEGIN:DAYLIGHT
TZOFFSETFROM:-0600
TZOFFSETTO:-0500
TZNAME:CDT
DTSTART:20160313T080000
END:DAYLIGHT
BEGIN:STANDARD
TZOFFSETFROM:-0500
TZOFFSETTO:-0600
TZNAME:CST
DTSTART:20161106T070000
END:STANDARD
BEGIN:DAYLIGHT
TZOFFSETFROM:-0600
TZOFFSETTO:-0500
TZNAME:CDT
DTSTART:20170312T080000
END:DAYLIGHT
BEGIN:STANDARD
TZOFFSETFROM:-0500
TZOFFSETTO:-0600
TZNAME:CST
DTSTART:20171105T070000
END:STANDARD
BEGIN:DAYLIGHT
TZOFFSETFROM:-0600
TZOFFSETTO:-0500
TZNAME:CDT
DTSTART:20180311T080000
END:DAYLIGHT
BEGIN:STANDARD
TZOFFSETFROM:-0500
TZOFFSETTO:-0600
TZNAME:CST
DTSTART:20181104T070000
END:STANDARD
END:VTIMEZONE
BEGIN:VEVENT
DTSTART;TZID=America/Chicago:20171014T000000
DTEND;TZID=America/Chicago:20171015T000000
DTSTAMP:20260423T200717
CREATED:20250611T175233Z
LAST-MODIFIED:20250611T175233Z
UID:74883-1507939200-1508025600@essft.com
SUMMARY:SSC of Central Kansas
DESCRIPTION:Entries Close: PER FTS EFFECTIVE 9/24 NEW CLOSING DATE WILL BE FRIDAY\, SEPTEMBER 29!  \n Email paper work/ mail check \nJudges:  Peter Zuleger and Mark Matthiesen \nNote: Judge Change from Bob MacDonald to Mark Matthiesen. \n2017 Kansas Fall FT Letter and Premium \nRunning Orders\n2017 Kansas Fall FT Running Orders \n[wunderground location=”Zenda\, KS” numdays=”5″ showdata=”alert\,daynames\,pop\,icon\,highlow\,conditions\,date” layout=”table-horizontal”] 
URL:https://essft.com/event/ssc-of-central-kansas-2/
LOCATION:Springer Hollow Farm\, 12826 SW 77 Ave\, Zenda\, KS 67159\, USA\, Zenda\, Kansas\, 67159\, United States
CATEGORIES:Field Trials - Rocky Mountain
ORGANIZER;CN="Patricia Bramwell":MAILTO:tridoness@sutv.com
GEO:37.460004;-98.259078
X-APPLE-STRUCTURED-LOCATION;VALUE=URI;X-ADDRESS=Springer Hollow Farm 12826 SW 77 Ave Zenda KS 67159 USA Zenda Kansas 67159 United States;X-APPLE-RADIUS=500;X-TITLE=12826 SW 77 Ave\, Zenda\, KS 67159\, USA:geo:-98.259078,37.460004
END:VEVENT
END:VCALENDAR