BEGIN:VCALENDAR
VERSION:2.0
PRODID:-//English Springer Spaniel Field Trials - ECPv6.15.20//NONSGML v1.0//EN
CALSCALE:GREGORIAN
METHOD:PUBLISH
X-WR-CALNAME:English Springer Spaniel Field Trials
X-ORIGINAL-URL:https://essft.com
X-WR-CALDESC:Events for English Springer Spaniel Field Trials
REFRESH-INTERVAL;VALUE=DURATION:PT1H
X-Robots-Tag:noindex
X-PUBLISHED-TTL:PT1H
BEGIN:VTIMEZONE
TZID:America/Chicago
BEGIN:DAYLIGHT
TZOFFSETFROM:-0600
TZOFFSETTO:-0500
TZNAME:CDT
DTSTART:20200308T080000
END:DAYLIGHT
BEGIN:STANDARD
TZOFFSETFROM:-0500
TZOFFSETTO:-0600
TZNAME:CST
DTSTART:20201101T070000
END:STANDARD
BEGIN:DAYLIGHT
TZOFFSETFROM:-0600
TZOFFSETTO:-0500
TZNAME:CDT
DTSTART:20210314T080000
END:DAYLIGHT
BEGIN:STANDARD
TZOFFSETFROM:-0500
TZOFFSETTO:-0600
TZNAME:CST
DTSTART:20211107T070000
END:STANDARD
BEGIN:DAYLIGHT
TZOFFSETFROM:-0600
TZOFFSETTO:-0500
TZNAME:CDT
DTSTART:20220313T080000
END:DAYLIGHT
BEGIN:STANDARD
TZOFFSETFROM:-0500
TZOFFSETTO:-0600
TZNAME:CST
DTSTART:20221106T070000
END:STANDARD
END:VTIMEZONE
BEGIN:VEVENT
DTSTART;TZID=America/Chicago:20211008T000000
DTEND;TZID=America/Chicago:20211010T000000
DTSTAMP:20260422T130108
CREATED:20250613T035049Z
LAST-MODIFIED:20250613T035049Z
UID:75902-1633651200-1633824000@essft.com
SUMMARY:St. Croix Valley Spaniel Club
DESCRIPTION:Entries Close: Monday\, September 27\, 2021 11:59:59 PM Eastern Time(ET) on Hunt Secretary  FT 1 \nEntries Close: Monday\, September 27\, 2021 11:59:59 PM Eastern Time(ET) on Hunt Secretary FT 2 \n  \nJudges:\nFriday October 8\, open\, water & puppy\, open & water judges Terry Sworsky & Pete Zuleger. Puppy Rick Radtke & Dave Huth\, Clitheral\, MN\n\nSaturday & Sunday\, October 9 & 10\, open\, amateur & puppy. Open & Amateur judges John Hall & Robert Clayton\, Clitheral\, MN. Puppy judges Bill Gillet & Kevin Martineau.\nDue to unforeseen circumstances\, John Hall will not be able to judge the weekend trial. Pete Zulegar will be his replacement. Please contact Deb Livingston gregdebliving@aol.com with any questions or issues with this change.\n\n\nGreetings Field Trialers!\n\nThe St. Croix Valley Spaniel Club would like to welcome you to our annual Fall Field Trial on Friday Oct 8th – Sunday Oct 10th.  This event will be held at the William’s property\, 4291 210th St Clitherall\, MN\, approximately 35 minutes NE of Alexandria\, MN.  This is a large property made up of brome grass that is almost knee high with no major obstacles or obstructions.  We will hold an Open\, Puppy and Water Test on Friday Oct 8th  & an Open\, Amateur with alternating stakes Saturday and Sunday along with a second Puppy stake.\n\nALL AGE JUDGES FRIDAY: Terry Sworsky. St. Francis\, MN & Pete Zuleger\, Appleton\, WI\n\nPUPPY JUDGES FRIDAY: Dave Huth\, Maple Grove\, MN & Rick Radtke\, Big Lake\, MN\n\nALL AGE JUDGES SATURDAY/SUNDAY: John Hall\, Chicago\, IL & Robert Clayton\, Deer Park\, TX\n\nPUPPY JUDGES SUNDAY: Kevin Martineau\, Longville\, MN & Bill Gillett\, Inver Grove Heights\, MN\n\nSTART TIMES: Friday Open: 8am\, Puppy to follow 2nd series of Open\, Water test to be held at a different location immediately after the conclusion of the Open & the Puppy.\nSaturday Open: 8am\, Amateur after first series of the Open\nSunday: Puppy not before 10am\n\nFIELD TRIAL CHAIR BOTH TRIALS: Kory Fredrickson\n\nThe club will be hosting a dinner following the water test. The water test is going to be held at the Linden Park Resort. RSVP IS REQUIRED FOR DINNER. Please contact Kory (whiskeywindsspaniels@yahoo.com) or Stuart Lavalier (lavalierfamily@yahoo.com) by closing date to RSVP.  In addition to the dinner\, the club will also be providing an assortment of subs for lunch on Friday & Saturday\, no special orders. AGAIN\,  RSVP IS REQUIRED. Please let Kory know by 10:30 each day if you would like a sub.\n\nDriving directions to the trial grounds & the resort for the water test are listed on the premium as well as the hotels in the area. Parking will be along the shoulder/ditch on 210t St. ABSOLUTELY NO PARKING ON GRAVEL ROAD LEADING TO PRIVATE RESIDENCES.\n\nHOTEL: Super 8 of Alexandria There are 15 rooms set aside until 9/20 at a reduced rate of $79 per night for the nights of October 7th thru the 9th. Mention St. Croix Valley Club. You will need to check on their pet policy.\n4620 MN Hwy 29 So.\, Alexandria\, MN\, 56308\n320-421-8005.\n\nThere are several other accommodations listed in the premium.\n\nThanks for your participation.\n\nKory Fredrickson\, Trial Chair\nwhiskeywindsspaniels@yahoo.com\n763-370-5577\n\nStuart Lavalier\, Trial Secretary for Friday\nlavalierfamily@yahoo.com\n763-688-1636\n\nDeb Livingston\, Trial Secretary for weekend\ngregdebliving@aol.com\n763-422-8044
URL:https://essft.com/event/st-croix-valley-spaniel-club-10/
CATEGORIES:Field Trials - Mid West
END:VEVENT
END:VCALENDAR