BEGIN:VCALENDAR
VERSION:2.0
PRODID:-//English Springer Spaniel Field Trials - ECPv6.15.20//NONSGML v1.0//EN
CALSCALE:GREGORIAN
METHOD:PUBLISH
X-WR-CALNAME:English Springer Spaniel Field Trials
X-ORIGINAL-URL:https://essft.com
X-WR-CALDESC:Events for English Springer Spaniel Field Trials
REFRESH-INTERVAL;VALUE=DURATION:PT1H
X-Robots-Tag:noindex
X-PUBLISHED-TTL:PT1H
BEGIN:VTIMEZONE
TZID:America/Chicago
BEGIN:DAYLIGHT
TZOFFSETFROM:-0600
TZOFFSETTO:-0500
TZNAME:CDT
DTSTART:20160313T080000
END:DAYLIGHT
BEGIN:STANDARD
TZOFFSETFROM:-0500
TZOFFSETTO:-0600
TZNAME:CST
DTSTART:20161106T070000
END:STANDARD
BEGIN:DAYLIGHT
TZOFFSETFROM:-0600
TZOFFSETTO:-0500
TZNAME:CDT
DTSTART:20170312T080000
END:DAYLIGHT
BEGIN:STANDARD
TZOFFSETFROM:-0500
TZOFFSETTO:-0600
TZNAME:CST
DTSTART:20171105T070000
END:STANDARD
BEGIN:DAYLIGHT
TZOFFSETFROM:-0600
TZOFFSETTO:-0500
TZNAME:CDT
DTSTART:20180311T080000
END:DAYLIGHT
BEGIN:STANDARD
TZOFFSETFROM:-0500
TZOFFSETTO:-0600
TZNAME:CST
DTSTART:20181104T070000
END:STANDARD
END:VTIMEZONE
BEGIN:VEVENT
DTSTART;TZID=America/Chicago:20171014T000000
DTEND;TZID=America/Chicago:20171015T000000
DTSTAMP:20260424T104225
CREATED:20250611T175233Z
LAST-MODIFIED:20250611T175233Z
UID:74884-1507939200-1508025600@essft.com
SUMMARY:St Croix Valley Spaniel Club
DESCRIPTION:Entries Close:  Tuesday\, October 3\, 2017    at Hunt Secretary \nJudges:  Bill Gate and Mark Gebert \n2017 St Croix Fall FT Letter \n  \n[wunderground location=”Twin Valley\, MN” numdays=”5″ showdata=”alert\,daynames\,pop\,icon\,highlow\,conditions\,date” layout=”table-horizontal”] 
URL:https://essft.com/event/st-croix-valley-spaniel-club-4/
LOCATION:Stallman Farms\, 3944 140th Ave\, Twin Valley\, MN 56584\, USA\, Twin Valley\, Minnesota\, 56584\, United States
CATEGORIES:Field Trials - Mid West
GEO:47.209233;-96.242488
X-APPLE-STRUCTURED-LOCATION;VALUE=URI;X-ADDRESS=Stallman Farms 3944 140th Ave Twin Valley MN 56584 USA Twin Valley Minnesota 56584 United States;X-APPLE-RADIUS=500;X-TITLE=3944 140th Ave\, Twin Valley\, MN 56584\, USA:geo:-96.242488,47.209233
END:VEVENT
END:VCALENDAR