BEGIN:VCALENDAR
VERSION:2.0
PRODID:-//English Springer Spaniel Field Trials - ECPv6.15.20//NONSGML v1.0//EN
CALSCALE:GREGORIAN
METHOD:PUBLISH
X-WR-CALNAME:English Springer Spaniel Field Trials
X-ORIGINAL-URL:https://essft.com
X-WR-CALDESC:Events for English Springer Spaniel Field Trials
REFRESH-INTERVAL;VALUE=DURATION:PT1H
X-Robots-Tag:noindex
X-PUBLISHED-TTL:PT1H
BEGIN:VTIMEZONE
TZID:America/Chicago
BEGIN:DAYLIGHT
TZOFFSETFROM:-0600
TZOFFSETTO:-0500
TZNAME:CDT
DTSTART:20180311T080000
END:DAYLIGHT
BEGIN:STANDARD
TZOFFSETFROM:-0500
TZOFFSETTO:-0600
TZNAME:CST
DTSTART:20181104T070000
END:STANDARD
BEGIN:DAYLIGHT
TZOFFSETFROM:-0600
TZOFFSETTO:-0500
TZNAME:CDT
DTSTART:20190310T080000
END:DAYLIGHT
BEGIN:STANDARD
TZOFFSETFROM:-0500
TZOFFSETTO:-0600
TZNAME:CST
DTSTART:20191103T070000
END:STANDARD
BEGIN:DAYLIGHT
TZOFFSETFROM:-0600
TZOFFSETTO:-0500
TZNAME:CDT
DTSTART:20200308T080000
END:DAYLIGHT
BEGIN:STANDARD
TZOFFSETFROM:-0500
TZOFFSETTO:-0600
TZNAME:CST
DTSTART:20201101T070000
END:STANDARD
END:VTIMEZONE
BEGIN:VEVENT
DTSTART;TZID=America/Chicago:20190502T000000
DTEND;TZID=America/Chicago:20190503T000000
DTSTAMP:20260423T084133
CREATED:20250611T204414Z
LAST-MODIFIED:20250611T204414Z
UID:75273-1556755200-1556841600@essft.com
SUMMARY:St. Croix Valley Spaniel Club
DESCRIPTION:DATE CHANGED FROM APRIL 11/12 to MAY 2/3.\nEntries Close:  Sunday\, April 21\, 2019 11:59:59 PM Eastern Time(ET) on Hunt Secretary \nJudges: Pete Zuleger and Tim DeGroff\n\n\n\n\n\n\n\n\n\n\n\nST. CROIX VALLEY SPANIEL CLUB\n\n\n\n\n\n\n\n\n\n\n\n\n2019 SPRING TRIAL\n\nDear Trialers\,\nThe St. Croix Valley Spaniel Club is having our spring field trial on Thursday\, May 2 for the Open and Friday\, May 3 for the Amateur & Puppy. We are using Hunt Secretary for entries.\n\nOnce again we will be holding our trial on the grounds of the Long Pond Elk Farm in Princeton.\n\nJudges for the Open & Amateur:\nPete Zuleger\, Appleton\, WI\nTim Degroff\, Carr\, CO\nPuppy judges are Greg Duren & Terry Sworsky\n\nBirds:\nPheasants for the Open & Amateur\nPigeons for the Puppy\n\nGrounds:\nLong Pond Elk Farm\n10940 293rd Ave.\nPrinceton\, MN 55371\n\nHeadquarters Motel:\nAmericanInn\n910 S Rum River Drive\nPrinceton\, MN  55371  763-389-9312\nThey have set aside a block of 10 rooms under St. Croix Valley’s name until April 1st at a rate of $112.99 plus tax. AmericInn does not allow pets in the rooms. They are located 7 miles from the grounds.\n\nOther Area Motels:\nSuper 8 – Milaca\, MN\, 320-983-2660\, $77 per nite\nNo pets allowed\, 17 miles from the grounds.\n\n\nCountry Inn & Suites – Elk River\, MN\, 763-241-6990\, $108 per nite\nNo pets allowed\, 21 miles from the grounds.\n\nAmericInn\n3430 Northdale Blvd NW\nCoon Rapids 763-323-0010\n 30 miles from grounds\, no pets\, call for rate as they change depending upon the day of the week\n\nATV/UTV Use: \nUse on centerline will be restricted to the bird planters & persons known to have a physical disability. Those using a motorized vehicle for physical disability purposes must keep their vehicle at least 1 flag behind the gallery & stop for trialers trying to get to & from the line. Use of these vehicles for all other trialers will be made on the morning of the trial while taking into consideration the condition of the field.\n\nClub Contacts:\nKevin Martineau\, Field Trial Chair\, 651-260-7108\, kmartineau51@gmail.com\nDeb Livingston Field Trial Secretary\, 763-422-8044\, gregdebliving@aol.com\nMike McGinty\, Gun Captain\, 612-272-6045\, lindamcgty@aol.com\n\nWe hope to see you at our trial. Please feel free to contact anyone listed above with any questions or concerns you may have.\n\nKevin Martineau\n\n\n\n\n\n\n\n\n\n\n\n\nField Trial Chairman\n\n\n\n\n\n\n\n\n\n\n\n\n\n\n\n\n\n\n\n\n\n\n\n\n\n\n\n\n		\n			\n			\n		\n\n		\n\n\n\n\n\n\n\n\n\n\n\n\n\n\n\n\n\n\n\n\n\n  \n 
URL:https://essft.com/event/st-croix-valley-spaniel-club-7/
LOCATION:Long Pond Elk Farm\, 10940 293rd Ave NW\, Princeton\, MN 55371\, USA\, Princeton\, Minnesota\, 55371\, United States
CATEGORIES:Field Trials - Mid West
GEO:45.510557;-93.554875
X-APPLE-STRUCTURED-LOCATION;VALUE=URI;X-ADDRESS=Long Pond Elk Farm 10940 293rd Ave NW Princeton MN 55371 USA Princeton Minnesota 55371 United States;X-APPLE-RADIUS=500;X-TITLE=10940 293rd Ave NW\, Princeton\, MN 55371\, USA:geo:-93.554875,45.510557
END:VEVENT
END:VCALENDAR