BEGIN:VCALENDAR
VERSION:2.0
PRODID:-//English Springer Spaniel Field Trials - ECPv6.15.20//NONSGML v1.0//EN
CALSCALE:GREGORIAN
METHOD:PUBLISH
X-WR-CALNAME:English Springer Spaniel Field Trials
X-ORIGINAL-URL:https://essft.com
X-WR-CALDESC:Events for English Springer Spaniel Field Trials
REFRESH-INTERVAL;VALUE=DURATION:PT1H
X-Robots-Tag:noindex
X-PUBLISHED-TTL:PT1H
BEGIN:VTIMEZONE
TZID:America/Chicago
BEGIN:DAYLIGHT
TZOFFSETFROM:-0600
TZOFFSETTO:-0500
TZNAME:CDT
DTSTART:20170312T080000
END:DAYLIGHT
BEGIN:STANDARD
TZOFFSETFROM:-0500
TZOFFSETTO:-0600
TZNAME:CST
DTSTART:20171105T070000
END:STANDARD
BEGIN:DAYLIGHT
TZOFFSETFROM:-0600
TZOFFSETTO:-0500
TZNAME:CDT
DTSTART:20180311T080000
END:DAYLIGHT
BEGIN:STANDARD
TZOFFSETFROM:-0500
TZOFFSETTO:-0600
TZNAME:CST
DTSTART:20181104T070000
END:STANDARD
BEGIN:DAYLIGHT
TZOFFSETFROM:-0600
TZOFFSETTO:-0500
TZNAME:CDT
DTSTART:20190310T080000
END:DAYLIGHT
BEGIN:STANDARD
TZOFFSETFROM:-0500
TZOFFSETTO:-0600
TZNAME:CST
DTSTART:20191103T070000
END:STANDARD
END:VTIMEZONE
BEGIN:VEVENT
DTSTART;TZID=America/Chicago:20180210T000000
DTEND;TZID=America/Chicago:20180211T000000
DTSTAMP:20260423T184813
CREATED:20250611T180545Z
LAST-MODIFIED:20250611T180545Z
UID:74939-1518220800-1518307200@essft.com
SUMMARY:Stillwater Valley ESS Club
DESCRIPTION:Entries Close: Friday\, February 2\, 2018  Mail to the FTS. \nJudges: Robert Clayton and Rick Shively\n2018 Spring StillwaterValleyESSCPremium \n2018 Spirnt Stillwater Valley Entry Form MS Word \n  \n  \n\n		\n			\n			\n		\n\n		\n  \n\n		\n			\n			\n		\n\n		\n  \n[wunderground location=”De Graff\, OH” numdays=”5″ showdata=”alert\,daynames\,pop\,icon\,highlow\,conditions\,date” layout=”table-horizontal”] \n 
URL:https://essft.com/event/stillwater-valley-ess-club-6/
LOCATION:Beelman Farm\, 2192 Co Rd 21\, De Graff\, OH 43318\, USA\, De Graff\, Ohio\, 43318\, United States
CATEGORIES:Field Trials - Mid East
GEO:40.36598;-83.944001
X-APPLE-STRUCTURED-LOCATION;VALUE=URI;X-ADDRESS=Beelman Farm 2192 Co Rd 21 De Graff OH 43318 USA De Graff Ohio 43318 United States;X-APPLE-RADIUS=500;X-TITLE=2192 Co Rd 21\, De Graff\, OH 43318\, USA:geo:-83.944001,40.36598
END:VEVENT
END:VCALENDAR