BEGIN:VCALENDAR
VERSION:2.0
PRODID:-//English Springer Spaniel Field Trials - ECPv6.15.20//NONSGML v1.0//EN
CALSCALE:GREGORIAN
METHOD:PUBLISH
X-WR-CALNAME:English Springer Spaniel Field Trials
X-ORIGINAL-URL:https://essft.com
X-WR-CALDESC:Events for English Springer Spaniel Field Trials
REFRESH-INTERVAL;VALUE=DURATION:PT1H
X-Robots-Tag:noindex
X-PUBLISHED-TTL:PT1H
BEGIN:VTIMEZONE
TZID:America/Chicago
BEGIN:DAYLIGHT
TZOFFSETFROM:-0600
TZOFFSETTO:-0500
TZNAME:CDT
DTSTART:20180311T080000
END:DAYLIGHT
BEGIN:STANDARD
TZOFFSETFROM:-0500
TZOFFSETTO:-0600
TZNAME:CST
DTSTART:20181104T070000
END:STANDARD
BEGIN:DAYLIGHT
TZOFFSETFROM:-0600
TZOFFSETTO:-0500
TZNAME:CDT
DTSTART:20190310T080000
END:DAYLIGHT
BEGIN:STANDARD
TZOFFSETFROM:-0500
TZOFFSETTO:-0600
TZNAME:CST
DTSTART:20191103T070000
END:STANDARD
BEGIN:DAYLIGHT
TZOFFSETFROM:-0600
TZOFFSETTO:-0500
TZNAME:CDT
DTSTART:20200308T080000
END:DAYLIGHT
BEGIN:STANDARD
TZOFFSETFROM:-0500
TZOFFSETTO:-0600
TZNAME:CST
DTSTART:20201101T070000
END:STANDARD
END:VTIMEZONE
BEGIN:VEVENT
DTSTART;TZID=America/Chicago:20190209T000000
DTEND;TZID=America/Chicago:20190210T000000
DTSTAMP:20260423T114828
CREATED:20250611T201902Z
LAST-MODIFIED:20250611T201902Z
UID:75199-1549670400-1549756800@essft.com
SUMMARY:Stockton English Springer Spaniel Training Club
DESCRIPTION:Entries Close: Tuesday\, January 29\, 2019 11:59:59 PM Eastern Time(ET) on Hunt Secretary \nJudges:  Lynn Miller and James O’Shea\n  \n\n		\n			\n			\n		\n\n		\n  \n[wunderground location=”Fairfield\, CA” numdays=”5″ showdata=”alert\,daynames\,pop\,icon\,highlow\,conditions\,date” layout=”table-horizontal”] \n 
URL:https://essft.com/event/stockton-english-springer-spaniel-training-club/
LOCATION:Grizzly Island Wildlife Area\, 2548 Grizzly Island Rd\, Suisun City\, CA 94585\, USA\, Suisun City\, California\, 94585\, United States
CATEGORIES:Field Trials - West
GEO:38.155177;-121.975662
X-APPLE-STRUCTURED-LOCATION;VALUE=URI;X-ADDRESS=Grizzly Island Wildlife Area 2548 Grizzly Island Rd Suisun City CA 94585 USA Suisun City California 94585 United States;X-APPLE-RADIUS=500;X-TITLE=2548 Grizzly Island Rd\, Suisun City\, CA 94585\, USA:geo:-121.975662,38.155177
END:VEVENT
END:VCALENDAR