BEGIN:VCALENDAR
VERSION:2.0
PRODID:-//English Springer Spaniel Field Trials - ECPv6.15.20//NONSGML v1.0//EN
CALSCALE:GREGORIAN
METHOD:PUBLISH
X-WR-CALNAME:English Springer Spaniel Field Trials
X-ORIGINAL-URL:https://essft.com
X-WR-CALDESC:Events for English Springer Spaniel Field Trials
REFRESH-INTERVAL;VALUE=DURATION:PT1H
X-Robots-Tag:noindex
X-PUBLISHED-TTL:PT1H
BEGIN:VTIMEZONE
TZID:America/Chicago
BEGIN:DAYLIGHT
TZOFFSETFROM:-0600
TZOFFSETTO:-0500
TZNAME:CDT
DTSTART:20180311T080000
END:DAYLIGHT
BEGIN:STANDARD
TZOFFSETFROM:-0500
TZOFFSETTO:-0600
TZNAME:CST
DTSTART:20181104T070000
END:STANDARD
BEGIN:DAYLIGHT
TZOFFSETFROM:-0600
TZOFFSETTO:-0500
TZNAME:CDT
DTSTART:20190310T080000
END:DAYLIGHT
BEGIN:STANDARD
TZOFFSETFROM:-0500
TZOFFSETTO:-0600
TZNAME:CST
DTSTART:20191103T070000
END:STANDARD
BEGIN:DAYLIGHT
TZOFFSETFROM:-0600
TZOFFSETTO:-0500
TZNAME:CDT
DTSTART:20200308T080000
END:DAYLIGHT
BEGIN:STANDARD
TZOFFSETFROM:-0500
TZOFFSETTO:-0600
TZNAME:CST
DTSTART:20201101T070000
END:STANDARD
END:VTIMEZONE
BEGIN:VEVENT
DTSTART;TZID=America/Chicago:20190302T000000
DTEND;TZID=America/Chicago:20190303T000000
DTSTAMP:20260423T100424
CREATED:20250611T202010Z
LAST-MODIFIED:20250611T202010Z
UID:75215-1551484800-1551571200@essft.com
SUMMARY:Tamarin Spaniel Field Trial Club   Trial #2
DESCRIPTION:Entries Close: Wednesday\, February 20\, 2019 \nJudges: Dan Lussen & Mike Pollack\n2019 Spring Tamarin Premium MS WORD \n\n		\n			\n			\n		\n\n		\n  \n[wunderground location=”Gridley\, CA” numdays=”5″ showdata=”alert\,daynames\,pop\,icon\,highlow\,conditions\,date” layout=”table-horizontal”] \n 
URL:https://essft.com/event/tamarin-spaniel-field-trial-club-trial-2/
LOCATION:Gray Lodge Wildlife Area\, 3207 Rutherford Rd\, Gridley\, CA 95948\, USA\, Gridley\, California\, 95948\, United States
CATEGORIES:Field Trials - West
GEO:39.2057;-121.8202
X-APPLE-STRUCTURED-LOCATION;VALUE=URI;X-ADDRESS=Gray Lodge Wildlife Area 3207 Rutherford Rd Gridley CA 95948 USA Gridley California 95948 United States;X-APPLE-RADIUS=500;X-TITLE=3207 Rutherford Rd\, Gridley\, CA 95948\, USA:geo:-121.8202,39.2057
END:VEVENT
END:VCALENDAR