BEGIN:VCALENDAR
VERSION:2.0
PRODID:-//English Springer Spaniel Field Trials - ECPv6.15.20//NONSGML v1.0//EN
CALSCALE:GREGORIAN
METHOD:PUBLISH
X-WR-CALNAME:English Springer Spaniel Field Trials
X-ORIGINAL-URL:https://essft.com
X-WR-CALDESC:Events for English Springer Spaniel Field Trials
REFRESH-INTERVAL;VALUE=DURATION:PT1H
X-Robots-Tag:noindex
X-PUBLISHED-TTL:PT1H
BEGIN:VTIMEZONE
TZID:America/Chicago
BEGIN:DAYLIGHT
TZOFFSETFROM:-0600
TZOFFSETTO:-0500
TZNAME:CDT
DTSTART:20200308T080000
END:DAYLIGHT
BEGIN:STANDARD
TZOFFSETFROM:-0500
TZOFFSETTO:-0600
TZNAME:CST
DTSTART:20201101T070000
END:STANDARD
BEGIN:DAYLIGHT
TZOFFSETFROM:-0600
TZOFFSETTO:-0500
TZNAME:CDT
DTSTART:20210314T080000
END:DAYLIGHT
BEGIN:STANDARD
TZOFFSETFROM:-0500
TZOFFSETTO:-0600
TZNAME:CST
DTSTART:20211107T070000
END:STANDARD
BEGIN:DAYLIGHT
TZOFFSETFROM:-0600
TZOFFSETTO:-0500
TZNAME:CDT
DTSTART:20220313T080000
END:DAYLIGHT
BEGIN:STANDARD
TZOFFSETFROM:-0500
TZOFFSETTO:-0600
TZNAME:CST
DTSTART:20221106T070000
END:STANDARD
END:VTIMEZONE
BEGIN:VEVENT
DTSTART;TZID=America/Chicago:20210206T000000
DTEND;TZID=America/Chicago:20210207T000000
DTSTAMP:20260422T204037
CREATED:20250613T025312Z
LAST-MODIFIED:20250613T025312Z
UID:75741-1612569600-1612656000@essft.com
SUMMARY:The Boykin Spaniel Club And Breeders Association Of America Spring 2021
DESCRIPTION:Entries Close: Tuesday\, January 26\, 2021 11:59:59 PM Eastern Time(ET) on Hunt Secretary \n  \nPREFERENCE TO BOYKIN SPANIELS – OPEN TO AKC ELIGIBLE BREEDS OF SPANIELS/RETRIEVERS\nWhen the limit is reached\, a maintained wait list will be available. However\, if the event is full and a Boykin Spaniel wants to enter this event\, BSCBAA holds the right to bump the last entered non-Boykin Spaniel dog to the wait list.\nPlease contact HuntSecretary.com if you would like to put your dog(s) on the waitlist or have any questions about the policy.
URL:https://essft.com/event/the-boykin-spaniel-club-and-breeders-association-of-america-spring-2021/
CATEGORIES:Hunt Tests
END:VEVENT
END:VCALENDAR