BEGIN:VCALENDAR
VERSION:2.0
PRODID:-//English Springer Spaniel Field Trials - ECPv6.15.20//NONSGML v1.0//EN
CALSCALE:GREGORIAN
METHOD:PUBLISH
X-WR-CALNAME:English Springer Spaniel Field Trials
X-ORIGINAL-URL:https://essft.com
X-WR-CALDESC:Events for English Springer Spaniel Field Trials
REFRESH-INTERVAL;VALUE=DURATION:PT1H
X-Robots-Tag:noindex
X-PUBLISHED-TTL:PT1H
BEGIN:VTIMEZONE
TZID:America/Chicago
BEGIN:DAYLIGHT
TZOFFSETFROM:-0600
TZOFFSETTO:-0500
TZNAME:CDT
DTSTART:20190310T080000
END:DAYLIGHT
BEGIN:STANDARD
TZOFFSETFROM:-0500
TZOFFSETTO:-0600
TZNAME:CST
DTSTART:20191103T070000
END:STANDARD
BEGIN:DAYLIGHT
TZOFFSETFROM:-0600
TZOFFSETTO:-0500
TZNAME:CDT
DTSTART:20200308T080000
END:DAYLIGHT
BEGIN:STANDARD
TZOFFSETFROM:-0500
TZOFFSETTO:-0600
TZNAME:CST
DTSTART:20201101T070000
END:STANDARD
BEGIN:DAYLIGHT
TZOFFSETFROM:-0600
TZOFFSETTO:-0500
TZNAME:CDT
DTSTART:20210314T080000
END:DAYLIGHT
BEGIN:STANDARD
TZOFFSETFROM:-0500
TZOFFSETTO:-0600
TZNAME:CST
DTSTART:20211107T070000
END:STANDARD
END:VTIMEZONE
BEGIN:VEVENT
DTSTART;TZID=America/Chicago:20201016T000000
DTEND;TZID=America/Chicago:20201017T000000
DTSTAMP:20260422T162124
CREATED:20250613T023842Z
LAST-MODIFIED:20250613T023842Z
UID:75675-1602806400-1602892800@essft.com
SUMMARY:Utah Springer Spaniel Club
DESCRIPTION:ENTRIES WILL CLOSE AT THE SECRETARY’S ADDRESS AT:\nNoon MDT\, Wednesday\, October 7\, 2020. \nMAIL ADVANCE ENTRIES WITH CHECKS TO:\nCharles Tatton\, Field Trial Secretary\n2385 E 3510 S\, Millcreek\, UT 84109\nPhone: 801-448-2466\nE-mail: ussc@brentblundell.com\nEmail and phone entries will be accepted. \nJudges: Dick Taylor and Cindy Williams
URL:https://essft.com/event/utah-springer-spaniel-club-12/
CATEGORIES:Field Trials - West
END:VEVENT
END:VCALENDAR