BEGIN:VCALENDAR
VERSION:2.0
PRODID:-//English Springer Spaniel Field Trials - ECPv6.15.20//NONSGML v1.0//EN
CALSCALE:GREGORIAN
METHOD:PUBLISH
X-WR-CALNAME:English Springer Spaniel Field Trials
X-ORIGINAL-URL:https://essft.com
X-WR-CALDESC:Events for English Springer Spaniel Field Trials
REFRESH-INTERVAL;VALUE=DURATION:PT1H
X-Robots-Tag:noindex
X-PUBLISHED-TTL:PT1H
BEGIN:VTIMEZONE
TZID:America/Chicago
BEGIN:DAYLIGHT
TZOFFSETFROM:-0600
TZOFFSETTO:-0500
TZNAME:CDT
DTSTART:20200308T080000
END:DAYLIGHT
BEGIN:STANDARD
TZOFFSETFROM:-0500
TZOFFSETTO:-0600
TZNAME:CST
DTSTART:20201101T070000
END:STANDARD
BEGIN:DAYLIGHT
TZOFFSETFROM:-0600
TZOFFSETTO:-0500
TZNAME:CDT
DTSTART:20210314T080000
END:DAYLIGHT
BEGIN:STANDARD
TZOFFSETFROM:-0500
TZOFFSETTO:-0600
TZNAME:CST
DTSTART:20211107T070000
END:STANDARD
BEGIN:DAYLIGHT
TZOFFSETFROM:-0600
TZOFFSETTO:-0500
TZNAME:CDT
DTSTART:20220313T080000
END:DAYLIGHT
BEGIN:STANDARD
TZOFFSETFROM:-0500
TZOFFSETTO:-0600
TZNAME:CST
DTSTART:20221106T070000
END:STANDARD
END:VTIMEZONE
BEGIN:VEVENT
DTSTART;TZID=America/Chicago:20210319T000000
DTEND;TZID=America/Chicago:20210320T000000
DTSTAMP:20260425T092525
CREATED:20250613T030103Z
LAST-MODIFIED:20250613T030103Z
UID:75768-1616112000-1616198400@essft.com
SUMMARY:Utah Springer Spaniel Club Field Trial March 2021
DESCRIPTION:3/4: Location change to Clarkston\, Utah! \nEntries Close: Monday\, March 8\, 2021 11:59:59 PM Eastern Time(ET) on Hunt Secretary \nJudges:  Pete Zuleger and Bob Montler    Apprentice Judge: Mike Nolan
URL:https://essft.com/event/utah-springer-spaniel-club-field-trial-march-2021/
CATEGORIES:Field Trials - West
ORGANIZER;CN="Charles Tatton%2C FTS":MAILTO:tatton@brentblundell.com
END:VEVENT
END:VCALENDAR