BEGIN:VCALENDAR
VERSION:2.0
PRODID:-//English Springer Spaniel Field Trials - ECPv6.15.20//NONSGML v1.0//EN
CALSCALE:GREGORIAN
METHOD:PUBLISH
X-WR-CALNAME:English Springer Spaniel Field Trials
X-ORIGINAL-URL:https://essft.com
X-WR-CALDESC:Events for English Springer Spaniel Field Trials
REFRESH-INTERVAL;VALUE=DURATION:PT1H
X-Robots-Tag:noindex
X-PUBLISHED-TTL:PT1H
BEGIN:VTIMEZONE
TZID:America/Chicago
BEGIN:DAYLIGHT
TZOFFSETFROM:-0600
TZOFFSETTO:-0500
TZNAME:CDT
DTSTART:20210314T080000
END:DAYLIGHT
BEGIN:STANDARD
TZOFFSETFROM:-0500
TZOFFSETTO:-0600
TZNAME:CST
DTSTART:20211107T070000
END:STANDARD
BEGIN:DAYLIGHT
TZOFFSETFROM:-0600
TZOFFSETTO:-0500
TZNAME:CDT
DTSTART:20220313T080000
END:DAYLIGHT
BEGIN:STANDARD
TZOFFSETFROM:-0500
TZOFFSETTO:-0600
TZNAME:CST
DTSTART:20221106T070000
END:STANDARD
BEGIN:DAYLIGHT
TZOFFSETFROM:-0600
TZOFFSETTO:-0500
TZNAME:CDT
DTSTART:20230312T080000
END:DAYLIGHT
BEGIN:STANDARD
TZOFFSETFROM:-0500
TZOFFSETTO:-0600
TZNAME:CST
DTSTART:20231105T070000
END:STANDARD
END:VTIMEZONE
BEGIN:VEVENT
DTSTART;TZID=America/Chicago:20220423T000000
DTEND;TZID=America/Chicago:20220424T000000
DTSTAMP:20260422T100013
CREATED:20250613T043546Z
LAST-MODIFIED:20250613T043546Z
UID:76043-1650672000-1650758400@essft.com
SUMMARY:Valley Forge Field Trial Assoc Hunt Tests
DESCRIPTION:Entries Close: Tuesday\, April 12\, 2022 11:59:59 PM Eastern Time(ET) on Hunt Secretary
URL:https://essft.com/event/valley-forge-field-trial-assoc-hunt-tests-2/
LOCATION:Dancing Bears Farm\, Landenberg\, PA 19350\, USA\, Landenberg\, Pennsylvania\, 19350\, United States
CATEGORIES:Hunt Tests
ORGANIZER;CN="Bill Pierson":MAILTO:bill@Pierson.com
GEO:39.777775;-75.771644
X-APPLE-STRUCTURED-LOCATION;VALUE=URI;X-ADDRESS=Dancing Bears Farm Landenberg PA 19350 USA Landenberg Pennsylvania 19350 United States;X-APPLE-RADIUS=500;X-TITLE=Landenberg\, PA 19350\, USA:geo:-75.771644,39.777775
END:VEVENT
END:VCALENDAR