BEGIN:VCALENDAR
VERSION:2.0
PRODID:-//English Springer Spaniel Field Trials - ECPv6.15.20//NONSGML v1.0//EN
CALSCALE:GREGORIAN
METHOD:PUBLISH
X-WR-CALNAME:English Springer Spaniel Field Trials
X-ORIGINAL-URL:https://essft.com
X-WR-CALDESC:Events for English Springer Spaniel Field Trials
REFRESH-INTERVAL;VALUE=DURATION:PT1H
X-Robots-Tag:noindex
X-PUBLISHED-TTL:PT1H
BEGIN:VTIMEZONE
TZID:America/Chicago
BEGIN:DAYLIGHT
TZOFFSETFROM:-0600
TZOFFSETTO:-0500
TZNAME:CDT
DTSTART:20210314T080000
END:DAYLIGHT
BEGIN:STANDARD
TZOFFSETFROM:-0500
TZOFFSETTO:-0600
TZNAME:CST
DTSTART:20211107T070000
END:STANDARD
BEGIN:DAYLIGHT
TZOFFSETFROM:-0600
TZOFFSETTO:-0500
TZNAME:CDT
DTSTART:20220313T080000
END:DAYLIGHT
BEGIN:STANDARD
TZOFFSETFROM:-0500
TZOFFSETTO:-0600
TZNAME:CST
DTSTART:20221106T070000
END:STANDARD
BEGIN:DAYLIGHT
TZOFFSETFROM:-0600
TZOFFSETTO:-0500
TZNAME:CDT
DTSTART:20230312T080000
END:DAYLIGHT
BEGIN:STANDARD
TZOFFSETFROM:-0500
TZOFFSETTO:-0600
TZNAME:CST
DTSTART:20231105T070000
END:STANDARD
END:VTIMEZONE
BEGIN:VEVENT
DTSTART;TZID=America/Chicago:20220904T000000
DTEND;TZID=America/Chicago:20220905T000000
DTSTAMP:20260422T085948
CREATED:20250613T043931Z
LAST-MODIFIED:20250613T043931Z
UID:76116-1662249600-1662336000@essft.com
SUMMARY:Western Washington Eng. Springer Spaniel Club
DESCRIPTION:Friday\, Sept. 2 host club: Puget Sound Eng. Springer Spaniel Assoc.  contact secretary  Kathy Stermolle stermolle@yahoo.com\n\nSaturday Sept. 3 host club: Mt. Rainier Sporting Spaniel Assoc.  contact secretary:  Karin Cartwright   arborfield@hotmail.com\n\nSunday Sept. 4 host club: Western Washington Eng. Springer Spaniel Club   contact secretary Kathy Stermolle stermolle@yahoo.com\n\nMonday Sept. 5 host club:   Western Washington Eng. Springer Spaniel Club  contact secretary Kathy Stermolle  stermolle@yahoo.com\n\nPremium lists will be available on http://www.huntsecretary.com
URL:https://essft.com/event/western-washington-eng-springer-spaniel-club/
CATEGORIES:Hunt Tests
END:VEVENT
END:VCALENDAR