BEGIN:VCALENDAR
VERSION:2.0
PRODID:-//English Springer Spaniel Field Trials - ECPv6.15.20//NONSGML v1.0//EN
CALSCALE:GREGORIAN
METHOD:PUBLISH
X-WR-CALNAME:English Springer Spaniel Field Trials
X-ORIGINAL-URL:https://essft.com
X-WR-CALDESC:Events for English Springer Spaniel Field Trials
REFRESH-INTERVAL;VALUE=DURATION:PT1H
X-Robots-Tag:noindex
X-PUBLISHED-TTL:PT1H
BEGIN:VTIMEZONE
TZID:America/Los_Angeles
BEGIN:DAYLIGHT
TZOFFSETFROM:-0800
TZOFFSETTO:-0700
TZNAME:PDT
DTSTART:20160313T100000
END:DAYLIGHT
BEGIN:STANDARD
TZOFFSETFROM:-0700
TZOFFSETTO:-0800
TZNAME:PST
DTSTART:20161106T090000
END:STANDARD
BEGIN:DAYLIGHT
TZOFFSETFROM:-0800
TZOFFSETTO:-0700
TZNAME:PDT
DTSTART:20170312T100000
END:DAYLIGHT
BEGIN:STANDARD
TZOFFSETFROM:-0700
TZOFFSETTO:-0800
TZNAME:PST
DTSTART:20171105T090000
END:STANDARD
BEGIN:DAYLIGHT
TZOFFSETFROM:-0800
TZOFFSETTO:-0700
TZNAME:PDT
DTSTART:20180311T100000
END:DAYLIGHT
BEGIN:STANDARD
TZOFFSETFROM:-0700
TZOFFSETTO:-0800
TZNAME:PST
DTSTART:20181104T090000
END:STANDARD
END:VTIMEZONE
BEGIN:VEVENT
DTSTART;TZID=America/Los_Angeles:20171020T000000
DTEND;TZID=America/Los_Angeles:20171021T000000
DTSTAMP:20260425T222858
CREATED:20250611T175435Z
LAST-MODIFIED:20250611T175435Z
UID:74890-1508457600-1508544000@essft.com
SUMMARY:Western Washington ESS Club
DESCRIPTION:Entries Close: Saturday\, October 14\, 2017 send via mail \nJudges:  Steve Bender  and Kevin Rutherford \n2017 WWESSC Fall FT premium list as of Oct 5 \n[wunderground location=”Tacoma\, WA” numdays=”5″ showdata=”alert\,daynames\,pop\,icon\,highlow\,conditions\,date” layout=”table-horizontal”] \n  \nOctober 6\, 2017 Announcement:\nMelissa Knapp\, Field trial secretary   melissa.s.knapp@gmail.com \nFirst of all\, please accept our apologies for the numerous changes to the details of the WWESSC field trial dates and locations!  For those who don’t know\, this year our traditional trial dates (first weekend in November) conflicted with the National Cocker Championship so it was decided to change the WWESSC field trial dates to accommodate our members that train and trial with cockers\, as well as pro handlers that trial with both springers and cockers.  The ESS field trial calendar is very tight giving us few options for new dates.   The dates we ended up with were the third weekend in October.  We then found out that we would not be able to use any of the areas on the Sunday (the 22nd) or Friday (the 20th) at our usual trial site\, Joint Base Lewis McChord near Tacoma.   Trial co-chairs Dick Croll and Dave Sadler along with several of our club members have been working diligently to try to identify alternate grounds for our upcoming trial but\, due to hunting season\, were unable to do so. \nAs a result we will be making this a one-day trial running all three stakes (Open All-Age\, Amateur All-Age\, and Puppy) on Saturday October 21 at Joint Base Lewis McChord in either Area 12 or 15.  We will start at 8:00 am and will alternate Open and Amateur series (1st Open\, 1st Amateur\, 2nd Open\, 2nd Amateur\, 3rd Open\, 3rd Amateur) with Puppy scheduled to run after the 2nd series of Amateur. \nOur trial headquarters will still be the Prairie Hotel in Yelm\, and we hope to be able to change our post-trial get-together to Saturday.  More details and directions to the trial site will be sent out after entries close on Saturday October 14. \nAgain\, thank you for your forbearance and patience!  I am looking forward to seeing you at the trial. \nDick Croll and David Sadler                                    Melissa Knapp \nTrial co-chairmen                                                      Trial secretary \nWWESSC
URL:https://essft.com/event/western-washington-ess-club/
LOCATION:Joint Base Lewis McChord\, Tacoma\, WA\, USA\, Tacoma\, Washington\, United States
CATEGORIES:Field Trials - West
ORGANIZER;CN="Melissa Knapp":MAILTO:melissa.s.knapp@gmail.com
GEO:47.549217;-122.099665
X-APPLE-STRUCTURED-LOCATION;VALUE=URI;X-ADDRESS=Joint Base Lewis McChord Tacoma WA USA Tacoma Washington United States;X-APPLE-RADIUS=500;X-TITLE=Tacoma\, WA\, USA:geo:-122.099665,47.549217
END:VEVENT
END:VCALENDAR