BEGIN:VCALENDAR
VERSION:2.0
PRODID:-//English Springer Spaniel Field Trials - ECPv6.15.20//NONSGML v1.0//EN
CALSCALE:GREGORIAN
METHOD:PUBLISH
X-WR-CALNAME:English Springer Spaniel Field Trials
X-ORIGINAL-URL:https://essft.com
X-WR-CALDESC:Events for English Springer Spaniel Field Trials
REFRESH-INTERVAL;VALUE=DURATION:PT1H
X-Robots-Tag:noindex
X-PUBLISHED-TTL:PT1H
BEGIN:VTIMEZONE
TZID:America/Chicago
BEGIN:DAYLIGHT
TZOFFSETFROM:-0600
TZOFFSETTO:-0500
TZNAME:CDT
DTSTART:20240310T080000
END:DAYLIGHT
BEGIN:STANDARD
TZOFFSETFROM:-0500
TZOFFSETTO:-0600
TZNAME:CST
DTSTART:20241103T070000
END:STANDARD
BEGIN:DAYLIGHT
TZOFFSETFROM:-0600
TZOFFSETTO:-0500
TZNAME:CDT
DTSTART:20250309T080000
END:DAYLIGHT
BEGIN:STANDARD
TZOFFSETFROM:-0500
TZOFFSETTO:-0600
TZNAME:CST
DTSTART:20251102T070000
END:STANDARD
BEGIN:DAYLIGHT
TZOFFSETFROM:-0600
TZOFFSETTO:-0500
TZNAME:CDT
DTSTART:20260308T080000
END:DAYLIGHT
BEGIN:STANDARD
TZOFFSETFROM:-0500
TZOFFSETTO:-0600
TZNAME:CST
DTSTART:20261101T070000
END:STANDARD
END:VTIMEZONE
BEGIN:VEVENT
DTSTART;TZID=America/Chicago:20250104T000000
DTEND;TZID=America/Chicago:20250105T000000
DTSTAMP:20260424T084459
CREATED:20250614T192130Z
LAST-MODIFIED:20250614T192130Z
UID:10011382-1735948800-1736035200@essft.com
SUMMARY:San Fernando Valley Springer Spaniel Club
DESCRIPTION:Stand by….
URL:https://essft.com/event/san-fernando-valley-springer-spaniel-club-7/
CATEGORIES:Field Trials - West
END:VEVENT
BEGIN:VEVENT
DTSTART;TZID=America/Chicago:20250109T000000
DTEND;TZID=America/Chicago:20250112T000000
DTSTAMP:20260424T084459
CREATED:20250614T192130Z
LAST-MODIFIED:20250614T192130Z
UID:10011383-1736380800-1736640000@essft.com
SUMMARY:Oklahoma Springer Spaniel Club
DESCRIPTION:Entries Close: Monday\, December 30\, 2024 11:59:59 PM Eastern Time(ET) on Hunt Secretary. \nJudges:\nJan 9 – Elaine O’Keefe and  Rick Shively\nJan 11 – Rick Paquin Chad Betts
URL:https://essft.com/event/oklahoma-springer-spaniel-club-8/
CATEGORIES:Field Trials - Rocky Mountain
END:VEVENT
BEGIN:VEVENT
DTSTART;TZID=America/Chicago:20250111T000000
DTEND;TZID=America/Chicago:20250112T000000
DTSTAMP:20260424T084459
CREATED:20250614T192130Z
LAST-MODIFIED:20250614T192130Z
UID:10011384-1736553600-1736640000@essft.com
SUMMARY:English Cocker Spaniel Club of America - Georgia Cocker Trial
DESCRIPTION:Entries Close: Tuesday\, December 31\, 2024 11:59:59 PM Eastern Time(ET) on Hunt Secretary. \nJudges: Alex Cacchio and Cahir Lynch
URL:https://essft.com/event/english-cocker-spaniel-club-of-america-georgia-cocker-trial-2/
CATEGORIES:Cocker Trial
END:VEVENT
BEGIN:VEVENT
DTSTART;TZID=America/Chicago:20250111T000000
DTEND;TZID=America/Chicago:20250112T000000
DTSTAMP:20260424T084459
CREATED:20250614T192133Z
LAST-MODIFIED:20250614T192133Z
UID:10011385-1736553600-1736640000@essft.com
SUMMARY:Mid East Memorial
DESCRIPTION:Entries Close: Tuesday\, December 31\, 2024 11:59:59 PM Eastern Time(ET) on Hunt Secretary \nJudges: Kevin Martineau and Phil Lincoln\n\n		\n			\n			\n		\n\n		\n 
URL:https://essft.com/event/mid-east-memorial/
CATEGORIES:Field Trials - Mid East
END:VEVENT
BEGIN:VEVENT
DTSTART;TZID=America/Chicago:20250117T000000
DTEND;TZID=America/Chicago:20250117T000000
DTSTAMP:20260424T084459
CREATED:20250614T192134Z
LAST-MODIFIED:20250614T192134Z
UID:10011387-1737072000-1737072000@essft.com
SUMMARY:North Texas Sporting Spaniel Club COCKER Spaniel Field Trial
DESCRIPTION:Entries Close: Tuesday\, January 7\, 2025 11:59:59 PM Eastern Time(ET) on Hunt Secretary. \nJudges: Cristy Joy and Chad Betts
URL:https://essft.com/event/north-texas-sporting-spaniel-club-cocker-spaniel-field-trial/
CATEGORIES:Field Trials - Rocky Mountain
END:VEVENT
BEGIN:VEVENT
DTSTART;TZID=America/Chicago:20250117T000000
DTEND;TZID=America/Chicago:20250119T000000
DTSTAMP:20260424T084459
CREATED:20250614T192134Z
LAST-MODIFIED:20250614T192134Z
UID:10011386-1737072000-1737244800@essft.com
SUMMARY:English Cocker Spaniel Club of America NC Field Trial
DESCRIPTION:Entries Close: Monday\, January 6\, 2025 11:59:59 PM Eastern Time(ET) on Hunt Secretary. \nJudges: Pete Zuleger and Pat Gilligan
URL:https://essft.com/event/english-cocker-spaniel-club-of-america-nc-field-trial/
CATEGORIES:Cocker Trial
END:VEVENT
BEGIN:VEVENT
DTSTART;TZID=America/Chicago:20250118T000000
DTEND;TZID=America/Chicago:20250119T000000
DTSTAMP:20260424T084459
CREATED:20250614T192134Z
LAST-MODIFIED:20250614T192134Z
UID:10011388-1737158400-1737244800@essft.com
SUMMARY:North Texas Sporting Spaniel Club ESS Field Trial
DESCRIPTION:Entries Close: Tuesday\, January 7\, 2025 11:59:59 PM Eastern Time(ET) on Hunt Secretary. \nJudges: Mark Haglin and Morgan Haglin\n\n		\n			\n			\n		\n\n		\n 
URL:https://essft.com/event/north-texas-sporting-spaniel-club-ess-field-trial/
CATEGORIES:Field Trials - Rocky Mountain
END:VEVENT
BEGIN:VEVENT
DTSTART;TZID=America/Chicago:20250120T000000
DTEND;TZID=America/Chicago:20250120T000000
DTSTAMP:20260424T084459
CREATED:20250614T192134Z
LAST-MODIFIED:20250614T192134Z
UID:10011389-1737331200-1737331200@essft.com
SUMMARY:Martin Luther King Jr. Day
DESCRIPTION:
URL:https://essft.com/event/martin-luther-king-jr-day-6/
CATEGORIES:Holidays
END:VEVENT
BEGIN:VEVENT
DTSTART;TZID=America/Chicago:20250124T000000
DTEND;TZID=America/Chicago:20250124T000000
DTSTAMP:20260424T084459
CREATED:20250614T192149Z
LAST-MODIFIED:20250614T192149Z
UID:10011390-1737676800-1737676800@essft.com
SUMMARY:Wateree Spaniel Club SPRINGER Spaniel Field Trial
DESCRIPTION:Entries Close: Monday\, January 13\, 2025 11:59:59 PM Eastern Time(ET) on Hunt Secretary. \nJudges: Mark Haglin and Ryan Lamberg
URL:https://essft.com/event/wateree-spaniel-club-springer-spaniel-field-trial-2/
CATEGORIES:Field Trials - East
END:VEVENT
BEGIN:VEVENT
DTSTART;TZID=America/Chicago:20250125T000000
DTEND;TZID=America/Chicago:20250125T000000
DTSTAMP:20260424T084500
CREATED:20250614T192149Z
LAST-MODIFIED:20250614T192149Z
UID:10011392-1737763200-1737763200@essft.com
SUMMARY:Wateree Spaniel Club COCKER Field Trial
DESCRIPTION:Entries Close: Monday\, January 13\, 2025 11:59:59 PM Eastern Time(ET) on Hunt Secretary. \nJudges: Mark Haglin and Ryan Lamberg\n\n		\n			\n			\n		\n\n		\n 
URL:https://essft.com/event/wateree-spaniel-club-cocker-field-trial/
CATEGORIES:Cocker Trial
END:VEVENT
BEGIN:VEVENT
DTSTART;TZID=America/Chicago:20250125T000000
DTEND;TZID=America/Chicago:20250126T000000
DTSTAMP:20260424T084500
CREATED:20250614T192149Z
LAST-MODIFIED:20250614T192149Z
UID:10011391-1737763200-1737849600@essft.com
SUMMARY:English Springer Spaniel Club of Southern California
DESCRIPTION:Entries Close: Tuesday\, January 14\, 2025 11:59:59 PM Eastern Time(ET) on Hunt Secretary. \nJudges: Brent Blundell Cindy Williams
URL:https://essft.com/event/english-springer-spaniel-club-of-southern-california-6/
CATEGORIES:Field Trials - West
END:VEVENT
BEGIN:VEVENT
DTSTART;TZID=America/Chicago:20250125T000000
DTEND;TZID=America/Chicago:20250127T000000
DTSTAMP:20260424T084500
CREATED:20250614T192149Z
LAST-MODIFIED:20250614T192149Z
UID:10011393-1737763200-1737936000@essft.com
SUMMARY:Platte River English Springer Spaniel Club
DESCRIPTION:Entries Close: Tuesday\, January 14\, 2025 11:59:59 PM Eastern Time(ET) on Hunt Secretary. \nJudges: Randy Bartsch and Ken Hanson with Apprentice Joe Eischen\n\n		\n			\n			\n		\n\n		\n 
URL:https://essft.com/event/platte-river-english-springer-spaniel-club-6-2/
CATEGORIES:Field Trials - Rocky Mountain
END:VEVENT
BEGIN:VEVENT
DTSTART;TZID=America/Chicago:20250127T000000
DTEND;TZID=America/Chicago:20250128T000000
DTSTAMP:20260424T084500
CREATED:20250614T192149Z
LAST-MODIFIED:20250614T192149Z
UID:10011394-1737936000-1738022400@essft.com
SUMMARY:Platte River ESSC COCKER Double Open Field Trial
DESCRIPTION:Entries Close: Tuesday\, January 14\, 2025 11:59:59 PM Eastern Time(ET) on Hunt Secretary. \nJudges: Jim O’Keefe and Michael Pollack
URL:https://essft.com/event/platte-river-essc-cocker-double-open-field-trial/
CATEGORIES:Cocker Trial
END:VEVENT
BEGIN:VEVENT
DTSTART;TZID=America/Chicago:20250131T000000
DTEND;TZID=America/Chicago:20250201T000000
DTSTAMP:20260424T084500
CREATED:20250614T192204Z
LAST-MODIFIED:20250614T192204Z
UID:10011395-1738281600-1738368000@essft.com
SUMMARY:Rogue Valley Sporting Spaniel Club SPRINGER Field Trial
DESCRIPTION:Entries Close: Monday\, January 20\, 2025 11:59:59 PM Eastern Time(ET) on Hunt Secretary. \nJudges: Gary Fluckiger and Alan Baugh
URL:https://essft.com/event/rogue-valley-sporting-spaniel-club-springer-field-trial/
CATEGORIES:Field Trials - West
END:VEVENT
BEGIN:VEVENT
DTSTART;TZID=America/Chicago:20250131T000000
DTEND;TZID=America/Chicago:20250202T000000
DTSTAMP:20260424T084500
CREATED:20250614T192204Z
LAST-MODIFIED:20250614T192204Z
UID:10011396-1738281600-1738454400@essft.com
SUMMARY:Rogue Valley Sporting Spaniel Club COCKER Field Trial
DESCRIPTION:Entries Close: Monday\, January 20\, 2025 11:59:59 PM Eastern Time(ET) on Hunt Secretary. \nJudges: Gary Fluckiger and Alan Baugh\n\n		\n			\n			\n		\n\n		\n 
URL:https://essft.com/event/rogue-valley-sporting-spaniel-club-cocker-field-trial/
CATEGORIES:Cocker Trial
END:VEVENT
END:VCALENDAR