BEGIN:VCALENDAR
VERSION:2.0
PRODID:-//English Springer Spaniel Field Trials - ECPv6.15.20//NONSGML v1.0//EN
CALSCALE:GREGORIAN
METHOD:PUBLISH
X-ORIGINAL-URL:https://essft.com
X-WR-CALDESC:Events for English Springer Spaniel Field Trials
REFRESH-INTERVAL;VALUE=DURATION:PT1H
X-Robots-Tag:noindex
X-PUBLISHED-TTL:PT1H
BEGIN:VTIMEZONE
TZID:America/Chicago
BEGIN:DAYLIGHT
TZOFFSETFROM:-0600
TZOFFSETTO:-0500
TZNAME:CDT
DTSTART:20240310T080000
END:DAYLIGHT
BEGIN:STANDARD
TZOFFSETFROM:-0500
TZOFFSETTO:-0600
TZNAME:CST
DTSTART:20241103T070000
END:STANDARD
BEGIN:DAYLIGHT
TZOFFSETFROM:-0600
TZOFFSETTO:-0500
TZNAME:CDT
DTSTART:20250309T080000
END:DAYLIGHT
BEGIN:STANDARD
TZOFFSETFROM:-0500
TZOFFSETTO:-0600
TZNAME:CST
DTSTART:20251102T070000
END:STANDARD
BEGIN:DAYLIGHT
TZOFFSETFROM:-0600
TZOFFSETTO:-0500
TZNAME:CDT
DTSTART:20260308T080000
END:DAYLIGHT
BEGIN:STANDARD
TZOFFSETFROM:-0500
TZOFFSETTO:-0600
TZNAME:CST
DTSTART:20261101T070000
END:STANDARD
END:VTIMEZONE
BEGIN:VEVENT
DTSTART;VALUE=DATE:20251028
DTEND;VALUE=DATE:20251102
DTSTAMP:20260421T142530
CREATED:20250711T031007Z
LAST-MODIFIED:20250829T021424Z
UID:10011646-1761609600-1762041599@essft.com
SUMMARY:2025 National Open Cocker Championship
DESCRIPTION:Date/Time Event OPENS for ALL to enter: 9/2/2025 8:00:00 AM ET (Eastern Time)
URL:https://essft.com/event/2025-national-cocker-championship-alexandria-minnesota/
LOCATION:The Leslie and Barb Bjerketvedt property Clitherall\, MN\, The Leslie and Barb Bjerketvedt property Clitherall\, MN
CATEGORIES:NATIONAL FIELD TRIALS
ORGANIZER;CN="Deb Strohl":MAILTO:debstrohl@gmail.com
END:VEVENT
BEGIN:VEVENT
DTSTART;VALUE=DATE:20251101
DTEND;VALUE=DATE:20251103
DTSTAMP:20260421T142530
CREATED:20250626T000834Z
LAST-MODIFIED:20250829T022121Z
UID:10011635-1761955200-1762127999@essft.com
SUMMARY:English Springer Spaniel Field Trial Club of Illinois Field Trial
DESCRIPTION:Entries Close: Tuesday\, October 21\, 2025 11:59:59 PM Eastern Time(ET) on Hunt Secretary.
URL:https://essft.com/event/english-springer-spaniel-field-trial-club-of-illinois-field-trial/
LOCATION:Des Plaines State Fish and Wildlife Area\, 28163 N River Rd\, Wilmington\, IL\, 60481\, United States
CATEGORIES:Field Trials - Mid West
ORGANIZER;CN="Steve Tozier":MAILTO:sjtozier@comcast.net
END:VEVENT
BEGIN:VEVENT
DTSTART;VALUE=DATE:20251101
DTEND;VALUE=DATE:20251103
DTSTAMP:20260421T142530
CREATED:20250711T010350Z
LAST-MODIFIED:20250829T023422Z
UID:10011640-1761955200-1762127999@essft.com
SUMMARY:Missouri Hunting Spaniel Club November 2025 Springer Field Trial
DESCRIPTION:Entries Close: Tuesday\, October 21\, 2025 11:59:59 PM Eastern Time(ET) on Hunt Secretary
URL:https://essft.com/event/missouri-hunting-spaniel-club-november-2025-springer-field-trial/
LOCATION:Robert E Talbot Conservation Area @ La Russell\, MO 64848\, USA\, La Russell\, MO\, United States
CATEGORIES:Field Trials - Rocky Mountain
ORGANIZER;CN="Tim Baker":MAILTO:tim.baker3@gmail.com
END:VEVENT
BEGIN:VEVENT
DTSTART;VALUE=DATE:20251101
DTEND;VALUE=DATE:20251103
DTSTAMP:20260421T142530
CREATED:20250711T024021Z
LAST-MODIFIED:20250829T023111Z
UID:10011643-1761955200-1762127999@essft.com
SUMMARY:Welsh Springer Spaniel Club of America
DESCRIPTION:Entries Close: Tuesday\, October 21\, 2025 11:59:59 PM Eastern Time(ET) on Hunt Secretary.
URL:https://essft.com/event/welsh-springer-spaniel-club-of-america/
LOCATION:Jordan Farm Greensboro\, GA @ Greensboro\, GA 30642\, USA\, United States
CATEGORIES:Hunt Tests
ORGANIZER;CN="Frank Pampush":MAILTO:frank@pampush.net
END:VEVENT
BEGIN:VEVENT
DTSTART;VALUE=DATE:20251101
DTEND;VALUE=DATE:20251103
DTSTAMP:20260421T142530
CREATED:20250711T025531Z
LAST-MODIFIED:20250919T022802Z
UID:10011644-1761955200-1762127999@essft.com
SUMMARY:Valley Forge Field Trial Association Fall 2025
DESCRIPTION:Entries Close: Tuesday\, October 21\, 2025 11:59:59 PM Eastern Time(ET) on Hunt Secretary.
URL:https://essft.com/event/valley-forge-field-trial-association-fall-2025/
LOCATION:Richard Stewart Farm Canisteo\, NY Canisteo\, NY\, Richard Stewart Farm Canisteo\, NY Canisteo\, NY
CATEGORIES:Field Trials - East
ORGANIZER;CN="John Kucher":MAILTO:johndkucher@yahoo.com
END:VEVENT
BEGIN:VEVENT
DTSTART;VALUE=DATE:20251101
DTEND;VALUE=DATE:20251103
DTSTAMP:20260421T142530
CREATED:20250904T191611Z
LAST-MODIFIED:20251008T143348Z
UID:10011711-1761955200-1762127999@essft.com
SUMMARY:Stillwater Valley ESSC
DESCRIPTION:Entries Close: Tuesday\, October 21\, 2025 11:59:59 PM Eastern Time(ET) on Hunt Secretary \n 
URL:https://essft.com/event/stillwater-valley-essc-8/
LOCATION:Beelman Farm @ De Graff\, OH 43318\, USA
CATEGORIES:Field Trials - Mid East
ORGANIZER;CN="Brian Young":MAILTO:bjyoung@watchtv.net
END:VEVENT
BEGIN:VEVENT
DTSTART;VALUE=DATE:20251102
DTEND;VALUE=DATE:20251103
DTSTAMP:20260421T142530
CREATED:20250614T194254Z
LAST-MODIFIED:20250711T011628Z
UID:10011562-1762041600-1762127999@essft.com
SUMMARY:Daylight Saving Time Ends
DESCRIPTION:
URL:https://essft.com/event/daylight-saving-time-ends/
CATEGORIES:Holidays
END:VEVENT
BEGIN:VEVENT
DTSTART;VALUE=DATE:20251108
DTEND;VALUE=DATE:20251110
DTSTAMP:20260421T142530
CREATED:20250711T020241Z
LAST-MODIFIED:20250928T024650Z
UID:10011641-1762560000-1762732799@essft.com
SUMMARY:Wateree Spaniel Club Hunt Test November 2025
DESCRIPTION:Entries Close: Tuesday\, October 28\, 2025 11:59:59 PM Eastern Time(ET) on Hunt Secretary.
URL:https://essft.com/event/wateree-spaniel-club-hunt-test-november-2025/
LOCATION:Twickenham Plantation\, Twickenham Plantation Rd\, Yemassee\, SC\, 29945\, United States
CATEGORIES:Hunt Tests
ORGANIZER;CN="Angie Tschantz":MAILTO:maat4z@hotmail.com
END:VEVENT
BEGIN:VEVENT
DTSTART;VALUE=DATE:20251108
DTEND;VALUE=DATE:20251110
DTSTAMP:20260421T142530
CREATED:20250711T023837Z
LAST-MODIFIED:20250913T205341Z
UID:10011642-1762560000-1762732799@essft.com
SUMMARY:Maryland Sporting Dog Association Fall 2025 Spaniel Hunting Test
DESCRIPTION:Entries Close: Tuesday\, October 28\, 2025 11:59:59 PM Eastern Time(ET) on Hunt Secretary.
URL:https://essft.com/event/maryland-sporting-dog-association-fall-2025-spaniel-hunting-test/
LOCATION:Mt. Ararat Farm Port Deposit\, MD\, Mt. Ararat Farm Port Deposit\, MD\, United States
CATEGORIES:Hunt Tests
ORGANIZER;CN="Janet Ciarico":MAILTO:Ciarico@mdsportingdog.org
END:VEVENT
BEGIN:VEVENT
DTSTART;VALUE=DATE:20251111
DTEND;VALUE=DATE:20251112
DTSTAMP:20260421T142531
CREATED:20250614T194254Z
LAST-MODIFIED:20250711T011754Z
UID:10011563-1762819200-1762905599@essft.com
SUMMARY:Veterans Day
DESCRIPTION:
URL:https://essft.com/event/veterans-day-7/
CATEGORIES:Holidays
END:VEVENT
BEGIN:VEVENT
DTSTART;VALUE=DATE:20251115
DTEND;VALUE=DATE:20251117
DTSTAMP:20260421T142531
CREATED:20250928T031144Z
LAST-MODIFIED:20250928T031144Z
UID:10011718-1763164800-1763337599@essft.com
SUMMARY:English Cocker Spaniel Club of America NC Spaniel hunt test
DESCRIPTION:Entries Close: Tuesday\, November 4\, 2025 11:59:59 PM Eastern Time(ET) on Hunt Secretary.
URL:https://essft.com/event/english-cocker-spaniel-club-of-america-nc-spaniel-hunt-test/
LOCATION:Lime Rock Preserve East Bend\, NC\, Lime Rock Preserve East Bend\, NC
CATEGORIES:Hunt Tests
ORGANIZER;CN="Susan Hines-Worsham":MAILTO:Hines.sj@gmail.com
END:VEVENT
BEGIN:VEVENT
DTSTART;VALUE=DATE:20251117
DTEND;VALUE=DATE:20251122
DTSTAMP:20260421T142531
CREATED:20250711T030051Z
LAST-MODIFIED:20250920T033132Z
UID:10011645-1763337600-1763769599@essft.com
SUMMARY:2025 National Amateur Cocker Championship (Pinckneyville\, Illinois)
DESCRIPTION:
URL:https://essft.com/event/national-amateur-cocker-championship/
LOCATION:Pyramid State Park Pinckneyville\, IL\, Pyramid State Park Pinckneyville\, IL
CATEGORIES:NATIONAL FIELD TRIALS
ORGANIZER;CN="Joan Gaddie":MAILTO:kjgaddie@gmail.com
END:VEVENT
BEGIN:VEVENT
DTSTART;VALUE=DATE:20251122
DTEND;VALUE=DATE:20251124
DTSTAMP:20260421T142531
CREATED:20250830T035119Z
LAST-MODIFIED:20250920T031206Z
UID:10011702-1763769600-1763942399@essft.com
SUMMARY:English Springer Spaniel Club of Southern California Hunt Test
DESCRIPTION:Entries Close: Tuesday\, November 11\, 2025 11:59:59 PM Eastern Time(ET) on Hunt Secretary.
URL:https://essft.com/event/english-springer-spaniel-club-of-southern-california-hunt-test-5/
LOCATION:Prado Recreation Dog Park Chino\, CA\, Prado Recreation Dog Park Chino\, CA
CATEGORIES:Hunt Tests
ORGANIZER;CN="Gary Darcy":MAILTO:darcy.garym@gmail.com
END:VEVENT
BEGIN:VEVENT
DTSTART;VALUE=DATE:20251127
DTEND;VALUE=DATE:20251128
DTSTAMP:20260421T142531
CREATED:20250614T194309Z
LAST-MODIFIED:20250711T012600Z
UID:10011565-1764201600-1764287999@essft.com
SUMMARY:Thanksgiving Day
DESCRIPTION:
URL:https://essft.com/event/thanksgiving-day-3/
CATEGORIES:Holidays
END:VEVENT
END:VCALENDAR