BEGIN:VCALENDAR
VERSION:2.0
PRODID:-//English Springer Spaniel Field Trials - ECPv6.15.20//NONSGML v1.0//EN
CALSCALE:GREGORIAN
METHOD:PUBLISH
X-WR-CALNAME:English Springer Spaniel Field Trials
X-ORIGINAL-URL:https://essft.com
X-WR-CALDESC:Events for English Springer Spaniel Field Trials
REFRESH-INTERVAL;VALUE=DURATION:PT1H
X-Robots-Tag:noindex
X-PUBLISHED-TTL:PT1H
BEGIN:VTIMEZONE
TZID:America/Chicago
BEGIN:DAYLIGHT
TZOFFSETFROM:-0600
TZOFFSETTO:-0500
TZNAME:CDT
DTSTART:20260308T080000
END:DAYLIGHT
BEGIN:STANDARD
TZOFFSETFROM:-0500
TZOFFSETTO:-0600
TZNAME:CST
DTSTART:20261101T070000
END:STANDARD
BEGIN:DAYLIGHT
TZOFFSETFROM:-0600
TZOFFSETTO:-0500
TZNAME:CDT
DTSTART:20270314T080000
END:DAYLIGHT
BEGIN:STANDARD
TZOFFSETFROM:-0500
TZOFFSETTO:-0600
TZNAME:CST
DTSTART:20271107T070000
END:STANDARD
BEGIN:DAYLIGHT
TZOFFSETFROM:-0600
TZOFFSETTO:-0500
TZNAME:CDT
DTSTART:20280312T080000
END:DAYLIGHT
BEGIN:STANDARD
TZOFFSETFROM:-0500
TZOFFSETTO:-0600
TZNAME:CST
DTSTART:20281105T070000
END:STANDARD
END:VTIMEZONE
BEGIN:VEVENT
DTSTART;TZID=America/Chicago:20270314T000000
DTEND;TZID=America/Chicago:20270314T000000
DTSTAMP:20260421T210712
CREATED:20250614T194522Z
LAST-MODIFIED:20250711T011528Z
UID:10011591-1804982400-1804982400@essft.com
SUMMARY:Daylight Saving Time Starts
DESCRIPTION:
URL:https://essft.com/event/daylight-saving-time-starts-3/
CATEGORIES:Holidays
END:VEVENT
BEGIN:VEVENT
DTSTART;VALUE=DATE:20270317
DTEND;VALUE=DATE:20270318
DTSTAMP:20260421T210712
CREATED:20250614T194522Z
LAST-MODIFIED:20250714T003050Z
UID:10011592-1805241600-1805327999@essft.com
SUMMARY:Saint Patrick's Day
DESCRIPTION:
URL:https://essft.com/event/saint-patricks-day-3/
CATEGORIES:Holidays
END:VEVENT
BEGIN:VEVENT
DTSTART;VALUE=DATE:20270328
DTEND;VALUE=DATE:20270329
DTSTAMP:20260421T210712
CREATED:20250614T194532Z
LAST-MODIFIED:20250714T003216Z
UID:10011593-1806192000-1806278399@essft.com
SUMMARY:Easter
DESCRIPTION:
URL:https://essft.com/event/easter-7/
CATEGORIES:Holidays
END:VEVENT
END:VCALENDAR