BEGIN:VCALENDAR
VERSION:2.0
PRODID:-//English Springer Spaniel Field Trials - ECPv6.15.20//NONSGML v1.0//EN
CALSCALE:GREGORIAN
METHOD:PUBLISH
X-WR-CALNAME:English Springer Spaniel Field Trials
X-ORIGINAL-URL:https://essft.com
X-WR-CALDESC:Events for English Springer Spaniel Field Trials
REFRESH-INTERVAL;VALUE=DURATION:PT1H
X-Robots-Tag:noindex
X-PUBLISHED-TTL:PT1H
BEGIN:VTIMEZONE
TZID:America/Chicago
BEGIN:DAYLIGHT
TZOFFSETFROM:-0600
TZOFFSETTO:-0500
TZNAME:CDT
DTSTART:20240310T080000
END:DAYLIGHT
BEGIN:STANDARD
TZOFFSETFROM:-0500
TZOFFSETTO:-0600
TZNAME:CST
DTSTART:20241103T070000
END:STANDARD
BEGIN:DAYLIGHT
TZOFFSETFROM:-0600
TZOFFSETTO:-0500
TZNAME:CDT
DTSTART:20250309T080000
END:DAYLIGHT
BEGIN:STANDARD
TZOFFSETFROM:-0500
TZOFFSETTO:-0600
TZNAME:CST
DTSTART:20251102T070000
END:STANDARD
BEGIN:DAYLIGHT
TZOFFSETFROM:-0600
TZOFFSETTO:-0500
TZNAME:CDT
DTSTART:20260308T080000
END:DAYLIGHT
BEGIN:STANDARD
TZOFFSETFROM:-0500
TZOFFSETTO:-0600
TZNAME:CST
DTSTART:20261101T070000
END:STANDARD
END:VTIMEZONE
BEGIN:VEVENT
DTSTART;VALUE=DATE:20250531
DTEND;VALUE=DATE:20250602
DTSTAMP:20260421T200446
CREATED:20250614T193924Z
LAST-MODIFIED:20250722T005605Z
UID:10011490-1748649600-1748822399@essft.com
SUMMARY:Missouri Headwaters Gun Dog Club (MT) Spaniel Hunt Test
DESCRIPTION:Entries Close: Tuesday\, May 20\, 2025 11:59:59 PM Eastern Time(ET) on Hunt Secretary. \nJudges: Jeff Janousek and Maggie Lindsey
URL:https://essft.com/event/missouri-headwaters-gun-dog-club-mt-spaniel-hunt-test-3/
CATEGORIES:Hunt Tests
END:VEVENT
BEGIN:VEVENT
DTSTART;TZID=America/Chicago:20250603T000000
DTEND;TZID=America/Chicago:20250604T000000
DTSTAMP:20260421T200446
CREATED:20250614T193939Z
LAST-MODIFIED:20250614T193939Z
UID:10011495-1748908800-1748995200@essft.com
SUMMARY:South Western Ontario Spaniel Club
DESCRIPTION:Closing Date: Sun\, May 25\, 2025\, 10:00 PM EDT on Dogshow.ca \nJudges:\nOpen Tues: Dominique Savoie and Bill McCaffrey \nAmateur Tues: Todd Agnew and Lavern Forwell \nOpen Wed: Dominique Savoie and Ranald Sims \nLimit (Puppy): Bill McCaffrey and Dan McMahon
URL:https://essft.com/event/south-western-ontario-spaniel-club-11-3/
CATEGORIES:Canadian FT
END:VEVENT
BEGIN:VEVENT
DTSTART;TZID=America/Chicago:20250606T000000
DTEND;TZID=America/Chicago:20250608T000000
DTSTAMP:20260421T200446
CREATED:20250614T193939Z
LAST-MODIFIED:20250614T193939Z
UID:10011496-1749168000-1749340800@essft.com
SUMMARY:Sudbury & District Kennel Club Inc. Spaniels Field Trial
DESCRIPTION:More Information TBA…
URL:https://essft.com/event/sudbury-district-kennel-club-inc-spaniels-field-trial-3/
CATEGORIES:Canadian FT
END:VEVENT
BEGIN:VEVENT
DTSTART;TZID=America/Chicago:20250607T000000
DTEND;TZID=America/Chicago:20250607T000000
DTSTAMP:20260421T200446
CREATED:20250614T193939Z
LAST-MODIFIED:20250614T193939Z
UID:10011499-1749254400-1749254400@essft.com
SUMMARY:Central Connecticut Spaniel Club
DESCRIPTION:More information TBA
URL:https://essft.com/event/central-connecticut-spaniel-club-16/
CATEGORIES:Field Trials - East
END:VEVENT
BEGIN:VEVENT
DTSTART;TZID=America/Chicago:20250607T000000
DTEND;TZID=America/Chicago:20250607T000000
DTSTAMP:20260421T200446
CREATED:20250614T193954Z
LAST-MODIFIED:20250614T193954Z
UID:10011500-1749254400-1749254400@essft.com
SUMMARY:Central Connecticut Spaniel Club Cocker Trial
DESCRIPTION:More information TBA
URL:https://essft.com/event/central-connecticut-spaniel-club-cocker-trial/
CATEGORIES:Cocker Trial
END:VEVENT
BEGIN:VEVENT
DTSTART;TZID=America/Chicago:20250607T000000
DTEND;TZID=America/Chicago:20250608T000000
DTSTAMP:20260421T200446
CREATED:20250614T193939Z
LAST-MODIFIED:20250614T193939Z
UID:10011497-1749254400-1749340800@essft.com
SUMMARY:Eastern Slopes Spaniel Association Field Trial
DESCRIPTION:Closing Date: Tue\, May 27\, 2025\, 8:00 PM MDT \nJune 7 – Open & Puppy\nJune 8 – Amateur & Limit
URL:https://essft.com/event/eastern-slopes-spaniel-association-field-trial/
CATEGORIES:Canadian FT
END:VEVENT
BEGIN:VEVENT
DTSTART;TZID=America/Chicago:20250607T000000
DTEND;TZID=America/Chicago:20250608T000000
DTSTAMP:20260421T200446
CREATED:20250614T193939Z
LAST-MODIFIED:20250614T193939Z
UID:10011498-1749254400-1749340800@essft.com
SUMMARY:Cocker Spaniel Hunting Enthusiasts Spaniel Hunt Test
DESCRIPTION:Entries Close: Tuesday\, May 27\, 2025 11:59:59 PM Eastern Time(ET) on Hunt Secretary. \nJudges: Karen Lumb and Karen Livingston\n\n		\n			\n			\n		\n\n		\n 
URL:https://essft.com/event/cocker-spaniel-hunting-enthusiasts-spaniel-hunt-test-3/
CATEGORIES:Hunt Tests
END:VEVENT
BEGIN:VEVENT
DTSTART;VALUE=DATE:20250613
DTEND;VALUE=DATE:20250616
DTSTAMP:20260421T200446
CREATED:20250614T193954Z
LAST-MODIFIED:20250817T204722Z
UID:10011501-1749772800-1750031999@essft.com
SUMMARY:Central Maine Spaniel Field Trial Club Trial
DESCRIPTION:Judges: Ray Jack and Pete Anderson\n 
URL:https://essft.com/event/central-maine-spaniel-field-trial-club-trial/
CATEGORIES:Field Trials - East
END:VEVENT
BEGIN:VEVENT
DTSTART;TZID=America/Chicago:20250614T000000
DTEND;TZID=America/Chicago:20250615T000000
DTSTAMP:20260421T200446
CREATED:20250614T193954Z
LAST-MODIFIED:20250614T193954Z
UID:10011502-1749859200-1749945600@essft.com
SUMMARY:Central Ontario Spaniel Club Field Trial
DESCRIPTION:More Information TBA…
URL:https://essft.com/event/central-ontario-spaniel-club-field-trial-2/
CATEGORIES:Canadian FT
END:VEVENT
BEGIN:VEVENT
DTSTART;TZID=America/Chicago:20250614T000000
DTEND;TZID=America/Chicago:20250615T000000
DTSTAMP:20260421T200446
CREATED:20250614T193954Z
LAST-MODIFIED:20250614T193954Z
UID:10011503-1749859200-1749945600@essft.com
SUMMARY:2025 AWSC Inc. June Spaniel Hunt Test
DESCRIPTION:Entries Close: Tuesday\, June 3\, 2025 11:59:59 PM Eastern Time(ET) on Hunt Secretary. \nJudges: Bruce Warnimont and Jeff Zachow\n\n		\n			\n			\n		\n\n		\n 
URL:https://essft.com/event/2025-awsc-inc-june-spaniel-hunt-test/
CATEGORIES:Hunt Tests
END:VEVENT
BEGIN:VEVENT
DTSTART;TZID=America/Chicago:20250614T000000
DTEND;TZID=America/Chicago:20250615T000000
DTSTAMP:20260421T200446
CREATED:20250614T193954Z
LAST-MODIFIED:20250614T193954Z
UID:10011504-1749859200-1749945600@essft.com
SUMMARY:Maine Spaniel Field Trial Club Hunt Test
DESCRIPTION:Entries Close: Tuesday\, June 3\, 2025 11:59:59 PM Eastern Time(ET) on Hunt Secretary. \nJudges: Tim Welling\, Jack Klette\, Randy Beltz\, and Sarah Foster
URL:https://essft.com/event/maine-spaniel-field-trial-club-hunt-test-3/
CATEGORIES:Hunt Tests
END:VEVENT
BEGIN:VEVENT
DTSTART;TZID=America/Chicago:20250615T000000
DTEND;TZID=America/Chicago:20250615T000000
DTSTAMP:20260421T200446
CREATED:20250614T194009Z
LAST-MODIFIED:20250614T194009Z
UID:10011505-1749945600-1749945600@essft.com
SUMMARY:Father's Day
DESCRIPTION:
URL:https://essft.com/event/fathers-day-7/
CATEGORIES:Holidays
END:VEVENT
BEGIN:VEVENT
DTSTART;TZID=America/Chicago:20250618T000000
DTEND;TZID=America/Chicago:20250620T000000
DTSTAMP:20260421T200446
CREATED:20250614T194009Z
LAST-MODIFIED:20250614T194009Z
UID:10011506-1750204800-1750377600@essft.com
SUMMARY:Pine Shadows Gunning Training
DESCRIPTION:Save the date! \nMore information TBA
URL:https://essft.com/event/pine-shadows-gunning-training-2/
CATEGORIES:Gunning Seminars
END:VEVENT
BEGIN:VEVENT
DTSTART;TZID=America/Chicago:20250620T000000
DTEND;TZID=America/Chicago:20250622T000000
DTSTAMP:20260421T200446
CREATED:20250614T194009Z
LAST-MODIFIED:20250614T194009Z
UID:10011507-1750377600-1750550400@essft.com
SUMMARY:Calgary English Springer Spaniel Club
DESCRIPTION:Closing Date: Thu\, Jun 12\, 2025\, 9:00 PM MDT
URL:https://essft.com/event/calgary-english-springer-spaniel-club-3/
CATEGORIES:Canadian FT
END:VEVENT
BEGIN:VEVENT
DTSTART;TZID=America/Chicago:20250621T000000
DTEND;TZID=America/Chicago:20250621T000000
DTSTAMP:20260421T200446
CREATED:20250614T194009Z
LAST-MODIFIED:20250614T194009Z
UID:10011509-1750464000-1750464000@essft.com
SUMMARY:NMESSC Pine Shadows Fun Trial
DESCRIPTION:
URL:https://essft.com/event/nmessc-pine-shadows-fun-trial-3/
CATEGORIES:Fun Trials
END:VEVENT
BEGIN:VEVENT
DTSTART;TZID=America/Chicago:20250621T000000
DTEND;TZID=America/Chicago:20250622T000000
DTSTAMP:20260421T200446
CREATED:20250614T194009Z
LAST-MODIFIED:20250614T194009Z
UID:10011508-1750464000-1750550400@essft.com
SUMMARY:Tilden Valley English Springer Spaniel Club Hunt Test
DESCRIPTION:Entries Close: Tuesday\, June 10\, 2025 11:59:59 PM Eastern Time(ET) on Hunt Secretary. \nJudges: Matt Nordahl and Jeff Zachow\n\n		\n			\n			\n		\n\n		\n 
URL:https://essft.com/event/tilden-valley-english-springer-spaniel-club-hunt-test-5/
CATEGORIES:Hunt Tests
END:VEVENT
BEGIN:VEVENT
DTSTART;TZID=America/Chicago:20250628T000000
DTEND;TZID=America/Chicago:20250628T000000
DTSTAMP:20260421T200446
CREATED:20250614T194024Z
LAST-MODIFIED:20250614T194024Z
UID:10011510-1751068800-1751068800@essft.com
SUMMARY:ESSFTA Gunning Seminar
DESCRIPTION:Entries Close: Friday\, June 20\, 2025 11:59:59 PM EST on Hunt Secretary.
URL:https://essft.com/event/essfta-gunning-seminar-2/
CATEGORIES:Gunning Seminars
END:VEVENT
BEGIN:VEVENT
DTSTART;VALUE=DATE:20250704
DTEND;VALUE=DATE:20250705
DTSTAMP:20260421T200446
CREATED:20250614T194024Z
LAST-MODIFIED:20250722T110744Z
UID:10011511-1751587200-1751673599@essft.com
SUMMARY:Independence Day
DESCRIPTION:
URL:https://essft.com/event/independence-day-7/
CATEGORIES:Holidays
END:VEVENT
BEGIN:VEVENT
DTSTART;TZID=America/Chicago:20250705T000000
DTEND;TZID=America/Chicago:20250706T000000
DTSTAMP:20260421T200446
CREATED:20250614T194024Z
LAST-MODIFIED:20250614T194024Z
UID:10011512-1751673600-1751760000@essft.com
SUMMARY:Eastern Slopes Spaniel Association Hunt Test
DESCRIPTION:July 5 – Working Spaniel\, Junior Hunter\, Senior Hunter and Master Hunter\nJuly 6 – Working Spaniel\, Junior Hunter\, Senior Hunter and Master Hunter \nMore Information TBA…
URL:https://essft.com/event/eastern-slopes-spaniel-association-hunt-test-2/
END:VEVENT
BEGIN:VEVENT
DTSTART;TZID=America/Chicago:20250709T000000
DTEND;TZID=America/Chicago:20250711T000000
DTSTAMP:20260421T200446
CREATED:20250614T194025Z
LAST-MODIFIED:20250614T194025Z
UID:10011513-1752019200-1752192000@essft.com
SUMMARY:Pine Shadows Gunning Training
DESCRIPTION:Save the date! \nMore information TBA
URL:https://essft.com/event/pine-shadows-gunning-training-3/
CATEGORIES:Gunning Seminars
END:VEVENT
BEGIN:VEVENT
DTSTART;VALUE=DATE:20250712
DTEND;VALUE=DATE:20250713
DTSTAMP:20260421T200446
CREATED:20250614T194025Z
LAST-MODIFIED:20250722T111027Z
UID:10011514-1752278400-1752364799@essft.com
SUMMARY:NMESSC Pine Shadows Fun Trial
DESCRIPTION:
URL:https://essft.com/event/nmessc-pine-shadows-fun-trial-4/
CATEGORIES:Fun Trials
END:VEVENT
BEGIN:VEVENT
DTSTART;VALUE=DATE:20250712
DTEND;VALUE=DATE:20250713
DTSTAMP:20260421T200446
CREATED:20250614T194039Z
LAST-MODIFIED:20250722T111315Z
UID:10011516-1752278400-1752364799@essft.com
SUMMARY:Cocker Northeast Wisconsin Spaniel Club Water Test
DESCRIPTION:Entries Close: Monday\, June 30\, 2025 11:59:59 PM Eastern Time(ET) on Hunt Secretary. \nJudges: Bob Merrill and Kevin McGlinn
URL:https://essft.com/event/cocker-northeast-wisconsin-spaniel-club-water-test-2/
LOCATION:Labrenz Property Dalton\, WI\, Labrenz Property\, Dalton\, WI\, United States
CATEGORIES:Cocker Trial
ORGANIZER;CN="Mark Moore":MAILTO:mark@mooreagphotos.com
END:VEVENT
BEGIN:VEVENT
DTSTART;VALUE=DATE:20250712
DTEND;VALUE=DATE:20250713
DTSTAMP:20260421T200446
CREATED:20250614T194039Z
LAST-MODIFIED:20250721T223131Z
UID:10011517-1752278400-1752364799@essft.com
SUMMARY:Northeast Wisconsin Spaniel Club Water Test
DESCRIPTION:Entries Close: Monday\, June 30\, 2025 11:59:59 PM Eastern Time(ET) on Hunt Secretary. \nJudges: Bob Merrill and Kevin McGlinn
URL:https://essft.com/event/northeast-wisconsin-spaniel-club-water-test-2/
LOCATION:Labrenz Property Dalton\, WI\, Labrenz Property\, Dalton\, WI\, United States
CATEGORIES:Water Test
ORGANIZER;CN="Mark Moore":MAILTO:mark@mooreagphotos.com
END:VEVENT
BEGIN:VEVENT
DTSTART;VALUE=DATE:20250712
DTEND;VALUE=DATE:20250713
DTSTAMP:20260421T200446
CREATED:20250627T004301Z
LAST-MODIFIED:20250627T004301Z
UID:10011637-1752278400-1752364799@essft.com
SUMMARY:PSSC English Springer Spaniel Field Trial Water Test
DESCRIPTION:Entries Close: Tuesday\, July 8\, 2025 11:59:59 PM Eastern Time(ET) on Hunt Secretary. \n2025 PSSC English Springer Spaniel Field Trial WT
URL:https://essft.com/event/pssc-english-springer-spaniel-field-trial-water-test/
LOCATION:New England Upland LLC Hillsborough\, NH
CATEGORIES:Water Test
ORGANIZER;CN="Jack Klette":MAILTO:klette@verizon.net
END:VEVENT
BEGIN:VEVENT
DTSTART;VALUE=DATE:20250712
DTEND;VALUE=DATE:20250713
DTSTAMP:20260421T200446
CREATED:20250627T004534Z
LAST-MODIFIED:20250627T004621Z
UID:10011638-1752278400-1752364799@essft.com
SUMMARY:PSSC Cocker Spaniel Field Trial Water Test
DESCRIPTION:Entries Close: Tuesday\, July 8\, 2025 11:59:59 PM Eastern Time(ET) on Hunt Secretary. \n2025 PSSC Cocker Spaniel Field Trial WT
URL:https://essft.com/event/pssc-cocker-spaniel-field-trial-water-test/
LOCATION:New England Upland LLC Hillsborough\, NH
CATEGORIES:Water Test
ORGANIZER;CN="Jack Klette":MAILTO:klette@verizon.net
END:VEVENT
BEGIN:VEVENT
DTSTART;TZID=America/Chicago:20250712T000000
DTEND;TZID=America/Chicago:20250713T000000
DTSTAMP:20260421T200446
CREATED:20250614T194039Z
LAST-MODIFIED:20250614T194039Z
UID:10011515-1752278400-1752364800@essft.com
SUMMARY:Arctic Bird Dog Association Flushing Breed Hunt Test
DESCRIPTION:Entries Close: Monday\, June 30\, 2025 11:59:59 PM Eastern Time(ET) on Hunt Secretary. \nJudges: Allen Gann and Wayne Tisue
URL:https://essft.com/event/arctic-bird-dog-association-flushing-breed-hunt-test-4/
CATEGORIES:Hunt Tests
END:VEVENT
BEGIN:VEVENT
DTSTART;VALUE=DATE:20250802
DTEND;VALUE=DATE:20250804
DTSTAMP:20260421T200446
CREATED:20250625T235622Z
LAST-MODIFIED:20250625T235829Z
UID:10011634-1754092800-1754265599@essft.com
SUMMARY:Southern Tier Field Trial Assn Hunt Test
DESCRIPTION:Entries Close: Tuesday\, July 22\, 2025 11:59:59 PM Eastern Time(ET) on Hunt Secretary. \nPremium: 2025 Southern Tier Field Trial
URL:https://essft.com/event/southern-tier-field-trial-assn-hunt-test-2/
LOCATION:6600 County Route 69 Canisteo\, NY
CATEGORIES:Field Trials - East
ORGANIZER;CN="Cindy Goode Wilson":MAILTO:Sunrisespaniels@gmail.com
END:VEVENT
BEGIN:VEVENT
DTSTART;VALUE=DATE:20250809
DTEND;VALUE=DATE:20250811
DTSTAMP:20260421T200446
CREATED:20250728T020220Z
LAST-MODIFIED:20250728T020220Z
UID:10011660-1754697600-1754870399@essft.com
SUMMARY:Central Maine Spaniel Club Hunt Test
DESCRIPTION:Entries Close: Tuesday\, July 29\, 2025 11:59:59 PM Eastern Time(ET) on Hunt Secretary.
URL:https://essft.com/event/central-maine-spaniel-club-hunt-test-4/
LOCATION:Wildwind Kennels Knox\, ME\, Wildwind Kennels Knox\, ME
CATEGORIES:Hunt Tests
ORGANIZER;CN="Mark Goodridge":MAILTO:mrgoodridge@roadrunner.com
END:VEVENT
BEGIN:VEVENT
DTSTART;VALUE=DATE:20250809
DTEND;VALUE=DATE:20250811
DTSTAMP:20260421T200446
CREATED:20250728T020640Z
LAST-MODIFIED:20250728T020640Z
UID:10011661-1754697600-1754870399@essft.com
SUMMARY:Northwest English Springer Spaniel 2025 Hunt Tests
DESCRIPTION:Entries Close: Monday\, July 28\, 2025 11:59:59 PM Eastern Time(ET) on Hunt Secretary.
URL:https://essft.com/event/northwest-english-springer-spaniel-2025-hunt-tests/
LOCATION:Luckiamute Valley Pheasants Monmouth\, OR\, Luckiamute Valley Pheasants Monmouth\, OR
CATEGORIES:Hunt Tests
ORGANIZER;CN="Janet Johnson":MAILTO:jjohn@onlinenw.com
END:VEVENT
BEGIN:VEVENT
DTSTART;VALUE=DATE:20250809
DTEND;VALUE=DATE:20250811
DTSTAMP:20260421T200446
CREATED:20250728T021146Z
LAST-MODIFIED:20250728T021146Z
UID:10011662-1754697600-1754870399@essft.com
SUMMARY:Central Connecticut Spaniel Club Hunt Test
DESCRIPTION:Entries Close: Tuesday\, July 29\, 2025 11:59:59 PM Eastern Time(ET) on Hunt Secretary.
URL:https://essft.com/event/central-connecticut-spaniel-club-hunt-test-3/
LOCATION:Nod Brook Wildlife Management Area Simsbury\, CT\, Nod Brook Wildlife Management Area Simsbury\, CT
CATEGORIES:Hunt Tests
ORGANIZER;CN="Suzanne Smith":MAILTO:scsmith227@gmail.com
END:VEVENT
END:VCALENDAR