BEGIN:VCALENDAR
VERSION:2.0
PRODID:-//English Springer Spaniel Field Trials - ECPv6.15.20//NONSGML v1.0//EN
CALSCALE:GREGORIAN
METHOD:PUBLISH
X-WR-CALNAME:English Springer Spaniel Field Trials
X-ORIGINAL-URL:https://essft.com
X-WR-CALDESC:Events for English Springer Spaniel Field Trials
REFRESH-INTERVAL;VALUE=DURATION:PT1H
X-Robots-Tag:noindex
X-PUBLISHED-TTL:PT1H
BEGIN:VTIMEZONE
TZID:America/Chicago
BEGIN:DAYLIGHT
TZOFFSETFROM:-0600
TZOFFSETTO:-0500
TZNAME:CDT
DTSTART:20230312T080000
END:DAYLIGHT
BEGIN:STANDARD
TZOFFSETFROM:-0500
TZOFFSETTO:-0600
TZNAME:CST
DTSTART:20231105T070000
END:STANDARD
BEGIN:DAYLIGHT
TZOFFSETFROM:-0600
TZOFFSETTO:-0500
TZNAME:CDT
DTSTART:20240310T080000
END:DAYLIGHT
BEGIN:STANDARD
TZOFFSETFROM:-0500
TZOFFSETTO:-0600
TZNAME:CST
DTSTART:20241103T070000
END:STANDARD
BEGIN:DAYLIGHT
TZOFFSETFROM:-0600
TZOFFSETTO:-0500
TZNAME:CDT
DTSTART:20250309T080000
END:DAYLIGHT
BEGIN:STANDARD
TZOFFSETFROM:-0500
TZOFFSETTO:-0600
TZNAME:CST
DTSTART:20251102T070000
END:STANDARD
END:VTIMEZONE
BEGIN:VEVENT
DTSTART;TZID=America/Chicago:20240607T000000
DTEND;TZID=America/Chicago:20240608T000000
DTSTAMP:20260421T211547
CREATED:20250614T165557Z
LAST-MODIFIED:20250614T165557Z
UID:10011221-1717718400-1717804800@essft.com
SUMMARY:Spaniel Training Seminar with ANDY CULLEN
DESCRIPTION:Contact – Christine Lavier\nemail – umbellac@yahoo.com or message me on Facebook\nwebsite – windriftspaniels.com for information and registration form\n( website is currently being updated)
URL:https://essft.com/event/spaniel-training-seminar-with-andy-cullen/
CATEGORIES:Training Seminar
END:VEVENT
BEGIN:VEVENT
DTSTART;TZID=America/Chicago:20240604T000000
DTEND;TZID=America/Chicago:20240605T000000
DTSTAMP:20260421T211547
CREATED:20250614T165543Z
LAST-MODIFIED:20250614T165543Z
UID:10011218-1717459200-1717545600@essft.com
SUMMARY:South Western Ontario Spaniel Club [FIELD TRIAL]
DESCRIPTION:Closing Date: Sun\, May 26\, 2024\, 8:00 PM EDT on Dogshow.CA. \nJudges: Kevin Martineau\, Gloria Decker\, John Stockmann\, Lavern Forwell\, Jeffrey Cubitt.
URL:https://essft.com/event/south-western-ontario-spaniel-club-field-trial/
CATEGORIES:Canadian FT
END:VEVENT
BEGIN:VEVENT
DTSTART;TZID=America/Chicago:20240602T000000
DTEND;TZID=America/Chicago:20240602T000000
DTSTAMP:20260421T211547
CREATED:20250614T165542Z
LAST-MODIFIED:20250614T165542Z
UID:10011217-1717286400-1717286400@essft.com
SUMMARY:Field Spaniel Society of America
DESCRIPTION:Entries Close: Tuesday\, May 21\, 2024 11:59:59 PM Eastern Time(ET) on Hunt Secretary
URL:https://essft.com/event/field-spaniel-society-of-america/
CATEGORIES:Hunt Tests
END:VEVENT
BEGIN:VEVENT
DTSTART;TZID=America/Chicago:20240601T000000
DTEND;TZID=America/Chicago:20240602T000000
DTSTAMP:20260421T211547
CREATED:20250614T165542Z
LAST-MODIFIED:20250614T165542Z
UID:10011216-1717200000-1717286400@essft.com
SUMMARY:Cocker Spaniel Field Trial Club of America Spring 2024 Hunt Test
DESCRIPTION:Entries Close: Tuesday\, May 21\, 2024 11:59:59 PM Eastern Time(ET) on Hunt Secretary. \n\n		\n			\n			\n		\n\n		\n 
URL:https://essft.com/event/cocker-spaniel-field-trial-club-of-america-spring-2024-hunt-test/
CATEGORIES:Hunt Tests
ORGANIZER;CN="Barbara A Bobrowich":MAILTO:sobakakennels1@gmail.com
END:VEVENT
BEGIN:VEVENT
DTSTART;TZID=America/Chicago:20240601T000000
DTEND;TZID=America/Chicago:20240602T000000
DTSTAMP:20260421T211547
CREATED:20250614T165528Z
LAST-MODIFIED:20250614T165528Z
UID:10011213-1717200000-1717286400@essft.com
SUMMARY:North Dakota Sporting Spaniel Club - Hunt Test
DESCRIPTION:Entries Close: Tuesday\, May 21\, 2024 11:59:59 PM Eastern Time(ET) on Hunt Secretary
URL:https://essft.com/event/north-dakota-sporting-spaniel-club-hunt-test/
CATEGORIES:Hunt Tests
END:VEVENT
BEGIN:VEVENT
DTSTART;TZID=America/Chicago:20240601T000000
DTEND;TZID=America/Chicago:20240601T000000
DTSTAMP:20260421T211547
CREATED:20250614T165542Z
LAST-MODIFIED:20250628T014027Z
UID:10011215-1717200000-1717200000@essft.com
SUMMARY:COCKER: Club de Chiens de Chasse de Quebec [English Cocker Field Trial]
DESCRIPTION:Closing Date: Thu\, May 23\, 2024\, 8:00 PM EDT on Dogshow.CA \nJudges: DAN LUSSEN\, and DAVID JONES.
URL:https://essft.com/event/cocker-club-de-chiens-de-chasse-de-quebec-english-cocker-field-trial/
CATEGORIES:Canadian FT
END:VEVENT
BEGIN:VEVENT
DTSTART;TZID=America/Chicago:20240601T000000
DTEND;TZID=America/Chicago:20240601T000000
DTSTAMP:20260421T211547
CREATED:20250614T165528Z
LAST-MODIFIED:20250614T165528Z
UID:10011214-1717200000-1717200000@essft.com
SUMMARY:Irish Water Spaniel Club of America - June 2024
DESCRIPTION:Entries Close: Tuesday\, May 21\, 2024 11:59:59 PM Eastern Time(ET) on Hunt Secretary
URL:https://essft.com/event/irish-water-spaniel-club-of-america-june-2024/
CATEGORIES:Hunt Tests
END:VEVENT
BEGIN:VEVENT
DTSTART;TZID=America/Chicago:20240531T000000
DTEND;TZID=America/Chicago:20240602T000000
DTSTAMP:20260421T211547
CREATED:20250614T165528Z
LAST-MODIFIED:20250614T165528Z
UID:10011211-1717113600-1717286400@essft.com
SUMMARY:Club de Chiens de Chasse de Quebec [Field Trial]
DESCRIPTION:Closing Date: Thu\, May 23\, 2024\, 8:00 PM EDT on Dogshow.CA. \nJudges: DAN LUSSEN\, DAVID JONES\, SÉBASTIEN RICHARD\, NICK PIMLOTT\, PIERRE FECTEAU.
URL:https://essft.com/event/club-de-chiens-de-chasse-de-quebec-field-trial/
CATEGORIES:Canadian FT
END:VEVENT
BEGIN:VEVENT
DTSTART;TZID=America/Chicago:20240531T000000
DTEND;TZID=America/Chicago:20240602T000000
DTSTAMP:20260421T211547
CREATED:20250614T165528Z
LAST-MODIFIED:20250614T165528Z
UID:10011212-1717113600-1717286400@essft.com
SUMMARY:Midwest Spaniel Association [FIELD TRIAL]
DESCRIPTION:TBD
URL:https://essft.com/event/midwest-spaniel-association-field-trial/
CATEGORIES:Canadian FT
END:VEVENT
BEGIN:VEVENT
DTSTART;TZID=America/Chicago:20240527T000000
DTEND;TZID=America/Chicago:20240527T000000
DTSTAMP:20260421T211547
CREATED:20250614T165528Z
LAST-MODIFIED:20250614T165528Z
UID:10011210-1716768000-1716768000@essft.com
SUMMARY:Memorial Day
DESCRIPTION:
URL:https://essft.com/event/memorial-day-6/
CATEGORIES:Holidays
END:VEVENT
BEGIN:VEVENT
DTSTART;TZID=America/Chicago:20240526T000000
DTEND;TZID=America/Chicago:20240527T000000
DTSTAMP:20260421T211547
CREATED:20250614T165407Z
LAST-MODIFIED:20250614T165407Z
UID:10011209-1716681600-1716768000@essft.com
SUMMARY:Western Washington English Springer Spaniel Club Hunt Test
DESCRIPTION:Entries Close: Monday\, May 13\, 2024 11:59:59 PM Eastern Time(ET) on Hunt Secretary \n 
URL:https://essft.com/event/western-washington-english-springer-spaniel-club-hunt-test-3/
CATEGORIES:Hunt Tests
END:VEVENT
BEGIN:VEVENT
DTSTART;TZID=America/Chicago:20240525T000000
DTEND;TZID=America/Chicago:20240526T000000
DTSTAMP:20260421T211547
CREATED:20250614T165407Z
LAST-MODIFIED:20250614T165407Z
UID:10011207-1716595200-1716681600@essft.com
SUMMARY:West Allis Training Kennel Club MEMORIAL DAY WEEKEND 2024 Spaniel Hunt Test
DESCRIPTION:Entries Close: Tuesday\, May 14\, 2024 11:59:59 PM Eastern Time(ET) on Hunt Secretary
URL:https://essft.com/event/west-allis-training-kennel-club-memorial-day-weekend-2024-spaniel-hunt-test/
CATEGORIES:Hunt Tests
END:VEVENT
BEGIN:VEVENT
DTSTART;TZID=America/Chicago:20240525T000000
DTEND;TZID=America/Chicago:20240526T000000
DTSTAMP:20260421T211547
CREATED:20250614T165407Z
LAST-MODIFIED:20250614T165407Z
UID:10011208-1716595200-1716681600@essft.com
SUMMARY:Central Ontario Spaniel Club
DESCRIPTION:Judges: Christophe Fecteau\, Drew Goldsmith\, Pierre Fecteau.
URL:https://essft.com/event/central-ontario-spaniel-club-12/
CATEGORIES:Canadian FT
END:VEVENT
BEGIN:VEVENT
DTSTART;TZID=America/Chicago:20240524T000000
DTEND;TZID=America/Chicago:20240525T000000
DTSTAMP:20260421T211547
CREATED:20250614T165407Z
LAST-MODIFIED:20250614T165407Z
UID:10011206-1716508800-1716595200@essft.com
SUMMARY:Cascade English Cocker Spaniel Fanciers
DESCRIPTION:Entries Close: Monday\, May 13\, 2024 11:59:59 PM Eastern Time(ET) on Hunt Secretary
URL:https://essft.com/event/cascade-english-cocker-spaniel-fanciers-3-3/
CATEGORIES:Hunt Tests
ORGANIZER;CN="Melissa Knapp":MAILTO:melissa.s.knapp@gmail.com
END:VEVENT
BEGIN:VEVENT
DTSTART;TZID=America/Chicago:20240523T000000
DTEND;TZID=America/Chicago:20240524T000000
DTSTAMP:20260421T211547
CREATED:20250614T165407Z
LAST-MODIFIED:20250614T165407Z
UID:10011205-1716422400-1716508800@essft.com
SUMMARY:Central Connecticut Spaniel Club - COCKER Field Trial
DESCRIPTION:Entries Close: Monday\, May 13\, 2024 11:59:59 PM Eastern Time(ET) on Hunt Secretary \nJudges: Morgan Haglin and Jim O’Keefe\n\n		\n			\n			\n		\n\n		\n 
URL:https://essft.com/event/central-connecticut-spaniel-club-cocker-field-trial/
CATEGORIES:Cocker Trial
ORGANIZER;CN="Deborah Olszewski":MAILTO:dmoski@aol.com
END:VEVENT
BEGIN:VEVENT
DTSTART;TZID=America/Chicago:20240523T000000
DTEND;TZID=America/Chicago:20240524T000000
DTSTAMP:20260421T211547
CREATED:20250614T165352Z
LAST-MODIFIED:20250614T165352Z
UID:10011204-1716422400-1716508800@essft.com
SUMMARY:Central Connecticut
DESCRIPTION:Entries Close: Monday\, May 13\, 2024 11:59:59 PM Eastern Time(ET) on Hunt Secretary \nJudges: Morgan Haglin and Elaine O’Keefe
URL:https://essft.com/event/central-connecticut/
CATEGORIES:Field Trials - East
END:VEVENT
BEGIN:VEVENT
DTSTART;TZID=America/Chicago:20240518T000000
DTEND;TZID=America/Chicago:20240519T000000
DTSTAMP:20260421T211547
CREATED:20250614T165352Z
LAST-MODIFIED:20250614T165352Z
UID:10011201-1715990400-1716076800@essft.com
SUMMARY:Airedale Terrier Club of America Cooley Memorial Spaniel Hunt Test
DESCRIPTION:Entries Close: Tuesday\, May 7\, 2024 11:59:59 PM Eastern Time(ET) on Hunt Secretary
URL:https://essft.com/event/airedale-terrier-club-of-america-cooley-memorial-spaniel-hunt-test-4/
LOCATION:Rock River Kennels\, Beaver Dam\, WI 53916\, USA\, Beaver Dam\, Wisconsin\, 53916\, United States
CATEGORIES:Hunt Tests
GEO:43.457769;-88.837329
X-APPLE-STRUCTURED-LOCATION;VALUE=URI;X-ADDRESS=Rock River Kennels Beaver Dam WI 53916 USA Beaver Dam Wisconsin 53916 United States;X-APPLE-RADIUS=500;X-TITLE=Beaver Dam\, WI 53916\, USA:geo:-88.837329,43.457769
END:VEVENT
BEGIN:VEVENT
DTSTART;TZID=America/Chicago:20240518T000000
DTEND;TZID=America/Chicago:20240519T000000
DTSTAMP:20260421T211547
CREATED:20250614T165352Z
LAST-MODIFIED:20250614T165352Z
UID:10011202-1715990400-1716076800@essft.com
SUMMARY:Pittsburgh ESSFTC Spring 2024 Hunt Test
DESCRIPTION:Entries Close: Tuesday\, May 7\, 2024 11:59:59 PM Eastern Time(ET) on Hunt Secretary
URL:https://essft.com/event/pittsburgh-essftc-spring-2024-hunt-test/
CATEGORIES:Hunt Tests
END:VEVENT
BEGIN:VEVENT
DTSTART;TZID=America/Chicago:20240518T000000
DTEND;TZID=America/Chicago:20240518T000000
DTSTAMP:20260421T211547
CREATED:20250614T165352Z
LAST-MODIFIED:20250614T165352Z
UID:10011203-1715990400-1715990400@essft.com
SUMMARY:Pittsburgh ESSFTC 2024 English Springer Spaniel  and Cocker Water Test
DESCRIPTION:SPRINGER WATER TEST Entries Close: Tuesday\, May 7\, 2024 11:59:59 PM Eastern Time(ET) on Hunt Secretary \n  \nCOCKER Entries Close: Tuesday\, May 7\, 2024 11:59:59 PM Eastern Time(ET) on Hunt Secretary
URL:https://essft.com/event/pittsburgh-essftc-2024-english-springer-spaniel-and-cocker-water-test/
CATEGORIES:Water Test
ORGANIZER;CN="Justin Smith":MAILTO:pittsburghhuntingspaniels@yahoo.com
END:VEVENT
BEGIN:VEVENT
DTSTART;TZID=America/Chicago:20240517T000000
DTEND;TZID=America/Chicago:20240519T000000
DTSTAMP:20260421T211547
CREATED:20250614T165351Z
LAST-MODIFIED:20250614T165351Z
UID:10011200-1715904000-1716076800@essft.com
SUMMARY:Prince Edward Interprovincial Springer Spaniel Club [Field Trial]
DESCRIPTION:Closing Date: Sun\, May 5\, 2024\, 6:00 PM ADT  on Dogshow.CA \nJudges: Joe Coady\, Mike Sterling\, Nevin Tucker\, Bruce Outhouse\, Linda Power\, Dan Power\, Donna Matheson.
URL:https://essft.com/event/prince-edward-interprovincial-springer-spaniel-club-field-trial/
CATEGORIES:Canadian FT
END:VEVENT
BEGIN:VEVENT
DTSTART;TZID=America/Chicago:20240517T000000
DTEND;TZID=America/Chicago:20240519T000000
DTSTAMP:20260421T211547
CREATED:20250614T165301Z
LAST-MODIFIED:20250614T165301Z
UID:10011199-1715904000-1716076800@essft.com
SUMMARY:Cocker: Maine Spaniel Field Trial Club
DESCRIPTION:Entries Close: Monday\, May 6\, 2024 11:59:59 PM Eastern Time(ET) on Hunt Secretary \nJudges: Larry Hansen and Vern Knapp\n  \n140 Cumberland St. (Route 5)\nCornish\, ME\n140 Cumberland Street\, Cornish\, ME 04020 \n**Landmark** Land is across the street from Cornish Station\, 133 Cumberland Street\, Cornish\, ME 04020
URL:https://essft.com/event/cocker-maine-spaniel-field-trial-club-9/
CATEGORIES:Cocker Trial
END:VEVENT
BEGIN:VEVENT
DTSTART;TZID=America/Chicago:20240517T000000
DTEND;TZID=America/Chicago:20240518T000000
DTSTAMP:20260421T211547
CREATED:20250614T165301Z
LAST-MODIFIED:20250614T165301Z
UID:10011198-1715904000-1715990400@essft.com
SUMMARY:Cocker: Utah Springer Spaniel Club (2 Opens)
DESCRIPTION:Entries Close: Monday\, May 6\, 2024 11:59:59 PM Eastern Time(ET) on Hunt Secretary. \nJudges:  Alan Baugh and Bob Child
URL:https://essft.com/event/cocker-utah-springer-spaniel-club-2-opens/
CATEGORIES:Cocker Trial
END:VEVENT
BEGIN:VEVENT
DTSTART;TZID=America/Chicago:20240515T000000
DTEND;TZID=America/Chicago:20240515T000000
DTSTAMP:20260421T211547
CREATED:20250614T165301Z
LAST-MODIFIED:20250614T165301Z
UID:10011197-1715731200-1715731200@essft.com
SUMMARY:Flat-Coated Retriever Society of America AKC Spaniel Hunt Test
DESCRIPTION:Waiting for information from the club.
URL:https://essft.com/event/flat-coated-retriever-society-of-america-akc-spaniel-hunt-test/
CATEGORIES:Hunt Tests
END:VEVENT
BEGIN:VEVENT
DTSTART;TZID=America/Chicago:20240512T000000
DTEND;TZID=America/Chicago:20240512T000000
DTSTAMP:20260421T211547
CREATED:20250614T165300Z
LAST-MODIFIED:20250614T165300Z
UID:10011196-1715472000-1715472000@essft.com
SUMMARY:Mother's DAy
DESCRIPTION:
URL:https://essft.com/event/mothers-day-6/
CATEGORIES:Holidays
END:VEVENT
BEGIN:VEVENT
DTSTART;TZID=America/Chicago:20240511T000000
DTEND;TZID=America/Chicago:20240513T000000
DTSTAMP:20260421T211547
CREATED:20250614T165300Z
LAST-MODIFIED:20250614T165300Z
UID:10011195-1715385600-1715558400@essft.com
SUMMARY:Scotia Springer Club
DESCRIPTION:Closing Date: Sun\, May 5\, 2024\, 5:00 PM ADT  on Dogshow.CA \nJudges: Albert Viott\, Mike Elsasser\, Michael Bourdeau\, Sebastien Richard
URL:https://essft.com/event/scotia-springer-club-6-2/
CATEGORIES:Canadian FT
END:VEVENT
BEGIN:VEVENT
DTSTART;TZID=America/Chicago:20240511T000000
DTEND;TZID=America/Chicago:20240512T000000
DTSTAMP:20260421T211547
CREATED:20250614T165101Z
LAST-MODIFIED:20250614T165101Z
UID:10011193-1715385600-1715472000@essft.com
SUMMARY:Patriot Sporting Spaniel Club Hunt Test
DESCRIPTION:Entries Close: Tuesday\, April 30\, 2024 11:59:59 PM Eastern Time(ET) on Hunt Secretary
URL:https://essft.com/event/patriot-sporting-spaniel-club-hunt-test-2/
CATEGORIES:Hunt Tests
END:VEVENT
BEGIN:VEVENT
DTSTART;TZID=America/Chicago:20240511T000000
DTEND;TZID=America/Chicago:20240512T000000
DTSTAMP:20260421T211547
CREATED:20250614T165101Z
LAST-MODIFIED:20250614T165101Z
UID:10011194-1715385600-1715472000@essft.com
SUMMARY:Minnesota Hunting Spaniel Association Spring Hunt Test
DESCRIPTION:Entries Close: TBD \n 
URL:https://essft.com/event/minnesota-hunting-spaniel-association-spring-hunt-test/
CATEGORIES:Hunt Tests
END:VEVENT
BEGIN:VEVENT
DTSTART;TZID=America/Chicago:20240511T000000
DTEND;TZID=America/Chicago:20240512T000000
DTSTAMP:20260421T211547
CREATED:20250614T165100Z
LAST-MODIFIED:20250614T165100Z
UID:10011192-1715385600-1715472000@essft.com
SUMMARY:North Dakota Sporting Spaniel Club
DESCRIPTION:Entries Close: Tuesday\, April 30\, 2024 11:59:59 PM Eastern Time(ET) on Hunt Secretary\n\nJudges- Jerry Barrett & Ken Hanson
URL:https://essft.com/event/north-dakota-sporting-spaniel-club-16/
CATEGORIES:Field Trials - Rocky Mountain
END:VEVENT
BEGIN:VEVENT
DTSTART;TZID=America/Chicago:20240504T000000
DTEND;TZID=America/Chicago:20240505T000000
DTSTAMP:20260421T211547
CREATED:20250614T165100Z
LAST-MODIFIED:20250614T165100Z
UID:10011190-1714780800-1714867200@essft.com
SUMMARY:COCKER: Minnesota Hunting Spaniel Assoc.
DESCRIPTION:Entries Close: Tuesday\, April 23\, 2024 11:59:59 PM Eastern Time(ET) on Hunt Secretary \nJudges:  John Bishop and Kevin McGlin
URL:https://essft.com/event/cocker-minnesota-hunting-spaniel-assoc-5/
CATEGORIES:Cocker Trial
END:VEVENT
BEGIN:VEVENT
DTSTART;TZID=America/Chicago:20240504T000000
DTEND;TZID=America/Chicago:20240505T000000
DTSTAMP:20260421T211548
CREATED:20250614T165100Z
LAST-MODIFIED:20250614T165100Z
UID:10011191-1714780800-1714867200@essft.com
SUMMARY:Great Lakes American Water Spaniel Club Spaniel Hunt Test
DESCRIPTION:Entries Close: Tuesday\, April 23\, 2024 11:59:59 PM Eastern Time(ET) on Hunt Secretary \nJudges: Michael Gregory and Mike Minnick\n\n		\n			\n			\n		\n\n		\n 
URL:https://essft.com/event/great-lakes-american-water-spaniel-club-spaniel-hunt-test-2/
CATEGORIES:Hunt Tests
END:VEVENT
END:VCALENDAR