BEGIN:VCALENDAR
VERSION:2.0
PRODID:-//English Springer Spaniel Field Trials - ECPv6.15.20//NONSGML v1.0//EN
CALSCALE:GREGORIAN
METHOD:PUBLISH
X-ORIGINAL-URL:https://essft.com
X-WR-CALDESC:Events for English Springer Spaniel Field Trials
REFRESH-INTERVAL;VALUE=DURATION:PT1H
X-Robots-Tag:noindex
X-PUBLISHED-TTL:PT1H
BEGIN:VTIMEZONE
TZID:America/Chicago
BEGIN:DAYLIGHT
TZOFFSETFROM:-0600
TZOFFSETTO:-0500
TZNAME:CDT
DTSTART:20230312T080000
END:DAYLIGHT
BEGIN:STANDARD
TZOFFSETFROM:-0500
TZOFFSETTO:-0600
TZNAME:CST
DTSTART:20231105T070000
END:STANDARD
BEGIN:DAYLIGHT
TZOFFSETFROM:-0600
TZOFFSETTO:-0500
TZNAME:CDT
DTSTART:20240310T080000
END:DAYLIGHT
BEGIN:STANDARD
TZOFFSETFROM:-0500
TZOFFSETTO:-0600
TZNAME:CST
DTSTART:20241103T070000
END:STANDARD
BEGIN:DAYLIGHT
TZOFFSETFROM:-0600
TZOFFSETTO:-0500
TZNAME:CDT
DTSTART:20250309T080000
END:DAYLIGHT
BEGIN:STANDARD
TZOFFSETFROM:-0500
TZOFFSETTO:-0600
TZNAME:CST
DTSTART:20251102T070000
END:STANDARD
END:VTIMEZONE
BEGIN:VEVENT
DTSTART;TZID=America/Chicago:20240906T000000
DTEND;TZID=America/Chicago:20240906T000000
DTSTAMP:20260421T163804
CREATED:20250614T190711Z
LAST-MODIFIED:20250614T190711Z
UID:10011268-1725580800-1725580800@essft.com
SUMMARY:Central Wisconsin Sporting Spaniel Club ONE DAY SPRINGER Field Trial
DESCRIPTION:Entries Close: Monday\, August 26\, 2024 at 11:59 P.M. Eastern Time(ET) on Hunt Secretary. \nJudges: Katherine Lewis and Todd Agnew
URL:https://essft.com/event/central-wisconsin-sporting-spaniel-club-one-day-springer-field-trial/
CATEGORIES:Field Trials - Mid West
END:VEVENT
BEGIN:VEVENT
DTSTART;TZID=America/Chicago:20240905T000000
DTEND;TZID=America/Chicago:20240906T000000
DTSTAMP:20260421T163805
CREATED:20250614T190710Z
LAST-MODIFIED:20250614T190710Z
UID:10011266-1725494400-1725580800@essft.com
SUMMARY:NORTHERN MINNESOTA ENGLISH SPRINGER SPANIEL CLUB COCKER TRIAL
DESCRIPTION:Entries Close: Monday\, August 26\, 2024 11:59:59 PM Eastern Time(ET) on Hunt Secretary \nJudges: Dan Lussen and Greg Royer
URL:https://essft.com/event/northern-minnesota-english-springer-spaniel-club-cocker-trial/
CATEGORIES:Cocker Trial
ORGANIZER;CN="Sophie Haglin":MAILTO:mark@pineshadows.com
END:VEVENT
BEGIN:VEVENT
DTSTART;TZID=America/Chicago:20240902T000000
DTEND;TZID=America/Chicago:20240902T000000
DTSTAMP:20260421T163805
CREATED:20250614T190710Z
LAST-MODIFIED:20250614T190710Z
UID:10011265-1725235200-1725235200@essft.com
SUMMARY:Clumber Spaniel Club of America Hunt Test
DESCRIPTION:Entries Close: Monday\, August 19\, 2024 11:59:59 PM Eastern Time(ET) on Hunt Secretary.  \nJudges: Linda Fraser and Robert Wickwire\n\n		\n			\n			\n		\n\n		\n 
URL:https://essft.com/event/clumber-spaniel-club-of-america-hunt-test-2/
CATEGORIES:Hunt Tests
END:VEVENT
BEGIN:VEVENT
DTSTART;TZID=America/Chicago:20240902T000000
DTEND;TZID=America/Chicago:20240902T000000
DTSTAMP:20260421T163805
CREATED:20250614T190655Z
LAST-MODIFIED:20250614T190656Z
UID:10011264-1725235200-1725235200@essft.com
SUMMARY:Labor Day
DESCRIPTION:
URL:https://essft.com/event/labor-day-6/
CATEGORIES:Holidays
END:VEVENT
BEGIN:VEVENT
DTSTART;TZID=America/Chicago:20240901T000000
DTEND;TZID=America/Chicago:20240901T000000
DTSTAMP:20260421T163805
CREATED:20250614T190655Z
LAST-MODIFIED:20250614T190655Z
UID:10011263-1725148800-1725148800@essft.com
SUMMARY:Western Washington English Springer Spaniel Club Hunt Test
DESCRIPTION:Entries Close: Tuesday\, August 20\, 2024 at 11:59 P.M. Eastern Time(ET) on Hunt Secretary. \nJudges: Mike Strittmatter and Jan Johnson
URL:https://essft.com/event/western-washington-english-springer-spaniel-club-hunt-test-4/
CATEGORIES:Hunt Tests
ORGANIZER;CN="Kathy Stermolle":MAILTO:stermolle@yahoo.com
END:VEVENT
BEGIN:VEVENT
DTSTART;TZID=America/Chicago:20240831T000000
DTEND;TZID=America/Chicago:20240902T000000
DTSTAMP:20260421T163805
CREATED:20250614T170528Z
LAST-MODIFIED:20250614T190651Z
UID:10011257-1725062400-1725235200@essft.com
SUMMARY:Calgary English Springer Spaniel Club Inc.
DESCRIPTION:TBD
URL:https://essft.com/event/calgary-english-springer-spaniel-club-inc-7-3/
CATEGORIES:Canadian FT
END:VEVENT
BEGIN:VEVENT
DTSTART;TZID=America/Chicago:20240831T000000
DTEND;TZID=America/Chicago:20240901T000000
DTSTAMP:20260421T163805
CREATED:20250614T190655Z
LAST-MODIFIED:20250614T190655Z
UID:10011262-1725062400-1725148800@essft.com
SUMMARY:Ohio Valley English Springer Spaniel Club Hunt Test
DESCRIPTION:Entries Close: Tuesday\, August 20\, 2024 11:59:59 PM Eastern Time(ET) on Hunt Secretary. \nJudges: Kate Ostrowski and John Dudash Jr.\n\n		\n			\n			\n		\n\n		\n  \n 
URL:https://essft.com/event/ohio-valley-english-springer-spaniel-club-hunt-test/
CATEGORIES:Hunt Tests
END:VEVENT
BEGIN:VEVENT
DTSTART;TZID=America/Chicago:20240831T000000
DTEND;TZID=America/Chicago:20240901T000000
DTSTAMP:20260421T163805
CREATED:20250614T190654Z
LAST-MODIFIED:20250614T190655Z
UID:10011260-1725062400-1725148800@essft.com
SUMMARY:Minnesota Hunting Spaniel Association Fall Hunt Test 2024
DESCRIPTION:Entries Close: Tuesday\, August 20\, 2024 11:59:59 PM Eastern Time(ET) on Hunt Secretary. \nJudges: Matt Nordahl and Dawn Schuster
URL:https://essft.com/event/minnesota-hunting-spaniel-association-fall-hunt-test-2024/
CATEGORIES:Hunt Tests
END:VEVENT
BEGIN:VEVENT
DTSTART;TZID=America/Chicago:20240831T000000
DTEND;TZID=America/Chicago:20240901T000000
DTSTAMP:20260421T163805
CREATED:20250614T170529Z
LAST-MODIFIED:20250614T190651Z
UID:10011259-1725062400-1725148800@essft.com
SUMMARY:Wisconsin English Springer Spaniel Assn Hunt Tests 2024
DESCRIPTION:Entries Close: Tuesday\, August 20\, 2024 11:59:59 PM Eastern Time(ET) on Hunt Secretary.
URL:https://essft.com/event/wisconsin-english-springer-spaniel-assn-hunt-tests-2024/
CATEGORIES:Hunt Tests
END:VEVENT
BEGIN:VEVENT
DTSTART;TZID=America/Chicago:20240831T000000
DTEND;TZID=America/Chicago:20240901T000000
DTSTAMP:20260421T163805
CREATED:20250614T170528Z
LAST-MODIFIED:20250614T190651Z
UID:10011258-1725062400-1725148800@essft.com
SUMMARY:Sudbury & District Kennel Club Inc. - Spaniels [FIELD TRIAL]
DESCRIPTION:TBD
URL:https://essft.com/event/sudbury-district-kennel-club-inc-spaniels-field-trial-2/
CATEGORIES:Canadian FT
END:VEVENT
BEGIN:VEVENT
DTSTART;TZID=America/Chicago:20240831T000000
DTEND;TZID=America/Chicago:20240831T000000
DTSTAMP:20260421T163805
CREATED:20250614T190655Z
LAST-MODIFIED:20250614T190655Z
UID:10011261-1725062400-1725062400@essft.com
SUMMARY:Puget Sound English Springer Spaniel Assoc. AKC Hunt Test for Spaniels
DESCRIPTION:Entries Close: Tuesday\, August 20\, 2024 at 11:59 P.M. Eastern Time(ET) on Hunt Secretary. \nJudges: Ron Carver and Dave Skoubo
URL:https://essft.com/event/puget-sound-english-springer-spaniel-assoc-akc-hunt-test-for-spaniels-2/
CATEGORIES:Hunt Tests
ORGANIZER;CN="Kathy Stermolle":MAILTO:stermolle@yahoo.com
END:VEVENT
BEGIN:VEVENT
DTSTART;TZID=America/Chicago:20240830T000000
DTEND;TZID=America/Chicago:20240830T000000
DTSTAMP:20260421T163805
CREATED:20250614T170528Z
LAST-MODIFIED:20250614T190651Z
UID:10011256-1724976000-1724976000@essft.com
SUMMARY:Mount Rainier Sporting Spaniel Assoc. Spaniel Hunt Test
DESCRIPTION:Entries Close: Monday\, August 19\, 2024 11:59:59 PM Eastern Time(ET) on Hunt Secretary. \nJudges: Jon Beernink and Kathy Stermolle
URL:https://essft.com/event/mount-rainier-sporting-spaniel-assoc-spaniel-hunt-test-3/
CATEGORIES:Hunt Tests
END:VEVENT
BEGIN:VEVENT
DTSTART;TZID=America/Chicago:20240824T000000
DTEND;TZID=America/Chicago:20240825T000000
DTSTAMP:20260421T163805
CREATED:20250614T170528Z
LAST-MODIFIED:20250614T190651Z
UID:10011255-1724457600-1724544000@essft.com
SUMMARY:Sportsmen's Spaniel Club of Calumet Hunt Test
DESCRIPTION:Entries Close: Tuesday\, August 13\, 2024 at 11:59 P.M. Eastern Time(ET) on Hunt Secretary.  \nJudges: Frank Hauenschild and Karen Lumb
URL:https://essft.com/event/sportsmens-spaniel-club-of-calumet-hunt-test-2/
CATEGORIES:Hunt Tests
END:VEVENT
BEGIN:VEVENT
DTSTART;TZID=America/Chicago:20240824T000000
DTEND;TZID=America/Chicago:20240825T000000
DTSTAMP:20260421T163805
CREATED:20250614T170327Z
LAST-MODIFIED:20250614T170327Z
UID:10011250-1724457600-1724544000@essft.com
SUMMARY:Central Connecticut Spaniel Club
DESCRIPTION:Entries Close: Tuesday\, August 13\, 2024 11:59:59 PM Eastern Time(ET) on Hunt Secretary \nJudges: Mark Haglin and Ryan Lamberg
URL:https://essft.com/event/central-connecticut-spaniel-club-15/
CATEGORIES:Field Trials - East
ORGANIZER;CN="Deborah Olszewski":MAILTO:dmoski@aol.com
END:VEVENT
BEGIN:VEVENT
DTSTART;TZID=America/Chicago:20240824T000000
DTEND;TZID=America/Chicago:20240825T000000
DTSTAMP:20260421T163805
CREATED:20250614T170327Z
LAST-MODIFIED:20250614T170327Z
UID:10011251-1724457600-1724544000@essft.com
SUMMARY:ABDA Flushing Dog Hunt Test
DESCRIPTION:Entries Close: Tuesday\, August 13\, 2024 11:59:59 PM Eastern Time(ET) on Hunt Secretary.
URL:https://essft.com/event/abda-flushing-dog-hunt-test-4/
CATEGORIES:Hunt Tests
END:VEVENT
BEGIN:VEVENT
DTSTART;TZID=America/Chicago:20240824T000000
DTEND;TZID=America/Chicago:20240825T000000
DTSTAMP:20260421T163805
CREATED:20250614T170327Z
LAST-MODIFIED:20250614T170327Z
UID:10011252-1724457600-1724544000@essft.com
SUMMARY:Rice Creek Hunting Dog Club's Spaniel Hunt Test August 2024
DESCRIPTION:Entries Close: Tuesday\, August 13\, 2024 11:59:59 PM Eastern Time(ET) on Hunt Secretary.
URL:https://essft.com/event/rice-creek-hunting-dog-clubs-spaniel-hunt-test-august-2024/
CATEGORIES:Hunt Tests
END:VEVENT
BEGIN:VEVENT
DTSTART;TZID=America/Chicago:20240824T000000
DTEND;TZID=America/Chicago:20240825T000000
DTSTAMP:20260421T163805
CREATED:20250614T170327Z
LAST-MODIFIED:20250614T170327Z
UID:10011253-1724457600-1724544000@essft.com
SUMMARY:Northwest English Springer Spaniel 2024 Hunt Test
DESCRIPTION:Entries Close: Tuesday\, August 13\, 2024 11:59:59 PM Eastern Time(ET) on Hunt Secretary.
URL:https://essft.com/event/northwest-english-springer-spaniel-2024-hunt-test/
CATEGORIES:Hunt Tests
END:VEVENT
BEGIN:VEVENT
DTSTART;TZID=America/Chicago:20240824T000000
DTEND;TZID=America/Chicago:20240824T000000
DTSTAMP:20260421T163805
CREATED:20250614T170327Z
LAST-MODIFIED:20250614T170327Z
UID:10011254-1724457600-1724457600@essft.com
SUMMARY:Sportsmen's Spaniel Club of Calumet Field Trial Water Test
DESCRIPTION:Entries Close: Tuesday\, August 13\, 2024 at 11:59 P.M. Eastern Time(ET) on Hunt Secretary. \nJudges: Brud Prock and John Zahorik.\n\n		\n			\n			\n		\n\n		\n 
URL:https://essft.com/event/sportsmens-spaniel-club-of-calumet-field-trial-water-test/
CATEGORIES:Water Test
END:VEVENT
BEGIN:VEVENT
DTSTART;TZID=America/Chicago:20240822T000000
DTEND;TZID=America/Chicago:20240824T000000
DTSTAMP:20260421T163805
CREATED:20250614T170127Z
LAST-MODIFIED:20250614T170127Z
UID:10011249-1724284800-1724457600@essft.com
SUMMARY:Prairie Spaniel Club
DESCRIPTION:Closing and Draw – 8:00 p.m. MDT\, Wednesday\, August 14\, 2024. Running order draws will be held immediately thereafter. \nJudges: Pierre Fecteau\, Alex Stewart\, Tim Bashford\, Mark Henderson\, Alice Stewart\, Greg Royer\, and Kevin Stewart
URL:https://essft.com/event/prairie-spaniel-club-7-2/
CATEGORIES:Canadian FT
END:VEVENT
BEGIN:VEVENT
DTSTART;TZID=America/Chicago:20240817T000000
DTEND;TZID=America/Chicago:20240819T000000
DTSTAMP:20260421T163805
CREATED:20250614T170126Z
LAST-MODIFIED:20250614T170126Z
UID:10011247-1723852800-1724025600@essft.com
SUMMARY:Midwest Spaniel Association
DESCRIPTION:Judges: \nThomas Ness\nCasey Butz\nAldo Zanon\nDavid Proctor\nDan Murray\nPaul Mcgagh \nENTRIES: CLOSING & DRAW – Friday\, August 9th\, 2024 @ 9pm MDT on DogShow.ca.
URL:https://essft.com/event/midwest-spaniel-association/
CATEGORIES:Canadian FT
END:VEVENT
BEGIN:VEVENT
DTSTART;TZID=America/Chicago:20240817T000000
DTEND;TZID=America/Chicago:20240818T000000
DTSTAMP:20260421T163805
CREATED:20250614T170126Z
LAST-MODIFIED:20250614T170126Z
UID:10011248-1723852800-1723939200@essft.com
SUMMARY:Arctic Bird Dog Association Pointing Breed Hunt Test
DESCRIPTION:Entries Close: Tuesday\, August 6\, 2024 11:59:59 PM Eastern Time(ET) on Hunt Secretary. \nJudges: Judy Alderson\, Dori Hollingsworth\, and Wayne Yamashita.
URL:https://essft.com/event/arctic-bird-dog-association-pointing-breed-hunt-test/
CATEGORIES:Hunt Tests
END:VEVENT
BEGIN:VEVENT
DTSTART;TZID=America/Chicago:20240810T000000
DTEND;TZID=America/Chicago:20240811T000000
DTSTAMP:20260421T163805
CREATED:20250614T165925Z
LAST-MODIFIED:20250614T165925Z
UID:10011243-1723248000-1723334400@essft.com
SUMMARY:Central Maine Spaniel Club Hunt Test August 2024
DESCRIPTION:Entries Close: Tuesday\, July 30\, 2024 at 11:59 P.M. Eastern Time(ET) on Hunt Secretary. \nJudges: Joe Demarkis and Beverly Matthews
URL:https://essft.com/event/central-maine-spaniel-club-hunt-test-august-2024/
CATEGORIES:Hunt Tests
END:VEVENT
BEGIN:VEVENT
DTSTART;TZID=America/Chicago:20240810T000000
DTEND;TZID=America/Chicago:20240810T000000
DTSTAMP:20260421T163805
CREATED:20250614T170126Z
LAST-MODIFIED:20250614T170126Z
UID:10011245-1723248000-1723248000@essft.com
SUMMARY:AKC Spaniel Hunt Test Judges Seminar
DESCRIPTION:
URL:https://essft.com/event/akc-spaniel-hunt-test-judges-seminar/
CATEGORIES:Judging Seminar
END:VEVENT
BEGIN:VEVENT
DTSTART;TZID=America/Chicago:20240810T000000
DTEND;TZID=America/Chicago:20240810T000000
DTSTAMP:20260421T163805
CREATED:20250614T170126Z
LAST-MODIFIED:20250614T170126Z
UID:10011246-1723248000-1723248000@essft.com
SUMMARY:Whisky River Gun Dogs E-Collar and Field Trial Seminar
DESCRIPTION:
URL:https://essft.com/event/whisky-river-gun-dogs-e-collar-and-field-trial-seminar/
LOCATION:Whisky River Gun Dogs\, 28888 100th Ave\, Cadott\, WI 54727\, USA\, Cadott\, Wisconsin\, 54727\, United States
CATEGORIES:Training Seminar
ORGANIZER;CN="Todd Stelzer":MAILTO:whiskyrivergundogs@gmail.com
END:VEVENT
BEGIN:VEVENT
DTSTART;TZID=America/Chicago:20240810T000000
DTEND;TZID=America/Chicago:20240810T000000
DTSTAMP:20260421T163805
CREATED:20250614T165925Z
LAST-MODIFIED:20250614T165925Z
UID:10011244-1723248000-1723248000@essft.com
SUMMARY:ESS Club of the Central States-Springer Spaniel &Cocker Water Test / Training Day 2024
DESCRIPTION:SPRINGERS: Entries Close: Tuesday\, July 30\, 2024 11:59:59 PM Eastern Time(ET) on Hunt Secretary. \n\n		\n			\n			\n		\n\n		\nCOCKERS: Entries Close: Tuesday\, July 30\, 2024 11:59:59 PM Eastern Time(ET) on Hunt Secretary.
URL:https://essft.com/event/ess-club-of-the-central-states-springer-spaniel-cocker-water-test-training-day-2024/
CATEGORIES:Water Test
END:VEVENT
BEGIN:VEVENT
DTSTART;TZID=America/Chicago:20240803T000000
DTEND;TZID=America/Chicago:20240804T000000
DTSTAMP:20260421T163805
CREATED:20250614T165925Z
LAST-MODIFIED:20250614T165925Z
UID:10011242-1722643200-1722729600@essft.com
SUMMARY:Southern Tier Field Trial Assn Hunt Test
DESCRIPTION:Entries Close: Tuesday\, July 23\, 2024 11:59:59 PM Eastern Time(ET) on Hunt Secretary. \nJudges: Dr. Roger Schenone\, Gretchen Clark\, John P Dunn\, and Dorothy Maslonek \n\n		\n			\n			\n		\n\n		\n  \n 
URL:https://essft.com/event/southern-tier-field-trial-assn-hunt-test/
CATEGORIES:Hunt Tests
END:VEVENT
BEGIN:VEVENT
DTSTART;TZID=America/Chicago:20240803T000000
DTEND;TZID=America/Chicago:20240803T000000
DTSTAMP:20260421T163805
CREATED:20250614T165925Z
LAST-MODIFIED:20250614T165925Z
UID:10011241-1722643200-1722643200@essft.com
SUMMARY:SAVE THE DATE: Field Trial Judging Seminar
DESCRIPTION:August 3rd \, 2024\nSaturday 8:30 am – 3:30 pm \nHost: Northern Minnesota English Springer Spaniel Club \nLocation: Pine Shadows 14752 Three Mile Road Brainerd\, MN 56401 \nModerator: Tom Meyer\, AKC \nJudges Panel: Todd Stelzer\, Paul McGagh\, Kevin Martineau \nThis panel is subject to change based on travel and unknown emergency commitments. \nChecks to NMESSC includes lunch\, snacks\, Friday Night BBQ\, \nbeverages.
URL:https://essft.com/event/save-the-date-field-trial-judging-seminar/
CATEGORIES:Judging Seminar
END:VEVENT
BEGIN:VEVENT
DTSTART;TZID=America/Chicago:20240727T000000
DTEND;TZID=America/Chicago:20240728T000000
DTSTAMP:20260421T163805
CREATED:20250614T165724Z
LAST-MODIFIED:20250614T165724Z
UID:10011239-1722038400-1722124800@essft.com
SUMMARY:Cocker Spaniel Hunting Enthusiasts Spaniel Hunt Test July 2024
DESCRIPTION:Entries Close: Tuesday\, July 16\, 2024 at 11:59 P.M. Eastern Time(ET) on Hunt Secretary.
URL:https://essft.com/event/cocker-spaniel-hunting-enthusiasts-spaniel-hunt-test-july-2024/
CATEGORIES:Hunt Tests
END:VEVENT
BEGIN:VEVENT
DTSTART;TZID=America/Chicago:20240727T000000
DTEND;TZID=America/Chicago:20240727T000000
DTSTAMP:20260421T163805
CREATED:20250614T165925Z
LAST-MODIFIED:20250614T165925Z
UID:10011240-1722038400-1722038400@essft.com
SUMMARY:Field Trial Gunning Seminar
DESCRIPTION:Saturday July 27\, 2024\n8:30 am – 3:30 pm \nLocation: Pine Shadows 14752 Three Mile Road Brainerd\, MN 56401 \nModerators: John Meyer and Morgan Haglin \nAgenda \nIntroductions\nField Trial Gun Safety Program\nWhy are we here\nWhat we want to accomplish\nJob of interclub gun safety chair\nWhat we expect from you\nWhat you should take home from here\nTools of the trade\nGuns Shells Clothing\nDiscussion of Dale Luther’s Book\nCover all aspects of trial gunning\nTrial Logistics – demonstrate actual situations\nShooting zones\, distance measurements\nRun brace dogs and have gun participants shoot \nExplain situations\nDiscussion of specific situations\nNo Window shot\nCaptains – assistant captain\nSummary
URL:https://essft.com/event/field-trial-gunning-seminar-2/
CATEGORIES:Gunning Seminars
END:VEVENT
BEGIN:VEVENT
DTSTART;TZID=America/Chicago:20240713T000000
DTEND;TZID=America/Chicago:20240714T000000
DTSTAMP:20260421T163805
CREATED:20250614T165724Z
LAST-MODIFIED:20250614T165724Z
UID:10011236-1720828800-1720915200@essft.com
SUMMARY:Arctic Bird Dog Association Flushing Breed Hunt Test July 2024
DESCRIPTION:Entries Close: Monday\, July 1\, 2024 at 11:59 P.M. Eastern Time(ET) on Hunt Secretary.
URL:https://essft.com/event/arctic-bird-dog-association-flushing-breed-hunt-test-july-2024/
CATEGORIES:Hunt Tests
END:VEVENT
END:VCALENDAR