BEGIN:VCALENDAR
VERSION:2.0
PRODID:-//English Springer Spaniel Field Trials - ECPv6.15.20//NONSGML v1.0//EN
CALSCALE:GREGORIAN
METHOD:PUBLISH
X-WR-CALNAME:English Springer Spaniel Field Trials
X-ORIGINAL-URL:https://essft.com
X-WR-CALDESC:Events for English Springer Spaniel Field Trials
REFRESH-INTERVAL;VALUE=DURATION:PT1H
X-Robots-Tag:noindex
X-PUBLISHED-TTL:PT1H
BEGIN:VTIMEZONE
TZID:America/Chicago
BEGIN:DAYLIGHT
TZOFFSETFROM:-0600
TZOFFSETTO:-0500
TZNAME:CDT
DTSTART:20220313T080000
END:DAYLIGHT
BEGIN:STANDARD
TZOFFSETFROM:-0500
TZOFFSETTO:-0600
TZNAME:CST
DTSTART:20221106T070000
END:STANDARD
BEGIN:DAYLIGHT
TZOFFSETFROM:-0600
TZOFFSETTO:-0500
TZNAME:CDT
DTSTART:20230312T080000
END:DAYLIGHT
BEGIN:STANDARD
TZOFFSETFROM:-0500
TZOFFSETTO:-0600
TZNAME:CST
DTSTART:20231105T070000
END:STANDARD
BEGIN:DAYLIGHT
TZOFFSETFROM:-0600
TZOFFSETTO:-0500
TZNAME:CDT
DTSTART:20240310T080000
END:DAYLIGHT
BEGIN:STANDARD
TZOFFSETFROM:-0500
TZOFFSETTO:-0600
TZNAME:CST
DTSTART:20241103T070000
END:STANDARD
END:VTIMEZONE
BEGIN:VEVENT
DTSTART;TZID=America/Chicago:20230429T000000
DTEND;TZID=America/Chicago:20230430T000000
DTSTAMP:20260422T175430
CREATED:20250613T171824Z
LAST-MODIFIED:20250613T171824Z
UID:10010942-1682726400-1682812800@essft.com
SUMMARY:Northern Minnesota English Springer Spaniel Club
DESCRIPTION:Entries Close: Tuesday\, April 18\, 2023 11:59:59 PM Eastern Time(ET) on Hunt Secretary \nJudges: Mark Hairfield and Bob Iverson
URL:https://essft.com/event/northern-minnesota-english-springer-spaniel-club-7/
CATEGORIES:Field Trials - Mid West
ORGANIZER;CN="Sophie Haglin":MAILTO:mark@pineshadows.com
END:VEVENT
BEGIN:VEVENT
DTSTART;TZID=America/Chicago:20230424T000000
DTEND;TZID=America/Chicago:20230424T000000
DTSTAMP:20260422T175431
CREATED:20250613T171824Z
LAST-MODIFIED:20250613T171824Z
UID:10010941-1682294400-1682294400@essft.com
SUMMARY:Cocker Spaniel Hunting Enthusiasts of Southeastern Wisconsin Springer Trial
DESCRIPTION:Entries Close: Tuesday\, April 11\, 2023 11:59:59 PM Eastern Time(ET) on Hunt Secretary \nJudges: Jason Givens and Bob Merrill\n 
URL:https://essft.com/event/cocker-spaniel-hunting-enthusiasts-of-southeastern-wisconsin-springer-trial/
LOCATION:Oasis Game Farm\, New Glarus\, WI 53574\, USA\, New Glarus\, Wisconsin\, 53574\, United States
CATEGORIES:Field Trials - Mid West
GEO:42.837895;-89.729012
X-APPLE-STRUCTURED-LOCATION;VALUE=URI;X-ADDRESS=Oasis Game Farm New Glarus WI 53574 USA New Glarus Wisconsin 53574 United States;X-APPLE-RADIUS=500;X-TITLE=New Glarus\, WI 53574\, USA:geo:-89.729012,42.837895
END:VEVENT
BEGIN:VEVENT
DTSTART;TZID=America/Chicago:20230422T000000
DTEND;TZID=America/Chicago:20230423T000000
DTSTAMP:20260422T175431
CREATED:20250613T171823Z
LAST-MODIFIED:20250613T171823Z
UID:10010938-1682121600-1682208000@essft.com
SUMMARY:COCKER: ECSCA - Pine Bush\, New York Cocker Trial
DESCRIPTION:Entries Close: Tuesday\, April 11\, 2023 11:59:59 PM Eastern Time(ET) on Hunt Secretary \nJudges:  Larry Hansen and Walt Leytham
URL:https://essft.com/event/cocker-ecsca-pine-bush-new-york-cocker-trial/
CATEGORIES:Cocker Trial
END:VEVENT
BEGIN:VEVENT
DTSTART;TZID=America/Chicago:20230422T000000
DTEND;TZID=America/Chicago:20230423T000000
DTSTAMP:20260422T175431
CREATED:20250613T171823Z
LAST-MODIFIED:20250613T171823Z
UID:10010939-1682121600-1682208000@essft.com
SUMMARY:Rogue Valley Sporting Spaniel Hunt Test April 2023
DESCRIPTION:Entries Close: Tuesday\, April 11\, 2023 11:59:59 PM Eastern Time(ET) on Hunt Secretary
URL:https://essft.com/event/rogue-valley-sporting-spaniel-hunt-test-april-2023/
CATEGORIES:Hunt Tests
END:VEVENT
BEGIN:VEVENT
DTSTART;TZID=America/Chicago:20230422T000000
DTEND;TZID=America/Chicago:20230423T000000
DTSTAMP:20260422T175431
CREATED:20250613T171823Z
LAST-MODIFIED:20250613T171823Z
UID:10010940-1682121600-1682208000@essft.com
SUMMARY:Missouri Hunting Spaniel Club 2023 Spring Hunt Test
DESCRIPTION:Entries Close: Tuesday\, April 11\, 2023 11:59:59 PM Eastern Time(ET) on Hunt Secretary \n 
URL:https://essft.com/event/missouri-hunting-spaniel-club-2023-spring-hunt-test/
CATEGORIES:Hunt Tests
END:VEVENT
BEGIN:VEVENT
DTSTART;TZID=America/Chicago:20230422T000000
DTEND;TZID=America/Chicago:20230423T000000
DTSTAMP:20260422T175431
CREATED:20250613T171809Z
LAST-MODIFIED:20250613T171809Z
UID:10010934-1682121600-1682208000@essft.com
SUMMARY:St. Croix Valley Spaniel Club
DESCRIPTION:St. Croix Valley has changed the location of the Spring trial to Al Groslands property\, 2990 133rd St SW\, Ellendale\, MN. It is located between Austin & Owatonna. We are still gathering hotel information & will post that in the next few days. Some club members were at that field last summer as a consideration for the nationals. Some rye was found & the seed heads were picked. Any questions can be directed to the Trial Chair Rick Radtke 763-516-3821 or Trial Secretary Deb Livingston 763-422-8044. \n  \n  \nEntries Close: Tuesday\, April 11\, 2023 11:59:59 PM Eastern Time(ET) on Hunt Secretary \nJudges: Todd Agnew and Mike McGinty
URL:https://essft.com/event/st-croix-valley-spaniel-club-13/
CATEGORIES:Field Trials - Mid West
END:VEVENT
BEGIN:VEVENT
DTSTART;TZID=America/Chicago:20230422T000000
DTEND;TZID=America/Chicago:20230423T000000
DTSTAMP:20260422T175431
CREATED:20250613T171809Z
LAST-MODIFIED:20250613T171809Z
UID:10010935-1682121600-1682208000@essft.com
SUMMARY:COCKER: Central Wisconsin Sporting Spaniel Club
DESCRIPTION:Entries Close: Tuesday\, April 11\, 2023 11:59:59 PM Eastern Time(ET)  on Hunt Secretary  \nJudges:  Dean Koehler and Bill Boeckman
URL:https://essft.com/event/cocker-central-wisconsin-sporting-spaniel-club-4/
LOCATION:Oasis Game Farm\, New Glarus\, WI 53574\, USA\, New Glarus\, Wisconsin\, 53574\, United States
CATEGORIES:Cocker Trial
GEO:42.837895;-89.729012
X-APPLE-STRUCTURED-LOCATION;VALUE=URI;X-ADDRESS=Oasis Game Farm New Glarus WI 53574 USA New Glarus Wisconsin 53574 United States;X-APPLE-RADIUS=500;X-TITLE=New Glarus\, WI 53574\, USA:geo:-89.729012,42.837895
END:VEVENT
BEGIN:VEVENT
DTSTART;TZID=America/Chicago:20230422T000000
DTEND;TZID=America/Chicago:20230423T000000
DTSTAMP:20260422T175431
CREATED:20250613T171809Z
LAST-MODIFIED:20250613T171809Z
UID:10010936-1682121600-1682208000@essft.com
SUMMARY:COCKER:  Lewis and Clark Spaniel Association
DESCRIPTION:Entries: TBD \nJudges:  Vicky Thomas and Paul McGagh
URL:https://essft.com/event/cocker-lewis-and-clark-spaniel-association-2/
CATEGORIES:Cocker Trial
END:VEVENT
BEGIN:VEVENT
DTSTART;TZID=America/Chicago:20230422T000000
DTEND;TZID=America/Chicago:20230423T000000
DTSTAMP:20260422T175431
CREATED:20250613T171809Z
LAST-MODIFIED:20250613T171809Z
UID:10010937-1682121600-1682208000@essft.com
SUMMARY:Southern California Sporting Spaniel Club Spring 2023 Hunt Test
DESCRIPTION:Entries Close: Tuesday\, April 11\, 2023 11:59:59 PM Eastern Time(ET) on Hunt Secretary
URL:https://essft.com/event/southern-california-sporting-spaniel-club-spring-2023-hunt-test/
CATEGORIES:Hunt Tests
END:VEVENT
BEGIN:VEVENT
DTSTART;TZID=America/Chicago:20230422T000000
DTEND;TZID=America/Chicago:20230423T000000
DTSTAMP:20260422T175431
CREATED:20250613T171808Z
LAST-MODIFIED:20250613T171808Z
UID:10010933-1682121600-1682208000@essft.com
SUMMARY:2023 AWSC INC. Spring Spaniel Hunt Test
DESCRIPTION:Judges: John Dudash & Mark Gebert\nEntries Close: Tuesday\, April 11\, 2023 11:59:59 PM Eastern Time(ET) on Hunt Secretary
URL:https://essft.com/event/2023-awsc-inc-spring-spaniel-hunt-test/
CATEGORIES:Hunt Tests
END:VEVENT
BEGIN:VEVENT
DTSTART;TZID=America/Chicago:20230415T000000
DTEND;TZID=America/Chicago:20230416T000000
DTSTAMP:20260422T175431
CREATED:20250613T165759Z
LAST-MODIFIED:20250613T165759Z
UID:10010930-1681516800-1681603200@essft.com
SUMMARY:COCKER & WATER: Green Valley Spaniel Club
DESCRIPTION:Entries Close: Tuesday\, April 4\, 2023 11:59:59 PM Eastern Time(ET) on Hunt Secretary  \nJudges:  Steve Bender and Don Mock\n\n		\n			\n			\n		\n\n		\n  \n 
URL:https://essft.com/event/cocker-water-green-valley-spaniel-club/
CATEGORIES:Cocker Trial
END:VEVENT
BEGIN:VEVENT
DTSTART;TZID=America/Chicago:20230415T000000
DTEND;TZID=America/Chicago:20230416T000000
DTSTAMP:20260422T175431
CREATED:20250613T165759Z
LAST-MODIFIED:20250613T165759Z
UID:10010931-1681516800-1681603200@essft.com
SUMMARY:Springer Spaniel Club of Central Kansas Hunt Test
DESCRIPTION:Entries Close: Tuesday\, April 4\, 2023 11:59:59 PM Eastern Time(ET) on Hunt Secretary \n 
URL:https://essft.com/event/springer-spaniel-club-of-central-kansas-hunt-test-2/
CATEGORIES:Hunt Tests
END:VEVENT
BEGIN:VEVENT
DTSTART;TZID=America/Chicago:20230415T000000
DTEND;TZID=America/Chicago:20230416T000000
DTSTAMP:20260422T175431
CREATED:20250613T165759Z
LAST-MODIFIED:20250613T165759Z
UID:10010929-1681516800-1681603200@essft.com
SUMMARY:Minnesota English Springer Spaniel Club
DESCRIPTION:Lunch will be available on Saturday\, April 15th!\nThe land owner will be hosting a pig roast and serving pulled pork sandwiches.\nCost: TBD\n \n\nThe Minnesota English Springer Spaniel Club’s Spring trial venue has changed.  It is now at the following location:\n\nSouthland Sportsman Club property located at 62761 130th street Adams\, MN 55909\n\nThe grounds are South across from the grounds of this weekend’s Heartland trial.  Hotels have also changed.\n  \nEntries Close: Tuesday\, April 4\, 2023 11:59:59 PM Eastern Time(ET) on Hunt Secretary \nJudges:  Dan Murray and Pete Andersen
URL:https://essft.com/event/minnesota-english-springer-spaniel-club-12/
CATEGORIES:Field Trials - Mid West
END:VEVENT
BEGIN:VEVENT
DTSTART;TZID=America/Chicago:20230415T000000
DTEND;TZID=America/Chicago:20230416T000000
DTSTAMP:20260422T175431
CREATED:20250613T165758Z
LAST-MODIFIED:20250613T165758Z
UID:10010928-1681516800-1681603200@essft.com
SUMMARY:Western Washington English Springer Spaniel Club
DESCRIPTION:Entries Close: Tuesday\, April 4\, 2023 11:59:59 PM Eastern Time(ET) on Hunt Secretary \nJudges:  Gary Brietbarth and Rick Shively\n\n		\n			\n			\n		\n\n		\n 
URL:https://essft.com/event/western-washington-english-springer-spaniel-club-4/
CATEGORIES:Field Trials - West
ORGANIZER;CN="Kathy Stermolle":MAILTO:stermolle@yahoo.com
END:VEVENT
BEGIN:VEVENT
DTSTART;TZID=America/Chicago:20230415T000000
DTEND;TZID=America/Chicago:20230415T000000
DTSTAMP:20260422T175431
CREATED:20250613T165759Z
LAST-MODIFIED:20250613T165759Z
UID:10010932-1681516800-1681516800@essft.com
SUMMARY:COCKER: Western Washington English Springer Spaniel Club Spring 2023 COCKER WATER TEST
DESCRIPTION:American Kennel Club Spaniel Field Trial \nSaturday April 15\, 2023 (Event# : 2023369609) \nHunt Location:\nScatter Creek WDFW North Unit\nRochester\, WA \nEntries Close: Tuesday\, April 4\, 2023 11:59:59 PM Eastern Time(ET) \nWestern Washington English Springer Spaniel Club\nwww.wwessc.org/ \nOPEN TO COCKERS AND ENGLISH COCKER SPANIELS\nThis Spaniel Field Trial is held under the Rules and Procedures of the American Kennel Club. \n\n\n\n\n\n\n\nHunt Schedule & Entry Fees: Saturday April 15\, 2023 (AM)\n\n\nCategory\nEntries\nFee\nStart\nJudges *Denotes Apprentice/Grandfather judge\n\n\nWater Test \n1\n$50\nafter Springer Open\nGary Brietbarth\nRick Shively\n\n\n\n\n\n\n\n\n\n\n\n\n\nIf you feel you entered a hunt and it does not reflect your entry\, please contact akcdiv@huntsecretary.com\n \n \n\n\n\n\nCurrent Status: CLOSED \nView Premium \nPlease note before entering your dogs: The HANDLER information must be entered under your dog’s information prior to entering an event.  This will make the entry process go smoother.  On the handler page you will see an dropdown box that will have the handlers you listed under your dogs.\n\n\n\n\n\n\n\nView Running Order
URL:https://essft.com/event/cocker-western-washington-english-springer-spaniel-club-spring-2023-cocker-water-test/
LOCATION:Scatter Creek WDFW North Unit\, Rochester\, WA 98579\, USA\, Rochester\, Washington\, 98579\, United States
CATEGORIES:Water Test
GEO:46.828064;-123.07553
X-APPLE-STRUCTURED-LOCATION;VALUE=URI;X-ADDRESS=Scatter Creek WDFW North Unit Rochester WA 98579 USA Rochester Washington 98579 United States;X-APPLE-RADIUS=500;X-TITLE=Rochester\, WA 98579\, USA:geo:-123.07553,46.828064
END:VEVENT
BEGIN:VEVENT
DTSTART;TZID=America/Chicago:20230409T000000
DTEND;TZID=America/Chicago:20230409T000000
DTSTAMP:20260422T175431
CREATED:20250613T165558Z
LAST-MODIFIED:20250613T165558Z
UID:10010927-1680998400-1680998400@essft.com
SUMMARY:Easter
DESCRIPTION:
URL:https://essft.com/event/easter-4/
CATEGORIES:Holidays
END:VEVENT
BEGIN:VEVENT
DTSTART;TZID=America/Chicago:20230408T000000
DTEND;TZID=America/Chicago:20230408T000000
DTSTAMP:20260422T175431
CREATED:20250613T165558Z
LAST-MODIFIED:20250613T165558Z
UID:10010926-1680912000-1680912000@essft.com
SUMMARY:Clumber Spaniel Club of America National Spring Hunt Test 2023
DESCRIPTION:American Kennel Club Spaniel Hunt Test \nSaturday April 8\, 2023 (Event# : 2023131137) \nHunt Location:\nElk Ridge Hunt Club\nBucyrus\, OH \nEntries Close: Tuesday\, March 28\, 2023 11:59:59 PM Eastern Time(ET) \nClumber Spaniel Club of America\nwww.clumbers.org \nPREFERENCE TO CLUMBER SPANIELS – OPEN TO SPANIELS/RETRIEVERS\nWhen the limit is reached\, a maintained wait list will be available. However\, if a person wants to enter their Clumber Spaniel in this event\, CSCA holds the right to bump the last entered non-Clumber Spaniel to the wait list. \nIf the event is full\, please contact HuntSecretary.com if you have an Clumber Spaniel you want to enter. \nThis Spaniel Hunt Test is held under the Rules and Procedures of the American Kennel Club. \nEligible Breeds for Spaniel Hunting Tests: Airedale Terriers\, American Water Spaniels\, Boykin Spaniels\, Chesapeake Bay Retrievers\, Clumber Spaniels\, Cocker Spaniels\, Curly-Coated Retrievers\, English Cocker Spaniels\, English Springer Spaniels\,Field Spaniels\, Flat-Coated Retrievers\, Golden Retrievers\, Irish Water Spaniels\, Labrador Retrievers\, Nederlandse Kooikerhondje\, Nova Scotia Duck Tolling Retrievers\, Poodles – Standard and Miniature\, Sussex Spaniels\, and Welsh Springer Spaniels.\nAll dogs must be six months of age or over on the day of the Hunting Test. \n\n\n\n\n\n\n\nHunt Schedule & Entry Fees: Saturday April 8\, 2023 (AM)\n\n\nCategory\nEntries\nFee\nStart\nJudges *Denotes Apprentice/Grandfather judge\n\n\nMaster \n7**\n$75\n8 AM\nBrent LeMaster\nPaul Morrison\n\n\n\nSenior \n6**\n$75\n8 AM\nBrent LeMaster\nPaul Morrison\n\n\n\nJunior \n6**\n$70\n8 AM\nBrent LeMaster\nPaul Morrison\n\n\n\n\nTotal Above Entries: 19\n\n\n\n\n\n\n\n\nIf you feel you entered a hunt and it does not reflect your entry\, please contact akcdiv@huntsecretary.com\nPlease read about the new wait list feature or contact us if you would like to ADD a dog to the WAIT LIST.\n  \n\n\n\n\n**EVENT LIMIT INFORMATION\n\n\n\n1st Event Day (2023131137) will be considered FULL when the TOTAL number of the entries in ALL Stakes for that day reach 30. \n\n\n\n\n\n\n\n\nCurrent Status: CLOSED \nView Premium \nPlease note before entering your dogs: The HANDLER information must be entered under your dog’s information prior to entering an event.  This will make the entry process go smoother.  On the handler page you will see an dropdown box that will have the handlers you listed under your dogs.\n\n\n\n\n\n\n\nView Running Order
URL:https://essft.com/event/clumber-spaniel-club-of-america-national-spring-hunt-test-2023/
CATEGORIES:Hunt Tests
END:VEVENT
BEGIN:VEVENT
DTSTART;TZID=America/Chicago:20230407T000000
DTEND;TZID=America/Chicago:20230408T000000
DTSTAMP:20260422T175431
CREATED:20250613T165558Z
LAST-MODIFIED:20250613T165558Z
UID:10010924-1680825600-1680912000@essft.com
SUMMARY:Central Wisconsin Sporting Spaniel Club (Fri-Sat)
DESCRIPTION:Entries Close: Monday\, March 27\, 2023 11:59:59 PM Eastern Time(ET) on Hunt Secretary \nJudges:  Dan Murray and Bob Davis
URL:https://essft.com/event/central-wisconsin-sporting-spaniel-club-fri-sat/
LOCATION:Oasis Game Farm\, New Glarus\, WI 53574\, USA\, New Glarus\, Wisconsin\, 53574\, United States
CATEGORIES:Field Trials - Mid West
GEO:42.837895;-89.729012
X-APPLE-STRUCTURED-LOCATION;VALUE=URI;X-ADDRESS=Oasis Game Farm New Glarus WI 53574 USA New Glarus Wisconsin 53574 United States;X-APPLE-RADIUS=500;X-TITLE=New Glarus\, WI 53574\, USA:geo:-89.729012,42.837895
END:VEVENT
BEGIN:VEVENT
DTSTART;TZID=America/Chicago:20230407T000000
DTEND;TZID=America/Chicago:20230408T000000
DTSTAMP:20260422T175431
CREATED:20250613T165558Z
LAST-MODIFIED:20250613T165558Z
UID:10010925-1680825600-1680912000@essft.com
SUMMARY:Timpanogos Hunting Spaniel Club
DESCRIPTION:Entries: TBD \nJudges: TBD \nStand by for more information.
URL:https://essft.com/event/timpanogos-hunting-spaniel-club-19/
CATEGORIES:Field Trials - West
END:VEVENT
BEGIN:VEVENT
DTSTART;TZID=America/Chicago:20230401T000000
DTEND;TZID=America/Chicago:20230402T000000
DTSTAMP:20260422T175431
CREATED:20250613T165558Z
LAST-MODIFIED:20250613T165558Z
UID:10010923-1680307200-1680393600@essft.com
SUMMARY:Fox Valley English Cocker Club Spring 2023 Cocker Field Trial (Double Op/Am/Puppy)
DESCRIPTION:Entries Close: Tuesday\, March 21\, 2023 11:59:59 PM Eastern Time(ET) on Hunt Secretary \nJudges:  Dave Anderson and Donald Brunn \n 
URL:https://essft.com/event/fox-valley-english-cocker-club-spring-2023-cocker-field-trial-double-op-am-puppy/
LOCATION:Connolly Game Farm\, Reedsville\, WI 54230\, USA\, Reedsville\, Wisconsin\, 54230\, United States
CATEGORIES:Cocker Trial
GEO:44.153604;-87.956762
X-APPLE-STRUCTURED-LOCATION;VALUE=URI;X-ADDRESS=Connolly Game Farm Reedsville WI 54230 USA Reedsville Wisconsin 54230 United States;X-APPLE-RADIUS=500;X-TITLE=Reedsville\, WI 54230\, USA:geo:-87.956762,44.153604
END:VEVENT
BEGIN:VEVENT
DTSTART;TZID=America/Chicago:20230401T000000
DTEND;TZID=America/Chicago:20230402T000000
DTSTAMP:20260422T175431
CREATED:20250613T165357Z
LAST-MODIFIED:20250613T165357Z
UID:10010922-1680307200-1680393600@essft.com
SUMMARY:Ohio Valley ESS Club
DESCRIPTION:Entries Close: Monday\, March 27\, 2023 11:59:59 PM Eastern Time(ET) on Hunt Secretary \nJudges:  Pat Berry and Don Maue \n\n		\n			\n			\n		\n\n		\n 
URL:https://essft.com/event/ohio-valley-ess-club-9/
LOCATION:Elk Ridge Game Farm\, 5146 OH-96\, Bucyrus\, OH 44820\, USA\, Bucyrus\, Ohio\, 44820\, United States
CATEGORIES:Field Trials - Mid East
END:VEVENT
BEGIN:VEVENT
DTSTART;TZID=America/Chicago:20230401T000000
DTEND;TZID=America/Chicago:20230402T000000
DTSTAMP:20260422T175431
CREATED:20250613T165357Z
LAST-MODIFIED:20250613T165357Z
UID:10010921-1680307200-1680393600@essft.com
SUMMARY:Minnesota Heartland English Springer Spaniel Club
DESCRIPTION:NEW GROUNDS! Todd McCabe Farm 62918 130th St\nAdams\, MN 55909\, MN\nEntries Close: Tuesday\, March 21\, 2023 11:59:59 PM Eastern Time(ET) on Hunt Secretary \nJudges:  Gary Davis and Deborah Olszewski
URL:https://essft.com/event/minnesota-heartland-english-springer-spaniel-club-5/
CATEGORIES:Field Trials - Mid West
END:VEVENT
BEGIN:VEVENT
DTSTART;TZID=America/Chicago:20230331T000000
DTEND;TZID=America/Chicago:20230402T000000
DTSTAMP:20260422T175431
CREATED:20250613T165357Z
LAST-MODIFIED:20250613T165357Z
UID:10010919-1680220800-1680393600@essft.com
SUMMARY:A Three-day Spaniel Training Seminar! March 31\, April 1 & 2\, 2023
DESCRIPTION:
URL:https://essft.com/event/a-three-day-spaniel-training-seminar-march-31-april-1-2-2023/
CATEGORIES:Training Seminar
END:VEVENT
BEGIN:VEVENT
DTSTART;TZID=America/Chicago:20230331T000000
DTEND;TZID=America/Chicago:20230401T000000
DTSTAMP:20260422T175431
CREATED:20250613T165357Z
LAST-MODIFIED:20250613T165357Z
UID:10010920-1680220800-1680307200@essft.com
SUMMARY:Timpanogos Hunting Spaniel Club Event COCKER Field Trial April 202
DESCRIPTION:Entries Close: Monday\, March 20\, 2023 11:59:59 PM Eastern Time(ET) on Hunt Secretary \nJudges: Kathy Nestor and Cristy Joy
URL:https://essft.com/event/timpanogos-hunting-spaniel-club-event-cocker-field-trial-april-202/
LOCATION:Lee Kay Wildlife Management Area\, 6000 2100 S\, Salt Lake City\, UT 84128\, USA\, Salt Lake City\, Utah\, 84128\, United States
CATEGORIES:Cocker Trial
GEO:40.728588;-112.02523
X-APPLE-STRUCTURED-LOCATION;VALUE=URI;X-ADDRESS=Lee Kay Wildlife Management Area 6000 2100 S Salt Lake City UT 84128 USA Salt Lake City Utah 84128 United States;X-APPLE-RADIUS=500;X-TITLE=6000 2100 S\, Salt Lake City\, UT 84128\, USA:geo:-112.02523,40.728588
END:VEVENT
BEGIN:VEVENT
DTSTART;TZID=America/Chicago:20230331T000000
DTEND;TZID=America/Chicago:20230401T000000
DTSTAMP:20260422T175431
CREATED:20250613T165356Z
LAST-MODIFIED:20250613T165356Z
UID:10010918-1680220800-1680307200@essft.com
SUMMARY:Timpanogos Hunting Spaniel Club
DESCRIPTION:Entries Close: Monday\, March 20\, 2023 11:59:59 PM Eastern Time(ET) on Hunt Secretary \nJudges: Kathy Nestor and Cristy Joy
URL:https://essft.com/event/timpanogos-hunting-spaniel-club-18/
LOCATION:Lee Kay Wildlife Management Area\, 6000 2100 S\, Salt Lake City\, UT 84128\, USA\, Salt Lake City\, Utah\, 84128\, United States
CATEGORIES:Field Trials - West
GEO:40.728588;-112.02523
X-APPLE-STRUCTURED-LOCATION;VALUE=URI;X-ADDRESS=Lee Kay Wildlife Management Area 6000 2100 S Salt Lake City UT 84128 USA Salt Lake City Utah 84128 United States;X-APPLE-RADIUS=500;X-TITLE=6000 2100 S\, Salt Lake City\, UT 84128\, USA:geo:-112.02523,40.728588
END:VEVENT
BEGIN:VEVENT
DTSTART;TZID=America/Chicago:20230325T000000
DTEND;TZID=America/Chicago:20230326T000000
DTSTAMP:20260422T175431
CREATED:20250613T165156Z
LAST-MODIFIED:20250613T165156Z
UID:10010915-1679702400-1679788800@essft.com
SUMMARY:ESSC of Eastern Nebraska
DESCRIPTION:Entries Close: Tuesday\, March 14\, 2023 11:59:59 PM Eastern Time(ET) on Hunt Secretary \nJudges: George Akkouris and David Jones\n\n		\n			\n			\n		\n\n		\n 
URL:https://essft.com/event/essc-of-eastern-nebraska-5/
CATEGORIES:Field Trials - Rocky Mountain
END:VEVENT
BEGIN:VEVENT
DTSTART;TZID=America/Chicago:20230325T000000
DTEND;TZID=America/Chicago:20230326T000000
DTSTAMP:20260422T175431
CREATED:20250613T165156Z
LAST-MODIFIED:20250613T165156Z
UID:10010916-1679702400-1679788800@essft.com
SUMMARY:Susquehanna Valley ESSC Spring Field Trial 2023
DESCRIPTION:Entries Close: Tuesday\, March 14\, 2023 11:59:59 PM Eastern Time(ET) on Hunt Secretary \nJudges:  John Bruggeman and Mark Matthiesen \n 
URL:https://essft.com/event/susquehanna-valley-essc-spring-field-trial-2023/
LOCATION:Sinking Valley\, Tyrone\, PA 16686\, USA\, Tyrone\, Pennsylvania\, 16686\, United States
CATEGORIES:Field Trials - Mid East
GEO:40.670618;-78.238624
X-APPLE-STRUCTURED-LOCATION;VALUE=URI;X-ADDRESS=Sinking Valley Tyrone PA 16686 USA Tyrone Pennsylvania 16686 United States;X-APPLE-RADIUS=500;X-TITLE=Tyrone\, PA 16686\, USA:geo:-78.238624,40.670618
END:VEVENT
BEGIN:VEVENT
DTSTART;TZID=America/Chicago:20230325T000000
DTEND;TZID=America/Chicago:20230326T000000
DTSTAMP:20260422T175431
CREATED:20250613T165156Z
LAST-MODIFIED:20250613T165156Z
UID:10010917-1679702400-1679788800@essft.com
SUMMARY:Southern Wisconsin Sporting Spaniel Club
DESCRIPTION:Stand by for more information…
URL:https://essft.com/event/southern-wisconsin-sporting-spaniel-club-11/
CATEGORIES:Field Trials - Mid West
END:VEVENT
BEGIN:VEVENT
DTSTART;TZID=America/Chicago:20230324T000000
DTEND;TZID=America/Chicago:20230325T000000
DTSTAMP:20260422T175431
CREATED:20250613T165156Z
LAST-MODIFIED:20250613T165156Z
UID:10010914-1679616000-1679702400@essft.com
SUMMARY:Utah Springer Spaniel Club
DESCRIPTION:Entries Close: Monday\, March 13\, 2023 11:59:59 PM Eastern Time(ET) on Hunt Secretary \nJudges: Mark Haglin and Ryan Lamberg
URL:https://essft.com/event/utah-springer-spaniel-club-20/
CATEGORIES:Field Trials - West
END:VEVENT
BEGIN:VEVENT
DTSTART;TZID=America/Chicago:20230323T000000
DTEND;TZID=America/Chicago:20230324T000000
DTSTAMP:20260422T175431
CREATED:20250613T165156Z
LAST-MODIFIED:20250613T165156Z
UID:10010913-1679529600-1679616000@essft.com
SUMMARY:Platte River English Springer Spaniel Field Trial March 2023
DESCRIPTION:Entries Close: Monday\, March 13\, 2023 11:59:59 PM Eastern Time(ET) on Hunt Secretary \nJudges: Jim O’Keefe and Katie Gorecki
URL:https://essft.com/event/platte-river-english-springer-spaniel-field-trial-march-2023/
CATEGORIES:Field Trials - Rocky Mountain
END:VEVENT
END:VCALENDAR