BEGIN:VCALENDAR
VERSION:2.0
PRODID:-//English Springer Spaniel Field Trials - ECPv6.15.20//NONSGML v1.0//EN
CALSCALE:GREGORIAN
METHOD:PUBLISH
X-WR-CALNAME:English Springer Spaniel Field Trials
X-ORIGINAL-URL:https://essft.com
X-WR-CALDESC:Events for English Springer Spaniel Field Trials
REFRESH-INTERVAL;VALUE=DURATION:PT1H
X-Robots-Tag:noindex
X-PUBLISHED-TTL:PT1H
BEGIN:VTIMEZONE
TZID:America/Chicago
BEGIN:DAYLIGHT
TZOFFSETFROM:-0600
TZOFFSETTO:-0500
TZNAME:CDT
DTSTART:20240310T080000
END:DAYLIGHT
BEGIN:STANDARD
TZOFFSETFROM:-0500
TZOFFSETTO:-0600
TZNAME:CST
DTSTART:20241103T070000
END:STANDARD
BEGIN:DAYLIGHT
TZOFFSETFROM:-0600
TZOFFSETTO:-0500
TZNAME:CDT
DTSTART:20250309T080000
END:DAYLIGHT
BEGIN:STANDARD
TZOFFSETFROM:-0500
TZOFFSETTO:-0600
TZNAME:CST
DTSTART:20251102T070000
END:STANDARD
BEGIN:DAYLIGHT
TZOFFSETFROM:-0600
TZOFFSETTO:-0500
TZNAME:CDT
DTSTART:20260308T080000
END:DAYLIGHT
BEGIN:STANDARD
TZOFFSETFROM:-0500
TZOFFSETTO:-0600
TZNAME:CST
DTSTART:20261101T070000
END:STANDARD
END:VTIMEZONE
BEGIN:VEVENT
DTSTART;VALUE=DATE:20250920
DTEND;VALUE=DATE:20250922
DTSTAMP:20260421T201204
CREATED:20250614T194139Z
LAST-MODIFIED:20250912T024624Z
UID:10011535-1758326400-1758499199@essft.com
SUMMARY:Patriot Sporting Spaniel Club's Cocker Field Trial
DESCRIPTION:Entries Close: Tuesday\, September 9\, 2025 11:59:59 PM Eastern Time(ET) on Hunt Secretary.
URL:https://essft.com/event/patriot-sporting-spaniel-clubs-cocker-field-trial/
LOCATION:North Conway Water Precinct Hussey Well Field behind 1785 North Conway\, NH\, North Conway Water Precinct Hussey Well Field behind 1785 North Conway\, NH
CATEGORIES:Cocker Trial
ORGANIZER;CN="Jack Klette":MAILTO:klette@verizon.net
END:VEVENT
BEGIN:VEVENT
DTSTART;VALUE=DATE:20250920
DTEND;VALUE=DATE:20250922
DTSTAMP:20260421T201204
CREATED:20250714T010704Z
LAST-MODIFIED:20250912T025107Z
UID:10011659-1758326400-1758499199@essft.com
SUMMARY:Southern Tier Field Trial Assn. Field Trial September 2025
DESCRIPTION:Entries Close: Tuesday\, September 9\, 2025 11:59:59 PM Eastern Time(ET) on Hunt Secretary
URL:https://essft.com/event/southern-tier-field-trial-assn-field-trial-september-2025/
LOCATION:Richard Stewart Farm\, Canisteo\, NY\, Event Location: Richard Stewart Farm Canisteo\, NY\, Canisteo\, NY\, United States
CATEGORIES:Field Trials - East
ORGANIZER;CN="Cindy Goode-Wilson":MAILTO:sunriseess@wildblue.net
GEO:42.241749;-77.539013
X-APPLE-STRUCTURED-LOCATION;VALUE=URI;X-ADDRESS=Richard Stewart Farm Canisteo NY Event Location: Richard Stewart Farm Canisteo NY Canisteo NY United States;X-APPLE-RADIUS=500;X-TITLE=Event Location: Richard Stewart Farm Canisteo\, NY:geo:-77.539013,42.241749
END:VEVENT
BEGIN:VEVENT
DTSTART;VALUE=DATE:20250920
DTEND;VALUE=DATE:20250922
DTSTAMP:20260421T201204
CREATED:20250831T040503Z
LAST-MODIFIED:20250831T040503Z
UID:10011709-1758326400-1758499199@essft.com
SUMMARY:Minnesota Hunting Spaniel Association Cocker
DESCRIPTION:Entries Close: Tuesday\, September 9\, 2025 11:59:59 PM Eastern Time(ET) on Hunt Secretary. \n\n		\n			\n			\n		\n\n		re
URL:https://essft.com/event/minnesota-hunting-spaniel-association-cocker/
LOCATION:Osseo\, WI Osseo\, WI\, Osseo\, WI Osseo\, WI
CATEGORIES:Cocker Trial
ORGANIZER;CN="Bethann Wiley":MAILTO:bethannwiley@yahoo.com
END:VEVENT
BEGIN:VEVENT
DTSTART;VALUE=DATE:20250920
DTEND;VALUE=DATE:20250922
DTSTAMP:20260421T201204
CREATED:20250831T041235Z
LAST-MODIFIED:20250912T025316Z
UID:10011710-1758326400-1758499199@essft.com
SUMMARY:Pittsburgh Springer Fall Trial
DESCRIPTION:Entries Close: Tuesday\, September 9\, 2025 11:59:59 PM Eastern Time(ET) on Hunt Secretary.
URL:https://essft.com/event/pittsburgh-springer-fall-trial/
LOCATION:PESSFTC Grounds Bulger\, PA\, PESSFTC Grounds Bulger\, PA
CATEGORIES:Field Trials - Mid East
ORGANIZER;CN="Wendy Smith":MAILTO:pittsburghhuntingspaniels@yahoo.com
END:VEVENT
BEGIN:VEVENT
DTSTART;VALUE=DATE:20250922
DTEND;VALUE=DATE:20250924
DTSTAMP:20260421T201204
CREATED:20250819T015931Z
LAST-MODIFIED:20250819T020236Z
UID:10011686-1758499200-1758671999@essft.com
SUMMARY:Pittsburgh Cocker Fall Trial
DESCRIPTION:Entries Close: Tuesday\, September 9\, 2025 11:59:59 PM Eastern Time(ET) on Hunt Secretary.
URL:https://essft.com/event/pittsburgh-cocker-fall-trial/
LOCATION:PESSFTC Grounds Bulger\, PA\, PESSFTC Grounds Bulger\, PA
CATEGORIES:Cocker Trial
ORGANIZER;CN="Wendy Smith":MAILTO:pittsburghhuntingspaniels@yahoo.com
END:VEVENT
BEGIN:VEVENT
DTSTART;VALUE=DATE:20250925
DTEND;VALUE=DATE:20250927
DTSTAMP:20260421T201204
CREATED:20250819T021335Z
LAST-MODIFIED:20250819T021335Z
UID:10011687-1758758400-1758931199@essft.com
SUMMARY:Iowa Sporting Spaniel Club SPRINGER Field Trial
DESCRIPTION:Entries Close: Monday\, September 15\, 2025 11:59:59 PM Eastern Time(ET) on Hunt Secretary.
URL:https://essft.com/event/iowa-sporting-spaniel-club-springer-field-trial/
LOCATION:Wilcox Wildlife Preserve Bussey\, IA\, Wilcox Wildlife Preserve Bussey\, IA
CATEGORIES:Field Trials - Mid West
ORGANIZER;CN="Holly Boggess":MAILTO:hollymboggess@gmail.com
END:VEVENT
BEGIN:VEVENT
DTSTART;VALUE=DATE:20250926
DTEND;VALUE=DATE:20250929
DTSTAMP:20260421T201204
CREATED:20250823T034646Z
LAST-MODIFIED:20250912T162953Z
UID:10011690-1758844800-1759103999@essft.com
SUMMARY:Bushy Hill FTA Field Trial and Water Test
DESCRIPTION:Entries Close: Tuesday\, September 16\, 2025 11:59:59 PM Eastern Time(ET) on Hunt Secretary.
URL:https://essft.com/event/bushy-hill-fta-field-trial-and-water-test-2/
LOCATION:5683 Oak Hill Road Bath\, NY\, 5683 Oak Hill Road Bath\, NY
CATEGORIES:Field Trials - East,Water Test
ORGANIZER;CN="Suzanne Smith":MAILTO:scsmith227@gmail.com
END:VEVENT
BEGIN:VEVENT
DTSTART;VALUE=DATE:20250927
DTEND;VALUE=DATE:20250928
DTSTAMP:20260421T201204
CREATED:20250819T023241Z
LAST-MODIFIED:20250912T030337Z
UID:10011689-1758931200-1759017599@essft.com
SUMMARY:Great Lakes American Water Spaniel Club Hunt Test
DESCRIPTION:Entries Close: Tuesday\, September 16\, 2025 11:59:59 PM Eastern Time(ET) on Hunt Secretary.
URL:https://essft.com/event/great-lakes-american-water-spaniel-club-hunt-test/
LOCATION:Cohoctah Meadows Howell\, MI\, Cohoctah Meadows Howell\, MI
CATEGORIES:Hunt Tests
ORGANIZER;CN="Sandy Collins":MAILTO:collins1923@att.net
END:VEVENT
BEGIN:VEVENT
DTSTART;VALUE=DATE:20250927
DTEND;VALUE=DATE:20250929
DTSTAMP:20260421T201204
CREATED:20250614T194139Z
LAST-MODIFIED:20250823T031919Z
UID:10011537-1758931200-1759103999@essft.com
SUMMARY:Northwest English Springer Spaniel Club Fall Field Trial
DESCRIPTION:Entries Close: Tuesday\, September 16\, 2025 11:59:59 PM Eastern Time(ET) on Hunt Secretary.
URL:https://essft.com/event/northwest-hunting-spaniel-club-nwess/
LOCATION:The Silver Star Farm Harrisburg\, OR\, The Silver Star Farm Harrisburg\, OR
CATEGORIES:Field Trials - West
ORGANIZER;CN="Jan Johnson":MAILTO:jjohn@onlinenw.com
END:VEVENT
BEGIN:VEVENT
DTSTART;VALUE=DATE:20250927
DTEND;VALUE=DATE:20250929
DTSTAMP:20260421T201204
CREATED:20250614T194139Z
LAST-MODIFIED:20250906T213218Z
UID:10011538-1758931200-1759103999@essft.com
SUMMARY:Northeast Wisconsin Spaniel Club
DESCRIPTION:Entries Close: Tuesday\, September 16\, 2025 11:59:59 PM Eastern Time(ET) on Hunt Secretary \n 
URL:https://essft.com/event/northeast-wisconsin-spaniel-club-4-6/
LOCATION:Marian Miller property Cambria\, WI\, N8843 County Highway H\, Cambria\, WI\, 53923\, United States
CATEGORIES:Field Trials - Mid West
ORGANIZER;CN="Mark Moore":MAILTO:mark@mooreagphotos.com
END:VEVENT
BEGIN:VEVENT
DTSTART;VALUE=DATE:20250927
DTEND;VALUE=DATE:20250929
DTSTAMP:20260421T201204
CREATED:20250614T194139Z
LAST-MODIFIED:20250820T164052Z
UID:10011539-1758931200-1759103999@essft.com
SUMMARY:Sudbury & District Kennel Club Inc. Spaniels Field Trial
DESCRIPTION:More Information TBA…
URL:https://essft.com/event/sudbury-district-kennel-club-inc-spaniels-field-trial-4/
CATEGORIES:Canadian FT
END:VEVENT
BEGIN:VEVENT
DTSTART;VALUE=DATE:20250927
DTEND;VALUE=DATE:20250929
DTSTAMP:20260421T201204
CREATED:20250614T194154Z
LAST-MODIFIED:20250820T163037Z
UID:10011540-1758931200-1759103999@essft.com
SUMMARY:Scotia Springer Club
DESCRIPTION:More information TBA…
URL:https://essft.com/event/scotia-springer-club-6-3/
CATEGORIES:Canadian FT
END:VEVENT
BEGIN:VEVENT
DTSTART;VALUE=DATE:20250927
DTEND;VALUE=DATE:20250929
DTSTAMP:20260421T201204
CREATED:20250819T022126Z
LAST-MODIFIED:20250819T022126Z
UID:10011688-1758931200-1759103999@essft.com
SUMMARY:COCKER: Iowa Sporting Spaniel Club Field Trials
DESCRIPTION:Entries Close: Tuesday\, September 16\, 2025 11:59:59 PM Eastern Time(ET) on Hunt Secretary.
URL:https://essft.com/event/cocker-iowa-sporting-spaniel-club-field-trials/
LOCATION:Wilcox Wildlife Area Bussey\, IA\, Wilcox Wildlife Area Bussey\, IA
CATEGORIES:Cocker Trial
ORGANIZER;CN="Holly Boggess":MAILTO:hboggess@netins.net
END:VEVENT
BEGIN:VEVENT
DTSTART;VALUE=DATE:20250927
DTEND;VALUE=DATE:20250929
DTSTAMP:20260421T201204
CREATED:20250823T035146Z
LAST-MODIFIED:20250823T035640Z
UID:10011691-1758931200-1759103999@essft.com
SUMMARY:Southern Michigan SSTC English Springer Spaniel Field Trial
DESCRIPTION:Entries Close: Tuesday\, September 16\, 2025 11:59:59 PM Eastern Time(ET) on Hunt Secretary.
URL:https://essft.com/event/southern-michigan-sstc-english-springer-spaniel-field-trial-2/
LOCATION:Fourway Properties Jackson\, MI @ Jackson\, MI\, USA\, Fourway Properties Jackson\, MI @ Jackson\, MI\, USA\, United States
CATEGORIES:Field Trials - Mid East
ORGANIZER;CN="Steve Collins":MAILTO:slcollins73@frontier.com
END:VEVENT
BEGIN:VEVENT
DTSTART;VALUE=DATE:20250928
DTEND;VALUE=DATE:20250929
DTSTAMP:20260421T201204
CREATED:20250826T011617Z
LAST-MODIFIED:20250912T163341Z
UID:10011692-1759017600-1759103999@essft.com
SUMMARY:Heart of Michigan ECS Club Spaniel Hunt Test
DESCRIPTION:Entries Close: Tuesday\, September 16\, 2025 11:59:59 PM Eastern Time(ET) on Hunt Secretary.
URL:https://essft.com/event/heart-of-michigan-ecs-club-spaniel-hunt-test/
LOCATION:Cohoctah Meadows Howell\, MI\, Cohoctah Meadows Howell\, MI
CATEGORIES:Hunt Tests
ORGANIZER;CN="Judy Priestley":MAILTO:carillonec@comcast.net
END:VEVENT
BEGIN:VEVENT
DTSTART;VALUE=DATE:20251002
DTEND;VALUE=DATE:20251004
DTSTAMP:20260421T201204
CREATED:20250614T194154Z
LAST-MODIFIED:20250912T163922Z
UID:10011541-1759363200-1759535999@essft.com
SUMMARY:Fox Valley English Cocker Club  ESS Field Trial
DESCRIPTION:Entries Close: Monday\, September 22\, 2025 11:59:59 PM Eastern Time(ET) on Hunt Secretary \n 
URL:https://essft.com/event/fox-valley-english-cocker-club-springer-spaniel-field-trial-2/
LOCATION:Connolly Game Farm Reedsville\, W\, Reedsville\, WI\, United States
CATEGORIES:Field Trials - Mid West
ORGANIZER;CN="Rumi Schroeder%2C FTS":MAILTO:fallenwings1@gmail.com
GEO:44.038637;-87.977454
END:VEVENT
BEGIN:VEVENT
DTSTART;VALUE=DATE:20251002
DTEND;VALUE=DATE:20251004
DTSTAMP:20260421T201204
CREATED:20250826T012613Z
LAST-MODIFIED:20250902T183849Z
UID:10011693-1759363200-1759535999@essft.com
SUMMARY:Northern Colorado SS Club Spring Field Trial
DESCRIPTION:Entries Close: Monday\, September 22\, 2025 11:59:59 PM Eastern Time(ET) on Hunt Secretary.
URL:https://essft.com/event/northern-colorado-ss-club-spring-field-trial/
LOCATION:DiPaolo Farm Fort Lupton\, CO\, DiPaolo Farm Fort Lupton\, CO
CATEGORIES:Field Trials - Rocky Mountain
ORGANIZER;CN="Mhari Peschel":MAILTO:mharipeschel@yahoo.com
END:VEVENT
BEGIN:VEVENT
DTSTART;VALUE=DATE:20251004
DTEND;VALUE=DATE:20251006
DTSTAMP:20260421T201204
CREATED:20250614T194154Z
LAST-MODIFIED:20250826T015656Z
UID:10011542-1759536000-1759708799@essft.com
SUMMARY:Arrowhead ESS Club Springer Spaniel Field Trials Oct 2025
DESCRIPTION:Entries Close: Tuesday\, September 23\, 2025 11:59:59 PM Eastern Time(ET) on Hunt Secretary
URL:https://essft.com/event/arrowhead-ess-club-aessc/
LOCATION:Event Location: Lahontan Valley Bird Dog Club Fallon\, NV\, Event Location: Lahontan Valley Bird Dog Club Fallon\, NV
CATEGORIES:Field Trials - West
ORGANIZER;CN="Chip Bunker":MAILTO:chip@hjsys.com
END:VEVENT
BEGIN:VEVENT
DTSTART;VALUE=DATE:20251004
DTEND;VALUE=DATE:20251006
DTSTAMP:20260421T201204
CREATED:20250614T194154Z
LAST-MODIFIED:20250920T032458Z
UID:10011543-1759536000-1759708799@essft.com
SUMMARY:Minnesota Heartland English Springer Spaniel
DESCRIPTION:Entries Close: Tuesday\, September 23\, 2025 11:59:59 PM Eastern Time(ET) on Hunt Secretary.
URL:https://essft.com/event/minnesota-heartland-english-springer-spaniel/
LOCATION:Robert Scheutte Farm 5037 98th St SE Blooming Prairie\, MN\, Robert Scheutte Farm 5037 98th St SE Blooming Prairie\, MN
CATEGORIES:Field Trials - Mid West
ORGANIZER;CN="Randy Manore":MAILTO:rmmanore@charter.net
END:VEVENT
BEGIN:VEVENT
DTSTART;VALUE=DATE:20251004
DTEND;VALUE=DATE:20251006
DTSTAMP:20260421T201204
CREATED:20250614T194209Z
LAST-MODIFIED:20250926T203648Z
UID:10011545-1759536000-1759708799@essft.com
SUMMARY:Cocker: Spaniel Association of Western NY Field Trial
DESCRIPTION:Entries Close: Tuesday\, September 23\, 2025 11:59:59 PM Eastern Time(ET) on Hunt Secretary
URL:https://essft.com/event/spaniel-association-of-western-ny-field-trial-2/
LOCATION:John White Wildlife Management Area 6891 Alleghany Rd Basom\, NY\, John White Wildlife Management Area 6891 Alleghany Rd Basom\, NY
CATEGORIES:Cocker Trial
ORGANIZER;CN="Murray Tate":MAILTO:murraytate@yahoo.com
END:VEVENT
BEGIN:VEVENT
DTSTART;VALUE=DATE:20251004
DTEND;VALUE=DATE:20251006
DTSTAMP:20260421T201204
CREATED:20250614T194209Z
LAST-MODIFIED:20250926T202803Z
UID:10011546-1759536000-1759708799@essft.com
SUMMARY:English Springer Spaniel Club of Long Island Field Trial
DESCRIPTION:Entries Close: Tuesday\, September 23\, 2025 11:59:59 PM Eastern Time(ET) on Hunt Secretary
URL:https://essft.com/event/english-springer-spaniel-club-of-long-island-field-trial-2/
LOCATION:Ralph Botti Farm – Southport NY\, 99 LewisRoad\, Southport\, NY\, 14904\, United States
CATEGORIES:Field Trials - East
ORGANIZER;CN="Jennifer Burrell":MAILTO:cudonn12@gmail.com
GEO:42.054796;-76.819123
X-APPLE-STRUCTURED-LOCATION;VALUE=URI;X-ADDRESS=Ralph Botti Farm – Southport NY 99 LewisRoad Southport NY 14904 United States;X-APPLE-RADIUS=500;X-TITLE=99 LewisRoad:geo:-76.819123,42.054796
END:VEVENT
BEGIN:VEVENT
DTSTART;VALUE=DATE:20251004
DTEND;VALUE=DATE:20251006
DTSTAMP:20260421T201204
CREATED:20250614T194209Z
LAST-MODIFIED:20250912T201439Z
UID:10011547-1759536000-1759708799@essft.com
SUMMARY:Cocker: Fox Valley English Cocker Club (Double Op/Am/Puppy)
DESCRIPTION:Entries Close: Tuesday\, September 23\, 2025 11:59:59 PM Eastern Time(ET) on Hunt Secretary \n 
URL:https://essft.com/event/fox-valley-english-cocker-club-cocker-field-trial/
LOCATION:Connolly Game Farm Reedsville\, W\, Reedsville\, WI\, United States
CATEGORIES:Cocker Trial
ORGANIZER;CN="Rumi Schroeder%2C FTS":MAILTO:fallenwings1@gmail.com
GEO:44.038637;-87.977454
END:VEVENT
BEGIN:VEVENT
DTSTART;VALUE=DATE:20251004
DTEND;VALUE=DATE:20251006
DTSTAMP:20260421T201204
CREATED:20250712T013749Z
LAST-MODIFIED:20250826T014846Z
UID:10011652-1759536000-1759708799@essft.com
SUMMARY:West Allis Training Kennel Club Spaniel Hunt Test
DESCRIPTION:Entries Close: Tuesday\, September 23\, 2025 11:59:59 PM Eastern Time(ET) on Hunt Secretary.
URL:https://essft.com/event/west-allis-training-kennel-club-spaniel-hunt-test-2/
LOCATION:Event Location: S73 W24150 NATIONAL AVE Big Bend\, WI\, Event Location: S73 W24150 NATIONAL AVE Big Bend\, WI
CATEGORIES:Hunt Tests
ORGANIZER;CN="Linda M McGrady":MAILTO:lindamcgrady52@gmail.com
END:VEVENT
BEGIN:VEVENT
DTSTART;VALUE=DATE:20251004
DTEND;VALUE=DATE:20251006
DTSTAMP:20260421T201204
CREATED:20250826T020326Z
LAST-MODIFIED:20250926T203218Z
UID:10011694-1759536000-1759708799@essft.com
SUMMARY:Missouri Hunting Spaniel Club 2025 Fall Hunt Test
DESCRIPTION:Entries Close: Tuesday\, September 23\, 2025 11:59:59 PM Eastern Time(ET) on Hunt Secretary.
URL:https://essft.com/event/missouri-hunting-spaniel-club-2025-fall-hunt-test/
LOCATION:Stine Farm Clever\, MO\, Stine Farm Clever\, MO
CATEGORIES:Hunt Tests
ORGANIZER;CN="Tim Baker":MAILTO:tim.baker3@gmail.com
END:VEVENT
BEGIN:VEVENT
DTSTART;VALUE=DATE:20251004
DTEND;VALUE=DATE:20251006
DTSTAMP:20260421T201204
CREATED:20250826T020905Z
LAST-MODIFIED:20250826T020905Z
UID:10011695-1759536000-1759708799@essft.com
SUMMARY:Rocky Mountain Springer Spaniel Association Field Trial
DESCRIPTION:Entries Close: Monday\, September 22\, 2025 11:59:59 PM Eastern Time(ET) on Hunt Secretary.
URL:https://essft.com/event/rocky-mountain-springer-spaniel-association-field-trial/
LOCATION:DiPaolo Farm Fort Lupton\, CO\, DiPaolo Farm Fort Lupton\, CO
CATEGORIES:Field Trials - Rocky Mountain
ORGANIZER;CN="Mhari Peschel":MAILTO:mharipeschel@yahoo.com
END:VEVENT
BEGIN:VEVENT
DTSTART;VALUE=DATE:20251009
DTEND;VALUE=DATE:20251011
DTSTAMP:20260421T201204
CREATED:20250826T021656Z
LAST-MODIFIED:20250913T031334Z
UID:10011696-1759968000-1760140799@essft.com
SUMMARY:Central New England Sporting Spaniel Club SPRINGER Field Trial
DESCRIPTION:Entries Close: Monday\, September 29\, 2025 11:59:59 PM Eastern Time(ET) on Hunt Secretary.
URL:https://essft.com/event/central-new-england-sporting-spaniel-club-field-trial/
LOCATION:Southwick Wildlife Management Area Southwick\, MA\, Southwick Wildlife Management Area Southwick\, MA
CATEGORIES:Field Trials - East
ORGANIZER;CN="John Kucher":MAILTO:johndkucher@yahoo.com
END:VEVENT
BEGIN:VEVENT
DTSTART;VALUE=DATE:20251009
DTEND;VALUE=DATE:20251011
DTSTAMP:20260421T201204
CREATED:20250913T031944Z
LAST-MODIFIED:20250913T031944Z
UID:10011712-1759968000-1760140799@essft.com
SUMMARY:COCKER: Central New England Sporting Spaniel Club Field Trial
DESCRIPTION:Entries Close: Monday\, September 29\, 2025 11:59:59 PM Eastern Time(ET) on Hunt Secretary.
URL:https://essft.com/event/cocker-central-new-england-sporting-spaniel-club-field-trial/
LOCATION:Southwick Wildlife Management Area Southwick\, MA\, Southwick Wildlife Management Area Southwick\, MA
CATEGORIES:Cocker Trial
ORGANIZER;CN="John Kucher":MAILTO:johndkucher@yahoo.com
END:VEVENT
BEGIN:VEVENT
DTSTART;VALUE=DATE:20251010
DTEND;VALUE=DATE:20251012
DTSTAMP:20260421T201204
CREATED:20250614T194209Z
LAST-MODIFIED:20250926T204314Z
UID:10011548-1760054400-1760227199@essft.com
SUMMARY:Utah Springer Spaniel Club (USSC)
DESCRIPTION:Entries Close: Monday\, September 29\, 2025 11:59:59 PM Eastern Time(ET) on Hunt Secretary.
URL:https://essft.com/event/utah-springer-spaniel-club-ussc/
LOCATION:Clarkston\, UT\, Clarkston\, UT
CATEGORIES:Field Trials - West
ORGANIZER;CN="Alan Baugh":MAILTO:acbaughdmd@yahoo.com
END:VEVENT
BEGIN:VEVENT
DTSTART;VALUE=DATE:20251010
DTEND;VALUE=DATE:20251013
DTSTAMP:20260421T201204
CREATED:20250614T194224Z
LAST-MODIFIED:20250826T022822Z
UID:10011550-1760054400-1760313599@essft.com
SUMMARY:St. Croix Valley Spaniel Club ESS Field Trial #1
DESCRIPTION:Entries Close: Monday\, September 29\, 2025 11:59:59 PM Eastern Time(ET) on Hunt Secretary.
URL:https://essft.com/event/st-croix-valley-spaniel-club-18/
LOCATION:Bob Wassom Battle Lake\, 36884 MN-210\, Battle Lake\, MN\, 56515\, United States
CATEGORIES:Field Trials - Mid West
ORGANIZER;CN="Deb Livingston":MAILTO:gregdebliving@aol.com
GEO:46.277708;-95.720063
X-APPLE-STRUCTURED-LOCATION;VALUE=URI;X-ADDRESS=Bob Wassom Battle Lake 36884 MN-210 Battle Lake MN 56515 United States;X-APPLE-RADIUS=500;X-TITLE=36884 MN-210:geo:-95.720063,46.277708
END:VEVENT
BEGIN:VEVENT
DTSTART;VALUE=DATE:20251011
DTEND;VALUE=DATE:20251012
DTSTAMP:20260421T201204
CREATED:20250826T023955Z
LAST-MODIFIED:20250826T023955Z
UID:10011698-1760140800-1760227199@essft.com
SUMMARY:St. Croix Valley Spaniel Club ESS Field Trial #2
DESCRIPTION:Entries Close: Monday\, September 29\, 2025 11:59:59 PM Eastern Time(ET) on Hunt Secretary.
URL:https://essft.com/event/st-croix-valley-spaniel-club-ess-field-trial-2/
LOCATION:Bob Wassom Battle Lake\, MN\, Bob Wassom Battle Lake\, MN
CATEGORIES:Field Trials - Mid West
ORGANIZER;CN="Deb Livingston":MAILTO:gregdebliving@aol.com
END:VEVENT
END:VCALENDAR