BEGIN:VCALENDAR
VERSION:2.0
PRODID:-//English Springer Spaniel Field Trials - ECPv6.15.20//NONSGML v1.0//EN
CALSCALE:GREGORIAN
METHOD:PUBLISH
X-WR-CALNAME:English Springer Spaniel Field Trials
X-ORIGINAL-URL:https://essft.com
X-WR-CALDESC:Events for English Springer Spaniel Field Trials
REFRESH-INTERVAL;VALUE=DURATION:PT1H
X-Robots-Tag:noindex
X-PUBLISHED-TTL:PT1H
BEGIN:VTIMEZONE
TZID:America/Chicago
BEGIN:DAYLIGHT
TZOFFSETFROM:-0600
TZOFFSETTO:-0500
TZNAME:CDT
DTSTART:20200308T080000
END:DAYLIGHT
BEGIN:STANDARD
TZOFFSETFROM:-0500
TZOFFSETTO:-0600
TZNAME:CST
DTSTART:20201101T070000
END:STANDARD
BEGIN:DAYLIGHT
TZOFFSETFROM:-0600
TZOFFSETTO:-0500
TZNAME:CDT
DTSTART:20210314T080000
END:DAYLIGHT
BEGIN:STANDARD
TZOFFSETFROM:-0500
TZOFFSETTO:-0600
TZNAME:CST
DTSTART:20211107T070000
END:STANDARD
BEGIN:DAYLIGHT
TZOFFSETFROM:-0600
TZOFFSETTO:-0500
TZNAME:CDT
DTSTART:20220313T080000
END:DAYLIGHT
BEGIN:STANDARD
TZOFFSETFROM:-0500
TZOFFSETTO:-0600
TZNAME:CST
DTSTART:20221106T070000
END:STANDARD
END:VTIMEZONE
BEGIN:VEVENT
DTSTART;TZID=America/Chicago:20210918T000000
DTEND;TZID=America/Chicago:20210919T000000
DTSTAMP:20260423T003330
CREATED:20250613T034433Z
LAST-MODIFIED:20250613T034433Z
UID:10010511-1631923200-1632009600@essft.com
SUMMARY:Western Washington ESS Club
DESCRIPTION:Entries Close: Monday\, September 6\, 2021 11:59:59 PM Eastern Time on Hunt Secretary \n  \nJudges: John Bishop and Dean Koehler\n 
URL:https://essft.com/event/western-washington-ess-club-4/
CATEGORIES:Field Trials - West
ORGANIZER;CN="Melissa Knapp":MAILTO:melissa.s.knapp@gmail.com
END:VEVENT
BEGIN:VEVENT
DTSTART;TZID=America/Chicago:20210918T000000
DTEND;TZID=America/Chicago:20210919T000000
DTSTAMP:20260423T003330
CREATED:20250613T034418Z
LAST-MODIFIED:20250613T034418Z
UID:10010505-1631923200-1632009600@essft.com
SUMMARY:Patriot Sporting Spaniel Club
DESCRIPTION:Entries Close: Tuesday\, September 7\, 2021 11:59:59 PM Eastern Time(ET) on Hunt Secretary \nJudges: Bob Ryan and George Kittle\n  \n\n		\n			\n			\n		\n\n		\n 
URL:https://essft.com/event/patriot-sporting-spaniel-club-7/
CATEGORIES:Field Trials - East
END:VEVENT
BEGIN:VEVENT
DTSTART;TZID=America/Chicago:20210918T000000
DTEND;TZID=America/Chicago:20210919T000000
DTSTAMP:20260423T003330
CREATED:20250613T034418Z
LAST-MODIFIED:20250613T034418Z
UID:10010506-1631923200-1632009600@essft.com
SUMMARY:Susquehanna Valley ESS Club
DESCRIPTION:Entries Close: Tuesday\, September 13\, 2021 11:59:59 PM Eastern Time(ET) on Hunt Secretary \nJudges:  John Leininger and Charles Squillante\n 
URL:https://essft.com/event/susquehanna-valley-ess-club-4/
LOCATION:Sinking Valley\, Tyrone\, PA 16686\, USA\, Tyrone\, Pennsylvania\, 16686\, United States
CATEGORIES:Field Trials - Mid East
GEO:40.670618;-78.238624
X-APPLE-STRUCTURED-LOCATION;VALUE=URI;X-ADDRESS=Sinking Valley Tyrone PA 16686 USA Tyrone Pennsylvania 16686 United States;X-APPLE-RADIUS=500;X-TITLE=Tyrone\, PA 16686\, USA:geo:-78.238624,40.670618
END:VEVENT
BEGIN:VEVENT
DTSTART;TZID=America/Chicago:20210918T000000
DTEND;TZID=America/Chicago:20210919T000000
DTSTAMP:20260423T003330
CREATED:20250613T034418Z
LAST-MODIFIED:20250613T034418Z
UID:10010507-1631923200-1632009600@essft.com
SUMMARY:COCKER: Cocker Spaniel Field Trial Club of America
DESCRIPTION:Entries Close: Tuesday\, September 7\, 2021 11:59:59 PM Eastern Time(ET) on Hunt Secretary \nJudges: George Akouris and Joe DeMarkis\n 
URL:https://essft.com/event/cocker-cocker-spaniel-field-trial-club-of-america-2/
CATEGORIES:Cocker Trial
END:VEVENT
BEGIN:VEVENT
DTSTART;TZID=America/Chicago:20210918T000000
DTEND;TZID=America/Chicago:20210919T000000
DTSTAMP:20260423T003330
CREATED:20250613T034418Z
LAST-MODIFIED:20250613T034418Z
UID:10010508-1631923200-1632009600@essft.com
SUMMARY:COCKER: Cocker Spaniel Hunting Enthusiasts of SE WI
DESCRIPTION:Entries Close: Tuesday\, September 7\, 2021 11:59:59 PM Eastern Time(ET) on Hunt Secretary \nJudges: Dana Poray and Deb Salmons
URL:https://essft.com/event/cocker-cocker-spaniel-hunting-enthusiasts-of-se-wi/
LOCATION:Oasis Game Farm\, New Glarus\, WI 53574\, USA\, New Glarus\, Wisconsin\, 53574\, United States
CATEGORIES:Cocker Trial
GEO:42.837895;-89.729012
X-APPLE-STRUCTURED-LOCATION;VALUE=URI;X-ADDRESS=Oasis Game Farm New Glarus WI 53574 USA New Glarus Wisconsin 53574 United States;X-APPLE-RADIUS=500;X-TITLE=New Glarus\, WI 53574\, USA:geo:-89.729012,42.837895
END:VEVENT
BEGIN:VEVENT
DTSTART;TZID=America/Chicago:20210918T000000
DTEND;TZID=America/Chicago:20210919T000000
DTSTAMP:20260423T003330
CREATED:20250613T034418Z
LAST-MODIFIED:20250613T034418Z
UID:10010509-1631923200-1632009600@essft.com
SUMMARY:Eastern Slopes Spaniel Association
DESCRIPTION:https://www.dogshow.ca/en/Events/2764/Eastern-Slopes-Spaniel-Association-%5BPENDING-CKC-APPROVAL%5D
URL:https://essft.com/event/eastern-slopes-spaniel-association-10/
CATEGORIES:Canadian FT
END:VEVENT
BEGIN:VEVENT
DTSTART;TZID=America/Chicago:20210917T000000
DTEND;TZID=America/Chicago:20210919T000000
DTSTAMP:20260423T003330
CREATED:20250613T034403Z
LAST-MODIFIED:20250613T034403Z
UID:10010501-1631836800-1632009600@essft.com
SUMMARY:Tilden Valley English Springer Spaniel Club
DESCRIPTION:Entries Close: Tuesday\, September 7\, 2021 at 11:59 P.M. Eastern Time(ET) on Hunt Secretary \nFriday Judges:  Mhari Peschel and Bob Merrill\nSaturday Judges:  Mhari Peschel and Todd Agnew
URL:https://essft.com/event/tilden-valley-english-springer-spaniel-club-5/
CATEGORIES:Field Trials - Mid West
END:VEVENT
BEGIN:VEVENT
DTSTART;TZID=America/Chicago:20210917T000000
DTEND;TZID=America/Chicago:20210918T000000
DTSTAMP:20260423T003330
CREATED:20250613T034404Z
LAST-MODIFIED:20250613T034404Z
UID:10010504-1631836800-1631923200@essft.com
SUMMARY:COCKER: Western Washington ESS Club
DESCRIPTION:Entries Close: Monday\, September 6\, 2021 11:59:59 PM Eastern Time(ET) on Hunt Secretary \nJudges: Dean Koehler and John Bishop
URL:https://essft.com/event/cocker-western-washington-ess-club-3/
CATEGORIES:Cocker Trial
ORGANIZER;CN="Melissa Knapp":MAILTO:melissa.s.knapp@gmail.com
END:VEVENT
BEGIN:VEVENT
DTSTART;TZID=America/Chicago:20210917T000000
DTEND;TZID=America/Chicago:20210917T000000
DTSTAMP:20260423T003330
CREATED:20250613T034404Z
LAST-MODIFIED:20250613T034404Z
UID:10010503-1631836800-1631836800@essft.com
SUMMARY:Maryland Sporting Dog Association Spaniel Hunt Test - Friday\, Sept 17\, 2021
DESCRIPTION:Entries Close: Monday\, September 6\, 2021 11:59:59 PM Eastern Time(ET) on Hunt Secretary
URL:https://essft.com/event/maryland-sporting-dog-association-spaniel-hunt-test-friday-sept-17-2021/
LOCATION:Rebel Ridge Farm\, 295 Woods Rd\, Elkton\, MD 21921\, USA\, Elkton\, Maryland\, 21921\, United States
CATEGORIES:Hunt Tests
GEO:39.555428;-75.789047
X-APPLE-STRUCTURED-LOCATION;VALUE=URI;X-ADDRESS=Rebel Ridge Farm 295 Woods Rd Elkton MD 21921 USA Elkton Maryland 21921 United States;X-APPLE-RADIUS=500;X-TITLE=295 Woods Rd\, Elkton\, MD 21921\, USA:geo:-75.789047,39.555428
END:VEVENT
BEGIN:VEVENT
DTSTART;TZID=America/Chicago:20210917T000000
DTEND;TZID=America/Chicago:20210917T000000
DTSTAMP:20260423T003330
CREATED:20250613T034403Z
LAST-MODIFIED:20250613T034403Z
UID:10010502-1631836800-1631836800@essft.com
SUMMARY:AKC Spaniel Hunt Test Seminar for Judges and Handlers - Maryland
DESCRIPTION:Entries Close: Monday\, September 6\, 2021 11:59:59 PM EST on Hunt Secretary \nThe Maryland Sporting Dog Association (MSDA)\, a group of dog owners and friends working for the good of all dogs\, but especially sporting dogs\, is hosting a unique AKC Spaniel Hunt Test Seminar for Judges and Handlers in conjunction with our September Hunt Tests. This event will be presented by Tom Meyer (AKC lead rep for Spaniel Hunt Tests/Field Trials) and will be a different format than the typical seminar for judges and handlers. The entire forum will be in the field and revolve around a licensed AKC Spaniel Hunt Test – Tom will conduct the seminar as he is judging the test with one other judge\, and use the actual field set-ups and dog performances for teaching in lieu of a classroom lecture. \nParticipants may enter dogs in the Hunt Test if they would like or attend the seminar as a standalone event. Attendees will have two seminar registration options: \n1. Register as an individual at a cost of $50 which includes a light breakfast\, lunch and liquid refreshments throughout the day. \n2. Enter a dog in the Hunt Test and subsequently register as an individual for the seminar at a discounted cost of $25 which includes a light breakfast\, lunch and liquid refreshments throughout the day. \nTo achieve seminar certification\, registrants must attend all three Hunt Test levels (junior\, senior and master) to observe the dogs and hear scoring and rules commentary from the judges. Registrants not running a dog may participate as gunners\, shaggers\, bird planters\, marshals or walk in the gallery as long they are in the field to hear Tom Meyer discuss each dog’s run. To enhance the educational experience\, there will be no callbacks during the Hunt Test so all dogs will run in each series. \nFor the associated Friday\, September 17 Spaniel Hunt Test entry\, preference will be given to handlers who have registered for the seminar. The Hunt Test is limited to 20 dogs and open to all AKC eligible breeds (https://www.akc.org/sports/spaniels/hunting-tests/eligibility/). When the 20-dog limit is reached\, a managed waitlist will become available. However\, if the Hunt Test event is full and a handler who has registered for the seminar wants to enter the Hunt Test\, MSDA holds the right to bump the last entered “non-seminar” dog and handler to the waitlist. \nThis seminar is required for anyone who wishes to become an AKC Spaniel Hunt Test judge\, and is also required for any current judge to fulfill their obligation of attending a seminar every five years to maintain their eligibility to judge. \nThis seminar is also very useful for handlers\, perspective handlers\, workers and gunners. The seminar is designed to review and explain the regulations and guidelines for the AKC Spaniel Hunt Test program\, and preview and highlight any upcoming changes or recent changes. Seminar participants will improve their understanding of the performance requirements and standards as well as additional AKC policies. Additionally\, you will see how the judges are taught and what they should be looking for at all levels based actual dog performance and scoring discussion. \nEach attendee will receive a copy of the AKC eligible breeds’ “Hunting Style” as well as the latest “Regulations & Guidelines for AKC Hunting Test for Spaniels” and “Dealing with Misconduct at AKC Events”. MSDA will provide Hunt Test scoresheets\, for each dog entered in the Test\, to all the seminar participants. \nSCHEDULE AND FORMAT\n7:45 am: Check-in; enjoy coffee and a light breakfast.\n8:00 am: Introductory remarks by Tom Meyer.\n8:30 am: Hunt Test begins.\n12:00 pm (approximately): Lunch in the field.\n3:30 pm: Seminar Q&A.\n4:00 pm: Seminar ends.
URL:https://essft.com/event/akc-spaniel-hunt-test-seminar-for-judges-and-handlers-maryland/
CATEGORIES:Judging Seminar
END:VEVENT
BEGIN:VEVENT
DTSTART;TZID=America/Chicago:20210912T000000
DTEND;TZID=America/Chicago:20210912T000000
DTSTAMP:20260423T003330
CREATED:20250613T034403Z
LAST-MODIFIED:20250613T034403Z
UID:10010500-1631404800-1631404800@essft.com
SUMMARY:Gateway Upland Hunt Club of the Greater St. Louis Area Spaniel Hunt Test
DESCRIPTION:Entries Close: Tuesday\, August 31\, 2021 11:59:59 PM Eastern Time(ET) on Hunt Secretary \nJudges:  Danelle Oliver and Michael Gregory
URL:https://essft.com/event/gateway-upland-hunt-club-of-the-greater-st-louis-area-spaniel-hunt-test/
CATEGORIES:Hunt Tests
END:VEVENT
BEGIN:VEVENT
DTSTART;TZID=America/Chicago:20210912T000000
DTEND;TZID=America/Chicago:20210912T000000
DTSTAMP:20260423T003330
CREATED:20250613T034348Z
LAST-MODIFIED:20250613T034348Z
UID:10010499-1631404800-1631404800@essft.com
SUMMARY:Central Wisconsin Sporting Spaniel Club Field Trial September 12\, 2021 OPEN and PUPPY ONLY
DESCRIPTION:Entries Close: Tuesday\, August 31\, 2021 11:59:59 PM Eastern Time(ET) on Hunt Secretary \nJudges: Will Pick and Pete Zuleger
URL:https://essft.com/event/central-wisconsin-sporting-spaniel-club-field-trial-september-12-2021-open-and-puppy-only/
LOCATION:Oasis Game Farm\, New Glarus\, WI 53574\, USA\, New Glarus\, Wisconsin\, 53574\, United States
CATEGORIES:Field Trials - Mid West
GEO:42.837895;-89.729012
X-APPLE-STRUCTURED-LOCATION;VALUE=URI;X-ADDRESS=Oasis Game Farm New Glarus WI 53574 USA New Glarus Wisconsin 53574 United States;X-APPLE-RADIUS=500;X-TITLE=New Glarus\, WI 53574\, USA:geo:-89.729012,42.837895
END:VEVENT
BEGIN:VEVENT
DTSTART;TZID=America/Chicago:20210911T000000
DTEND;TZID=America/Chicago:20210912T000000
DTSTAMP:20260423T003330
CREATED:20250613T034348Z
LAST-MODIFIED:20250613T034348Z
UID:10010496-1631318400-1631404800@essft.com
SUMMARY:COCKER:  North Dakota Sporting Spaniel Club
DESCRIPTION:Entries Close: Tuesday\, August 31\, 2021 11:59:59 PM Eastern Time(ET) on Hunt Secretary \nJudges: Michael Pollack and Jordan Horak\n\n		\n			\n			\n		\n\n		\n 
URL:https://essft.com/event/cocker-north-dakota-sporting-spaniel-club-7/
CATEGORIES:Cocker Trial
END:VEVENT
BEGIN:VEVENT
DTSTART;TZID=America/Chicago:20210911T000000
DTEND;TZID=America/Chicago:20210912T000000
DTSTAMP:20260423T003330
CREATED:20250613T034348Z
LAST-MODIFIED:20250613T034348Z
UID:10010497-1631318400-1631404800@essft.com
SUMMARY:Cascade English Cocker Spaniel Fanciers
DESCRIPTION:Entries Close: Monday\, August 30\, 2021 11:59:59 PM Eastern Time(ET) on Hunt Secretary \nJudges: Ralph Botti and Dominique Savoie\nWe have had to change our trial site for the Cascade English Cocker Spaniel Fanciers field trials September 10-12.  Hunt Secretary has been notified.\n\nFriday:  \nScatter Creek wildlife area (South unit). Rochester\, WA\nGPS. 46.827773\,-123.005755\n\nSaturday and Sunday:  \nJoint Base Lewis McChord (Area 20). Near Lacey\, WA\nGPS. 46.905733\,-122.727657 \nThese coordinates are to the turnoff onto a dirt road that leads into the trial site.  Directional flags to the actual site will not be put up before 5 PM on Friday.
URL:https://essft.com/event/cascade-english-cocker-spaniel-fanciers-2/
CATEGORIES:Field Trials - West
ORGANIZER;CN="Melissa Knapp":MAILTO:melissa.s.knapp@gmail.com
END:VEVENT
BEGIN:VEVENT
DTSTART;TZID=America/Chicago:20210911T000000
DTEND;TZID=America/Chicago:20210912T000000
DTSTAMP:20260423T003330
CREATED:20250613T034348Z
LAST-MODIFIED:20250613T034348Z
UID:10010495-1631318400-1631404800@essft.com
SUMMARY:Spaniel Association of Western New York
DESCRIPTION:Entries Close: Wednesday\, September 1\, 2021 11:59:59 PM Eastern Time(ET) on Hunt Secretary \nJudges:  John Lamendola and Doug Regnet\n 
URL:https://essft.com/event/spaniel-association-of-western-new-york-4/
CATEGORIES:Field Trials - Mid East
END:VEVENT
BEGIN:VEVENT
DTSTART;TZID=America/Chicago:20210911T000000
DTEND;TZID=America/Chicago:20210912T000000
DTSTAMP:20260423T003330
CREATED:20250613T034334Z
LAST-MODIFIED:20250613T034334Z
UID:10010494-1631318400-1631404800@essft.com
SUMMARY:Northern Minnesota English Springer Spaniel Club
DESCRIPTION:Entries Close: Monday\, August 30\, 2021 11:59:59 PM Eastern Time(ET) on Hunt Secretary \nJudges: Mike Elsasser and Robert Clayton\n 
URL:https://essft.com/event/northern-minnesota-english-springer-spaniel-club-4/
LOCATION:Pine Shadows Daybreak\, Frederick\, SD 57441\, USA\, Frederick\, South Dakota\, 57441\, United States
CATEGORIES:Field Trials - Mid West
ORGANIZER;CN="Sophie Haglin":MAILTO:mark@pineshadows.com
END:VEVENT
BEGIN:VEVENT
DTSTART;TZID=America/Chicago:20210911T000000
DTEND;TZID=America/Chicago:20210912T000000
DTSTAMP:20260423T003330
CREATED:20250613T034333Z
LAST-MODIFIED:20250613T034333Z
UID:10010493-1631318400-1631404800@essft.com
SUMMARY:Maine Spaniel Field Trial Club
DESCRIPTION:Entries Close: Tuesday\, August 31\, 2021 11:59:59 PM Eastern Time(ET) on Hunt Secretary \nDirections: The location is Green Point WMA\, Route 128 Reed Road\, Dresden Maine. On Route 128 (River Road) in Dresden\, two miles south of intersection with Route 197 (Patterson Road)—watch for small gravel parking area on the right (west side of road). \nJudges: Trent Bosse and Rick Shively\n 
URL:https://essft.com/event/maine-spaniel-field-trial-club-6/
LOCATION:Green Point Wildlife Management Area\, Dresden\, ME 04342\, USA\, Dresden\, Maine\, 4342\, United States
CATEGORIES:Field Trials - East
GEO:44.077448;-69.738418
X-APPLE-STRUCTURED-LOCATION;VALUE=URI;X-ADDRESS=Green Point Wildlife Management Area Dresden ME 04342 USA Dresden Maine 4342 United States;X-APPLE-RADIUS=500;X-TITLE=Dresden\, ME 04342\, USA:geo:-69.738418,44.077448
END:VEVENT
BEGIN:VEVENT
DTSTART;TZID=America/Chicago:20210911T000000
DTEND;TZID=America/Chicago:20210911T000000
DTSTAMP:20260423T003330
CREATED:20250613T034348Z
LAST-MODIFIED:20250613T034348Z
UID:10010498-1631318400-1631318400@essft.com
SUMMARY:Huntsville English Springer Spaniel Club  - Hunt Test Seminar
DESCRIPTION:The Huntsville English Springer Spaniel Club will hold a Hunt Test Judging Seminar led by Tom Meyer on Saturday\, September 11\, 2021 commencing at 9AM at the Hampton Inn and Suites\, Huntsville\, Texas. \nPoint of contact is Wayne Tisue at wctisue@aol.com or 210-573-0165. Seminar fee is $50.
URL:https://essft.com/event/huntsville-english-springer-spaniel-club-hunt-test-seminar/
CATEGORIES:Judging Seminar
END:VEVENT
BEGIN:VEVENT
DTSTART;TZID=America/Chicago:20210910T000000
DTEND;TZID=America/Chicago:20210912T000000
DTSTAMP:20260423T003330
CREATED:20250613T034333Z
LAST-MODIFIED:20250613T034333Z
UID:10010490-1631232000-1631404800@essft.com
SUMMARY:COCKER: Cascade English Cocker Spaniel Fanciers
DESCRIPTION:Entries Close: Monday\, August 30\, 2021 11:59:59 PM Eastern Time(ET) on Hunt Secretary \nJudges: Ralph Botti and Dominique Savoie\nWe have had to change our trial site for the Cascade English Cocker Spaniel Fanciers field trials September 10-12.  Hunt Secretary has been notified.\n\nFriday:  \nScatter Creek wildlife area (South unit). Rochester\, WA\nGPS. 46.827773\,-123.005755\n\nSaturday and Sunday:  \nJoint Base Lewis McChord (Area 20). Near Lacey\, WA\nGPS. 46.905733\,-122.727657 \nThese coordinates are to the turnoff onto a dirt road that leads into the trial site.  Directional flags to the actual site will not be put up before 5 PM on Friday.
URL:https://essft.com/event/cocker-cascade-english-cocker-spaniel-fanciers-3/
CATEGORIES:Cocker Trial
ORGANIZER;CN="Melissa Knapp":MAILTO:melissa.s.knapp@gmail.com
END:VEVENT
BEGIN:VEVENT
DTSTART;TZID=America/Chicago:20210910T000000
DTEND;TZID=America/Chicago:20210911T000000
DTSTAMP:20260423T003330
CREATED:20250613T034333Z
LAST-MODIFIED:20250613T034333Z
UID:10010491-1631232000-1631318400@essft.com
SUMMARY:COCKER: Central Wisconsin
DESCRIPTION:Entries Close: Monday\, August 30\, 2021 11:59:59 PM Eastern Time(ET) on Hunt Secretary \nJudges: Bill Boeckman and Brad Schindler
URL:https://essft.com/event/cocker-central-wisconsin/
LOCATION:Oasis Game Farm\, New Glarus\, WI 53574\, USA\, New Glarus\, Wisconsin\, 53574\, United States
CATEGORIES:Cocker Trial
GEO:42.837895;-89.729012
X-APPLE-STRUCTURED-LOCATION;VALUE=URI;X-ADDRESS=Oasis Game Farm New Glarus WI 53574 USA New Glarus Wisconsin 53574 United States;X-APPLE-RADIUS=500;X-TITLE=New Glarus\, WI 53574\, USA:geo:-89.729012,42.837895
END:VEVENT
BEGIN:VEVENT
DTSTART;TZID=America/Chicago:20210910T000000
DTEND;TZID=America/Chicago:20210911T000000
DTSTAMP:20260423T003330
CREATED:20250613T034333Z
LAST-MODIFIED:20250613T034333Z
UID:10010492-1631232000-1631318400@essft.com
SUMMARY:Timpanogos Hunting Spaniel
DESCRIPTION:Entries Close: Monday\, August 30\, 2021 11:59:59 PM Eastern Time(ET) on Hunt Secretary \nJudges: Tim Lindsey and Kevin McGlin
URL:https://essft.com/event/timpanogos-hunting-spaniel-2/
CATEGORIES:Field Trials - West
END:VEVENT
BEGIN:VEVENT
DTSTART;TZID=America/Chicago:20210909T000000
DTEND;TZID=America/Chicago:20210910T000000
DTSTAMP:20260423T003330
CREATED:20250613T034319Z
LAST-MODIFIED:20250613T034319Z
UID:10010489-1631145600-1631232000@essft.com
SUMMARY:COCKER: Northern Minnesota ESS Club
DESCRIPTION:Entries Close: Monday\, August 30\, 2021 11:59:59 PM Eastern Time(ET) on Hunt Secretary \nJudges: Tom Nabity and Clay Earl
URL:https://essft.com/event/cocker-northern-minnesota-ess-club-3/
LOCATION:Pine Shadows Daybreak\, Frederick\, SD 57441\, USA\, Frederick\, South Dakota\, 57441\, United States
CATEGORIES:Cocker Trial
ORGANIZER;CN="Sophie Haglin":MAILTO:mark@pineshadows.com
END:VEVENT
BEGIN:VEVENT
DTSTART;TZID=America/Chicago:20210906T000000
DTEND;TZID=America/Chicago:20210906T000000
DTSTAMP:20260423T003330
CREATED:20250613T034318Z
LAST-MODIFIED:20250613T034318Z
UID:10010488-1630886400-1630886400@essft.com
SUMMARY:Puget Sound English Springer Spaniel Assoc.
DESCRIPTION:Entries Close: Monday\, August 23\, 2021 11:59:59 PM Eastern Time(ET) on Hunt Secretary
URL:https://essft.com/event/puget-sound-english-springer-spaniel-assoc/
CATEGORIES:Hunt Tests
ORGANIZER;CN="Kathy Stermolle":MAILTO:stermolle@yahoo.com
END:VEVENT
BEGIN:VEVENT
DTSTART;TZID=America/Chicago:20210906T000000
DTEND;TZID=America/Chicago:20210906T000000
DTSTAMP:20260423T003330
CREATED:20250613T034318Z
LAST-MODIFIED:20250613T034318Z
UID:10010487-1630886400-1630886400@essft.com
SUMMARY:Labor Day
DESCRIPTION:
URL:https://essft.com/event/labor-day-3/
CATEGORIES:Holidays
END:VEVENT
BEGIN:VEVENT
DTSTART;TZID=America/Chicago:20210905T000000
DTEND;TZID=America/Chicago:20210905T000000
DTSTAMP:20260423T003330
CREATED:20250613T034318Z
LAST-MODIFIED:20250613T034318Z
UID:10010486-1630800000-1630800000@essft.com
SUMMARY:Clumber Spaniel Club of America Fall Hunt Test
DESCRIPTION:Entries Close: Monday\, August 23\, 2021 11:59:59 PM Eastern Time(ET) on Hunt Secretary
URL:https://essft.com/event/clumber-spaniel-club-of-america-fall-hunt-test-2/
CATEGORIES:Hunt Tests
END:VEVENT
BEGIN:VEVENT
DTSTART;TZID=America/Chicago:20210904T000000
DTEND;TZID=America/Chicago:20210905T000000
DTSTAMP:20260423T003330
CREATED:20250613T034318Z
LAST-MODIFIED:20250613T034318Z
UID:10010485-1630713600-1630800000@essft.com
SUMMARY:Minnesota Hunting Spaniel Association Fall 2021 Hunt Tests
DESCRIPTION:Entries Close: Tuesday\, August 24\, 2021 11:59:59 PM Eastern Time(ET) on Hunt Secretary
URL:https://essft.com/event/minnesota-hunting-spaniel-association-fall-2021-hunt-tests/
CATEGORIES:Hunt Tests
END:VEVENT
BEGIN:VEVENT
DTSTART;TZID=America/Chicago:20210904T000000
DTEND;TZID=America/Chicago:20210905T000000
DTSTAMP:20260423T003330
CREATED:20250613T034303Z
LAST-MODIFIED:20250613T034303Z
UID:10010482-1630713600-1630800000@essft.com
SUMMARY:Wisconsin English Springer Spaniel Assn Hunt Tests
DESCRIPTION:Entries Close: Tuesday\, August 24\, 2021 11:59:59 PM Eastern Time(ET) on Hunt Secretary
URL:https://essft.com/event/wisconsin-english-springer-spaniel-assn-hunt-tests/
LOCATION:Rock River Kennels\, Beaver Dam\, WI 53916\, USA\, Beaver Dam\, Wisconsin\, 53916\, United States
CATEGORIES:Hunt Tests
GEO:43.457769;-88.837329
X-APPLE-STRUCTURED-LOCATION;VALUE=URI;X-ADDRESS=Rock River Kennels Beaver Dam WI 53916 USA Beaver Dam Wisconsin 53916 United States;X-APPLE-RADIUS=500;X-TITLE=Beaver Dam\, WI 53916\, USA:geo:-88.837329,43.457769
END:VEVENT
BEGIN:VEVENT
DTSTART;TZID=America/Chicago:20210904T000000
DTEND;TZID=America/Chicago:20210905T000000
DTSTAMP:20260423T003330
CREATED:20250613T034303Z
LAST-MODIFIED:20250613T034303Z
UID:10010483-1630713600-1630800000@essft.com
SUMMARY:Flushing Dog Seminar with Hall of Fame Trainer Ray Cacchio
DESCRIPTION:Seminar Location: Green Point Wildlife Management Area Dresden\, Maine 04342\nInstructors: Ray and Alex Cacchio \nCost:\nHandler with dog (2 Days) $350.00 – Limited to 10\nAuditor/Spectator (2 Days) $150.00 (1 Day) $85.00 – Limited to 5 each day \nRay and Alex will be working with all age levels of flushing dogs\, from 12 week old pups through adult dogs. They also welcome handlers of all levels of experience and interests. \nCoffee\, pastries\, and lunch are included each day.
URL:https://essft.com/event/flushing-dog-seminar-with-hall-of-fame-trainer-ray-cacchio/
LOCATION:Green Point Wildlife Management Area\, Dresden\, ME 04342\, USA\, Dresden\, Maine\, 4342\, United States
CATEGORIES:Training Seminar
GEO:44.077448;-69.738418
X-APPLE-STRUCTURED-LOCATION;VALUE=URI;X-ADDRESS=Green Point Wildlife Management Area Dresden ME 04342 USA Dresden Maine 4342 United States;X-APPLE-RADIUS=500;X-TITLE=Dresden\, ME 04342\, USA:geo:-69.738418,44.077448
END:VEVENT
BEGIN:VEVENT
DTSTART;TZID=America/Chicago:20210904T000000
DTEND;TZID=America/Chicago:20210904T000000
DTSTAMP:20260423T003331
CREATED:20250613T034303Z
LAST-MODIFIED:20250613T034303Z
UID:10010484-1630713600-1630713600@essft.com
SUMMARY:Western Washington ESS Club Hunt Test
DESCRIPTION:Entries Close: Monday\, August 23\, 2021 11:59:59 PM Eastern Time(ET) on Hunt Secretary
URL:https://essft.com/event/western-washington-ess-club-hunt-test/
CATEGORIES:Hunt Tests
ORGANIZER;CN="Kathy Stermolle":MAILTO:stermolle@yahoo.com
END:VEVENT
BEGIN:VEVENT
DTSTART;TZID=America/Chicago:20210903T000000
DTEND;TZID=America/Chicago:20210903T000000
DTSTAMP:20260423T003331
CREATED:20250613T034303Z
LAST-MODIFIED:20250613T034303Z
UID:10010481-1630627200-1630627200@essft.com
SUMMARY:Mount Rainier Sporting Spaniel Assoc. Spaniel Hunt Test
DESCRIPTION:Entries Close: Monday\, August 23\, 2021 11:59:59 PM Eastern Time(ET) on Hunt Secretary
URL:https://essft.com/event/mount-rainier-sporting-spaniel-assoc-spaniel-hunt-test/
CATEGORIES:Hunt Tests
END:VEVENT
END:VCALENDAR