BEGIN:VCALENDAR
VERSION:2.0
PRODID:-//English Springer Spaniel Field Trials - ECPv6.15.20//NONSGML v1.0//EN
CALSCALE:GREGORIAN
METHOD:PUBLISH
X-WR-CALNAME:English Springer Spaniel Field Trials
X-ORIGINAL-URL:https://essft.com
X-WR-CALDESC:Events for English Springer Spaniel Field Trials
REFRESH-INTERVAL;VALUE=DURATION:PT1H
X-Robots-Tag:noindex
X-PUBLISHED-TTL:PT1H
BEGIN:VTIMEZONE
TZID:America/Chicago
BEGIN:DAYLIGHT
TZOFFSETFROM:-0600
TZOFFSETTO:-0500
TZNAME:CDT
DTSTART:20210314T080000
END:DAYLIGHT
BEGIN:STANDARD
TZOFFSETFROM:-0500
TZOFFSETTO:-0600
TZNAME:CST
DTSTART:20211107T070000
END:STANDARD
BEGIN:DAYLIGHT
TZOFFSETFROM:-0600
TZOFFSETTO:-0500
TZNAME:CDT
DTSTART:20220313T080000
END:DAYLIGHT
BEGIN:STANDARD
TZOFFSETFROM:-0500
TZOFFSETTO:-0600
TZNAME:CST
DTSTART:20221106T070000
END:STANDARD
BEGIN:DAYLIGHT
TZOFFSETFROM:-0600
TZOFFSETTO:-0500
TZNAME:CDT
DTSTART:20230312T080000
END:DAYLIGHT
BEGIN:STANDARD
TZOFFSETFROM:-0500
TZOFFSETTO:-0600
TZNAME:CST
DTSTART:20231105T070000
END:STANDARD
END:VTIMEZONE
BEGIN:VEVENT
DTSTART;TZID=America/Chicago:20220415T000000
DTEND;TZID=America/Chicago:20220416T000000
DTSTAMP:20260422T122938
CREATED:20250613T043531Z
LAST-MODIFIED:20250613T043531Z
UID:10010669-1649980800-1650067200@essft.com
SUMMARY:Central Wisconsin Sporting Spaniel Club
DESCRIPTION:Entries Close: Monday\, April 4\, 2022 11:59:59 PM Eastern Time(ET) on Hunt Secretary \nJudges: Dan Murray and Bob Davis      Brian Bilotta and Will Pick     Brad Schindler will be an apprentice.\nDue to weather/traveling conditions there has been a judge change for the trial Central Wisconsin ESS Field Trial April 15 & 16\, 2022 \nYour Open/Amateur judges will be Brian Bilotta and Will Pick. \n 
URL:https://essft.com/event/central-wisconsin-sporting-spaniel-club-9/
LOCATION:Oasis Game Farm\, New Glarus\, WI 53574\, USA\, New Glarus\, Wisconsin\, 53574\, United States
CATEGORIES:Field Trials - Mid West
GEO:42.837895;-89.729012
X-APPLE-STRUCTURED-LOCATION;VALUE=URI;X-ADDRESS=Oasis Game Farm New Glarus WI 53574 USA New Glarus Wisconsin 53574 United States;X-APPLE-RADIUS=500;X-TITLE=New Glarus\, WI 53574\, USA:geo:-89.729012,42.837895
END:VEVENT
BEGIN:VEVENT
DTSTART;TZID=America/Chicago:20220409T000000
DTEND;TZID=America/Chicago:20220410T000000
DTSTAMP:20260422T122938
CREATED:20250613T043531Z
LAST-MODIFIED:20250613T043531Z
UID:10010668-1649462400-1649548800@essft.com
SUMMARY:Missouri Hunting Spaniel Club 2022 Spring Hunt Test
DESCRIPTION:Event# 2022643202 & 03 is a Junior\, Senior\, Master Hunt Test Event. Because we are limiting Master/Senior combined to 15 each day and Junior to 10 each day\, there are two events on Huntsecretary.com. \n\nMissouri Hunting Spaniel Club 2022 Spring Hunt Test **MASTER/SENIOR**\nhttps://huntsecretary.com/premiumakc.asp?mhuntid=1005145\nhttps://huntsecretary.com/eventinfo_a.asp?mhuntid=1005145\n  \nMissouri Hunting Spaniel Club 2022 Spring Hunt Test **JUNIOR**\nhttps://huntsecretary.com/premiumakc.asp?mhuntid=1005144\nhttps://huntsecretary.com/eventinfo_a.asp?mhuntid=1005144
URL:https://essft.com/event/missouri-hunting-spaniel-club-2022-spring-hunt-test/
CATEGORIES:Hunt Tests
END:VEVENT
BEGIN:VEVENT
DTSTART;TZID=America/Chicago:20220409T000000
DTEND;TZID=America/Chicago:20220410T000000
DTSTAMP:20260422T122938
CREATED:20250613T043531Z
LAST-MODIFIED:20250613T043531Z
UID:10010665-1649462400-1649548800@essft.com
SUMMARY:St. Croix Valley Spaniel Club
DESCRIPTION:Entries Close: Tuesday\, March 29\, 2022 11:59:59 PM Eastern Time(ET) on Hunt Secretary \nJudges: Jeff Cubitt and Clay Earl
URL:https://essft.com/event/st-croix-valley-spaniel-club-12/
LOCATION:Good Go Ing Kennels\, Baldwin\, WI\, 54002\, United States
CATEGORIES:Field Trials - Mid West
END:VEVENT
BEGIN:VEVENT
DTSTART;TZID=America/Chicago:20220409T000000
DTEND;TZID=America/Chicago:20220410T000000
DTSTAMP:20260422T122938
CREATED:20250613T043531Z
LAST-MODIFIED:20250613T043531Z
UID:10010666-1649462400-1649548800@essft.com
SUMMARY:COCKER: Cocker Spaniel Field Trial Club of America
DESCRIPTION:Entries Close: Tuesday\, March 29\, 2022 11:59:59 PM Eastern Time(ET) on  Hunt Secretary \nJudges:  Dan Lussen and Keith Meissner    Apprentice for Cocker trial: Jack Glinsky\n 
URL:https://essft.com/event/cocker-cocker-spaniel-field-trial-club-of-america-3/
LOCATION:Mid County Rod and Gun Club\, 650 Waterbury Hill Rd\, Lagrangeville\, NY 12540\, USA\, Lagrangeville\, New York\, 12540\, United States
CATEGORIES:Cocker Trial
GEO:41.69856;-73.706758
X-APPLE-STRUCTURED-LOCATION;VALUE=URI;X-ADDRESS=Mid County Rod and Gun Club 650 Waterbury Hill Rd Lagrangeville NY 12540 USA Lagrangeville New York 12540 United States;X-APPLE-RADIUS=500;X-TITLE=650 Waterbury Hill Rd\, Lagrangeville\, NY 12540\, USA:geo:-73.706758,41.69856
END:VEVENT
BEGIN:VEVENT
DTSTART;TZID=America/Chicago:20220409T000000
DTEND;TZID=America/Chicago:20220410T000000
DTSTAMP:20260422T122938
CREATED:20250613T043531Z
LAST-MODIFIED:20250613T043531Z
UID:10010667-1649462400-1649548800@essft.com
SUMMARY:Cocker: Central Wisconsin Sporting Spaniel Club
DESCRIPTION:Entries Close: Tuesday\, March 29\, 2022 11:59:59 PM Eastern Time(ET) on Hunt Secretary \nJudges: Chuck Nelson and Brian Bilotta\n  \n 
URL:https://essft.com/event/cocker-central-wisconsin-sporting-spaniel-club-3/
CATEGORIES:Cocker Trial
END:VEVENT
BEGIN:VEVENT
DTSTART;TZID=America/Chicago:20220408T000000
DTEND;TZID=America/Chicago:20220409T000000
DTSTAMP:20260422T122938
CREATED:20250613T043516Z
LAST-MODIFIED:20250613T043516Z
UID:10010663-1649376000-1649462400@essft.com
SUMMARY:Timpanogos Hunting Spaniel Club
DESCRIPTION:Entries Close: Monday\, March 28\, 2022 11:59:59 PM Eastern Time(ET) on Hunt Secretary \nJudges: Todd Stelzer and Michael Pollack
URL:https://essft.com/event/timpanogos-hunting-spaniel-club-14/
LOCATION:Clarkston Trial Grounds\, 4900 W 11000 N\, Clarkston\, UT 84305\, USA\, Clarkston\, Utah\, 84305\, United States
CATEGORIES:Field Trials - West
GEO:41.931805;-112.01117
X-APPLE-STRUCTURED-LOCATION;VALUE=URI;X-ADDRESS=Clarkston Trial Grounds 4900 W 11000 N Clarkston UT 84305 USA Clarkston Utah 84305 United States;X-APPLE-RADIUS=500;X-TITLE=4900 W 11000 N\, Clarkston\, UT 84305\, USA:geo:-112.01117,41.931805
END:VEVENT
BEGIN:VEVENT
DTSTART;TZID=America/Chicago:20220408T000000
DTEND;TZID=America/Chicago:20220409T000000
DTSTAMP:20260422T122938
CREATED:20250613T043516Z
LAST-MODIFIED:20250613T043516Z
UID:10010664-1649376000-1649462400@essft.com
SUMMARY:COCKER: Timpanogos Hunting Spaniel Club
DESCRIPTION:Entries Close: Monday\, March 28\, 2022 11:59:59 PM Eastern Time(ET) on Hunt Secretary \nJudges: Todd Stelzer and Michael Pollack\n\n		\n			\n			\n		\n\n		\n 
URL:https://essft.com/event/cocker-timpanogos-hunting-spaniel-club-4/
LOCATION:Clarkston Trial Grounds\, 4900 W 11000 N\, Clarkston\, UT 84305\, USA\, Clarkston\, Utah\, 84305\, United States
CATEGORIES:Cocker Trial
GEO:41.931805;-112.01117
X-APPLE-STRUCTURED-LOCATION;VALUE=URI;X-ADDRESS=Clarkston Trial Grounds 4900 W 11000 N Clarkston UT 84305 USA Clarkston Utah 84305 United States;X-APPLE-RADIUS=500;X-TITLE=4900 W 11000 N\, Clarkston\, UT 84305\, USA:geo:-112.01117,41.931805
END:VEVENT
BEGIN:VEVENT
DTSTART;TZID=America/Chicago:20220402T000000
DTEND;TZID=America/Chicago:20220403T000000
DTSTAMP:20260422T122938
CREATED:20250613T043516Z
LAST-MODIFIED:20250613T043516Z
UID:10010660-1648857600-1648944000@essft.com
SUMMARY:Minnesota English Springer Spaniel Club
DESCRIPTION:Entries Close: Tuesday\, March 22\, 2022 11:59:59 PM Eastern Time(ET) on Hunt Secretary \nJudges: Pat Gilligan and Chuck Petrmichl
URL:https://essft.com/event/minnesota-english-springer-spaniel-club-10/
CATEGORIES:Field Trials - Mid West
END:VEVENT
BEGIN:VEVENT
DTSTART;TZID=America/Chicago:20220402T000000
DTEND;TZID=America/Chicago:20220403T000000
DTSTAMP:20260422T122938
CREATED:20250613T043516Z
LAST-MODIFIED:20250613T043516Z
UID:10010661-1648857600-1648944000@essft.com
SUMMARY:COCKER:  Western Washington ESS Club
DESCRIPTION:Entries Close: Tuesday\, March 22\, 2022 11:59:59 PM Eastern Time(ET) on Hunt Secretary \nJudges: Michael Ludwig and Brian Bilotta
URL:https://essft.com/event/cocker-western-washington-ess-club-4/
LOCATION:Scatter Creek Wildlife Area\, Rochester\, WA 98579\, USA\, Rochester\, Washington\, 98579\, United States
CATEGORIES:Cocker Trial
ORGANIZER;CN="Melissa Knapp":MAILTO:melissa.s.knapp@gmail.com
GEO:47.071189;-124.165336
X-APPLE-STRUCTURED-LOCATION;VALUE=URI;X-ADDRESS=Scatter Creek Wildlife Area Rochester WA 98579 USA Rochester Washington 98579 United States;X-APPLE-RADIUS=500;X-TITLE=Rochester\, WA 98579\, USA:geo:-124.165336,47.071189
END:VEVENT
BEGIN:VEVENT
DTSTART;TZID=America/Chicago:20220402T000000
DTEND;TZID=America/Chicago:20220403T000000
DTSTAMP:20260422T122938
CREATED:20250613T043516Z
LAST-MODIFIED:20250613T043516Z
UID:10010662-1648857600-1648944000@essft.com
SUMMARY:COCKER: Fox Valley English Cocker Club Spring 2022 Cocker Field Trial (Double Op/Am/Puppy)
DESCRIPTION:Entries Close: Monday\, March 21\, 2022 11:59:59 PM Eastern Time(ET) on Hunt Secretary \nJudges: Ray Takmajian and Pete Zuleger
URL:https://essft.com/event/cocker-fox-valley-english-cocker-club-spring-2022-cocker-field-trial-double-op-am-puppy/
LOCATION:Connolly Game Farm\, Reedsville\, WI 54230\, USA\, Reedsville\, Wisconsin\, 54230\, United States
CATEGORIES:Cocker Trial
GEO:44.153604;-87.956762
X-APPLE-STRUCTURED-LOCATION;VALUE=URI;X-ADDRESS=Connolly Game Farm Reedsville WI 54230 USA Reedsville Wisconsin 54230 United States;X-APPLE-RADIUS=500;X-TITLE=Reedsville\, WI 54230\, USA:geo:-87.956762,44.153604
END:VEVENT
BEGIN:VEVENT
DTSTART;TZID=America/Chicago:20220402T000000
DTEND;TZID=America/Chicago:20220403T000000
DTSTAMP:20260422T122938
CREATED:20250613T043501Z
LAST-MODIFIED:20250613T043501Z
UID:10010656-1648857600-1648944000@essft.com
SUMMARY:NorthwestESS Club
DESCRIPTION:Sorry!  No spring trial this year.
URL:https://essft.com/event/northwestess-club/
CATEGORIES:Field Trials - West
END:VEVENT
BEGIN:VEVENT
DTSTART;TZID=America/Chicago:20220402T000000
DTEND;TZID=America/Chicago:20220403T000000
DTSTAMP:20260422T122938
CREATED:20250613T043501Z
LAST-MODIFIED:20250613T043501Z
UID:10010657-1648857600-1648944000@essft.com
SUMMARY:Platte River ESSC
DESCRIPTION:Entries Close: Tuesday\, March 22\, 2022 11:59:59 PM Eastern Time(ET) on Hunt Secretary \nJudges: Gary Wilson and Katie Gorecki\n\n		\n			\n			\n		\n\n		\n  \n 
URL:https://essft.com/event/platte-river-essc-4/
CATEGORIES:Field Trials - Rocky Mountain
END:VEVENT
BEGIN:VEVENT
DTSTART;TZID=America/Chicago:20220402T000000
DTEND;TZID=America/Chicago:20220403T000000
DTSTAMP:20260422T122938
CREATED:20250613T043501Z
LAST-MODIFIED:20250613T043501Z
UID:10010658-1648857600-1648944000@essft.com
SUMMARY:Mid-Atlantic Hunting Spaniel Club
DESCRIPTION:Entries Close: Tuesday\, March 22\, 2022 11:59:59 PM Eastern Time(ET) on Hunt Secretary \nJudges: Alex Cacchio and Justin Smith
URL:https://essft.com/event/mid-atlantic-hunting-spaniel-club-7/
LOCATION:Sinking Valley\, Tyrone\, PA 16686\, USA\, Tyrone\, Pennsylvania\, 16686\, United States
CATEGORIES:Field Trials - East
GEO:40.670618;-78.238624
X-APPLE-STRUCTURED-LOCATION;VALUE=URI;X-ADDRESS=Sinking Valley Tyrone PA 16686 USA Tyrone Pennsylvania 16686 United States;X-APPLE-RADIUS=500;X-TITLE=Tyrone\, PA 16686\, USA:geo:-78.238624,40.670618
END:VEVENT
BEGIN:VEVENT
DTSTART;TZID=America/Chicago:20220402T000000
DTEND;TZID=America/Chicago:20220403T000000
DTSTAMP:20260422T122938
CREATED:20250613T043501Z
LAST-MODIFIED:20250613T043501Z
UID:10010659-1648857600-1648944000@essft.com
SUMMARY:Ohio Valley ESS
DESCRIPTION:Entries Close: Monday\, March 28\, 2022 11:59:59 PM Eastern Time(ET) on Hunt Secretary \nJudges: Trent Bosse and Brent LeMaster
URL:https://essft.com/event/ohio-valley-ess/
LOCATION:Elk Ridge Game Farm\, 5146 OH-96\, Bucyrus\, OH 44820\, USA\, Bucyrus\, Ohio\, 44820\, United States
CATEGORIES:Field Trials - Mid East
END:VEVENT
BEGIN:VEVENT
DTSTART;TZID=America/Chicago:20220401T000000
DTEND;TZID=America/Chicago:20220403T000000
DTSTAMP:20260422T122938
CREATED:20250613T043501Z
LAST-MODIFIED:20250613T043501Z
UID:10010655-1648771200-1648944000@essft.com
SUMMARY:Western Washington English Springer Spaniel Club
DESCRIPTION:Entries Close: Monday\, March 21\, 2022 11:59:59 PM Eastern Time(ET) on Hunt Secretary \nJudges:  Mike Ludwig and Brian Bilotta\n\n		\n			\n			\n		\n\n		\n 
URL:https://essft.com/event/western-washington-english-springer-spaniel-club-3/
LOCATION:Scatter Creek Wildlife Area\, Rochester\, WA 98579\, USA\, Rochester\, Washington\, 98579\, United States
CATEGORIES:Field Trials - West
ORGANIZER;CN="Melissa Knapp":MAILTO:melissa.s.knapp@gmail.com
GEO:47.071189;-124.165336
X-APPLE-STRUCTURED-LOCATION;VALUE=URI;X-ADDRESS=Scatter Creek Wildlife Area Rochester WA 98579 USA Rochester Washington 98579 United States;X-APPLE-RADIUS=500;X-TITLE=Rochester\, WA 98579\, USA:geo:-124.165336,47.071189
END:VEVENT
BEGIN:VEVENT
DTSTART;TZID=America/Chicago:20220328T000000
DTEND;TZID=America/Chicago:20220329T000000
DTSTAMP:20260422T122938
CREATED:20250613T043446Z
LAST-MODIFIED:20250613T043446Z
UID:10010654-1648425600-1648512000@essft.com
SUMMARY:Cocker: Lewis and Clark Club
DESCRIPTION:Entries Close: Tuesday\, March 15\, 2022 11:59:59 PM Eastern Time(ET) on Hunt Secretary \nJudges: Mark Mercie and Don Mock
URL:https://essft.com/event/cocker-lewis-and-clark-club/
CATEGORIES:Cocker Trial
END:VEVENT
BEGIN:VEVENT
DTSTART;TZID=America/Chicago:20220326T000000
DTEND;TZID=America/Chicago:20220327T000000
DTSTAMP:20260422T122938
CREATED:20250613T043446Z
LAST-MODIFIED:20250613T043446Z
UID:10010652-1648252800-1648339200@essft.com
SUMMARY:Minnesota Heartland English Springer Spaniel Club
DESCRIPTION:Entries Close: Tuesday\, March 15\, 2022 11:59:59 PM Eastern Time(ET) on Hunt Secretary \nJudges: Bob Fink and Mike Keough\n\n		\n			\n			\n		\n\n		\n  \n 
URL:https://essft.com/event/minnesota-heartland-english-springer-spaniel-club-3/
CATEGORIES:Field Trials - Mid West
END:VEVENT
BEGIN:VEVENT
DTSTART;TZID=America/Chicago:20220326T000000
DTEND;TZID=America/Chicago:20220327T000000
DTSTAMP:20260422T122938
CREATED:20250613T043446Z
LAST-MODIFIED:20250613T043446Z
UID:10010653-1648252800-1648339200@essft.com
SUMMARY:Clumber Spaniel Club of America National Spring Hunt Test
DESCRIPTION:Entries Close: Tuesday\, March 15\, 2022 11:59:59 PM Eastern Time(ET) on Hunt Secretary \n\n		\n			\n			\n		\n\n		\n  \n 
URL:https://essft.com/event/clumber-spaniel-club-of-america-national-spring-hunt-test/
CATEGORIES:Hunt Tests
END:VEVENT
BEGIN:VEVENT
DTSTART;TZID=America/Chicago:20220326T000000
DTEND;TZID=America/Chicago:20220327T000000
DTSTAMP:20260422T122938
CREATED:20250613T043446Z
LAST-MODIFIED:20250613T043446Z
UID:10010650-1648252800-1648339200@essft.com
SUMMARY:New Jersey Spaniel Field Trial Club
DESCRIPTION:3/14/2022 – Cancelled.
URL:https://essft.com/event/new-jersey-spaniel-field-trial-club-9/
CATEGORIES:Field Trials - East
END:VEVENT
BEGIN:VEVENT
DTSTART;TZID=America/Chicago:20220326T000000
DTEND;TZID=America/Chicago:20220327T000000
DTSTAMP:20260422T122938
CREATED:20250613T043446Z
LAST-MODIFIED:20250613T043446Z
UID:10010651-1648252800-1648339200@essft.com
SUMMARY:Susquehanna Valley ESS
DESCRIPTION:Entries Close: Tuesday\, March 15\, 2022 11:59:59 PM Eastern Time(ET) on Hunt Secretary \nJudges: John Bruggeman and Mike Elsasser
URL:https://essft.com/event/susquehanna-valley-ess/
CATEGORIES:Field Trials - Mid East
END:VEVENT
BEGIN:VEVENT
DTSTART;TZID=America/Chicago:20220326T000000
DTEND;TZID=America/Chicago:20220327T000000
DTSTAMP:20260422T122938
CREATED:20250613T043431Z
LAST-MODIFIED:20250613T043431Z
UID:10010649-1648252800-1648339200@essft.com
SUMMARY:Eastern Nebraska (ESSCEN)
DESCRIPTION:NEW LOCATION:  Carmichael Farm at 60626 720 Road\, Virginia\, Nebraska\n \n  \n\n		\n			\n			\n		\n\n		\nEntries Close: Tuesday\, March 15\, 2022 11:59:59 PM Eastern Time(ET) on Hunt Secretary \nJudges: Robert Clayton and Rick Schneider
URL:https://essft.com/event/eastern-nebraska-esscen/
CATEGORIES:Field Trials - Rocky Mountain
END:VEVENT
BEGIN:VEVENT
DTSTART;TZID=America/Chicago:20220325T000000
DTEND;TZID=America/Chicago:20220326T000000
DTSTAMP:20260422T122938
CREATED:20250613T043431Z
LAST-MODIFIED:20250613T043431Z
UID:10010648-1648166400-1648252800@essft.com
SUMMARY:Utah Springer Spaniel Club
DESCRIPTION:Entries Close: Monday\, March 14\, 2022 11:59:59 PM Eastern Time(ET) on Hunt Secretary \nJudges: Dan Murray and Patrick Berry
URL:https://essft.com/event/utah-springer-spaniel-club-16/
CATEGORIES:Field Trials - West
ORGANIZER;CN="Charles Tatton%2C FTS":MAILTO:tatton@brentblundell.com
END:VEVENT
BEGIN:VEVENT
DTSTART;TZID=America/Chicago:20220319T000000
DTEND;TZID=America/Chicago:20220320T000000
DTSTAMP:20260422T122938
CREATED:20250613T043431Z
LAST-MODIFIED:20250613T043431Z
UID:10010645-1647648000-1647734400@essft.com
SUMMARY:Stillwater Valley ESS
DESCRIPTION:Entries Close: Tuesday\, March 8\, 2022 11:59:59 PM Eastern Time(ET) on Hunt Secretary \nJudges: Vern Knapp and Mike Wallace
URL:https://essft.com/event/stillwater-valley-ess/
LOCATION:Beelman Farm\, 2192 Co Rd 21\, De Graff\, OH 43318\, USA\, De Graff\, Ohio\, 43318\, United States
CATEGORIES:Field Trials - Mid East
GEO:40.36598;-83.944001
X-APPLE-STRUCTURED-LOCATION;VALUE=URI;X-ADDRESS=Beelman Farm 2192 Co Rd 21 De Graff OH 43318 USA De Graff Ohio 43318 United States;X-APPLE-RADIUS=500;X-TITLE=2192 Co Rd 21\, De Graff\, OH 43318\, USA:geo:-83.944001,40.36598
END:VEVENT
BEGIN:VEVENT
DTSTART;TZID=America/Chicago:20220319T000000
DTEND;TZID=America/Chicago:20220320T000000
DTSTAMP:20260422T122938
CREATED:20250613T043431Z
LAST-MODIFIED:20250613T043431Z
UID:10010646-1647648000-1647734400@essft.com
SUMMARY:Southern Wisconsin Sporting Spaniel Club
DESCRIPTION:Entries Close: Tuesday\, March 8\, 2022 11:59:59 PM Eastern Time(ET) on Hunt Secretary \nJudges:  Dean Koehler and Randy Manore
URL:https://essft.com/event/southern-wisconsin-sporting-spaniel-club-8/
CATEGORIES:Field Trials - Mid West
END:VEVENT
BEGIN:VEVENT
DTSTART;TZID=America/Chicago:20220319T000000
DTEND;TZID=America/Chicago:20220320T000000
DTSTAMP:20260422T122938
CREATED:20250613T043431Z
LAST-MODIFIED:20250613T043431Z
UID:10010647-1647648000-1647734400@essft.com
SUMMARY:COCKER:  Stillwater Valley ESSC
DESCRIPTION:Entries Close: Tuesday\, March 8\, 2022 11:59:59 PM Eastern Time(ET) on Hunt Secretary \nJudges: Mike Elsasser and Pat Gilligan
URL:https://essft.com/event/cocker-stillwater-valley-essc/
LOCATION:Beelman Farm\, 2192 Co Rd 21\, De Graff\, OH 43318\, USA\, De Graff\, Ohio\, 43318\, United States
CATEGORIES:Cocker Trial
GEO:40.36598;-83.944001
X-APPLE-STRUCTURED-LOCATION;VALUE=URI;X-ADDRESS=Beelman Farm 2192 Co Rd 21 De Graff OH 43318 USA De Graff Ohio 43318 United States;X-APPLE-RADIUS=500;X-TITLE=2192 Co Rd 21\, De Graff\, OH 43318\, USA:geo:-83.944001,40.36598
END:VEVENT
BEGIN:VEVENT
DTSTART;TZID=America/Chicago:20220319T000000
DTEND;TZID=America/Chicago:20220320T000000
DTSTAMP:20260422T122938
CREATED:20250613T043416Z
LAST-MODIFIED:20250613T043416Z
UID:10010644-1647648000-1647734400@essft.com
SUMMARY:Valley Forge Field Trial Association
DESCRIPTION:2/6/2022:  Cancelled.
URL:https://essft.com/event/valley-forge-field-trial-association-7-3/
CATEGORIES:Field Trials - East
END:VEVENT
BEGIN:VEVENT
DTSTART;TZID=America/Chicago:20220319T000000
DTEND;TZID=America/Chicago:20220320T000000
DTSTAMP:20260422T122938
CREATED:20250613T043416Z
LAST-MODIFIED:20250613T043416Z
UID:10010642-1647648000-1647734400@essft.com
SUMMARY:Green Valley Spaniel Club
DESCRIPTION:Entries Close: Tuesday\, March 8\, 2022 11:59:59 PM Eastern Time(ET) on Hunt Secretary \nJudges: Jim O’Shea and Tom Meyer
URL:https://essft.com/event/green-valley-spaniel-club-6/
LOCATION:Raahauges Pheasant Club\, Dunnigan\, CA\, USA\, Dunnigan\, California\, United States
CATEGORIES:Field Trials - West
GEO:38.885238;-121.96958
X-APPLE-STRUCTURED-LOCATION;VALUE=URI;X-ADDRESS=Raahauges Pheasant Club Dunnigan CA USA Dunnigan California United States;X-APPLE-RADIUS=500;X-TITLE=Dunnigan\, CA\, USA:geo:-121.96958,38.885238
END:VEVENT
BEGIN:VEVENT
DTSTART;TZID=America/Chicago:20220319T000000
DTEND;TZID=America/Chicago:20220320T000000
DTSTAMP:20260422T122938
CREATED:20250613T043416Z
LAST-MODIFIED:20250613T043416Z
UID:10010643-1647648000-1647734400@essft.com
SUMMARY:COCKER:  Green Valley Spaniel Club
DESCRIPTION:Entries Close: Tuesday\, March 8\, 2022 11:59:59 PM Eastern Time(ET) Hunt Secretary \nJudges:  Tom Meyer and Jim O’Shea\n 
URL:https://essft.com/event/cocker-green-valley-spaniel-club-2/
LOCATION:Raahauges Pheasant Club\, Dunnigan\, CA\, USA\, Dunnigan\, California\, United States
CATEGORIES:Cocker Trial
GEO:38.885238;-121.96958
X-APPLE-STRUCTURED-LOCATION;VALUE=URI;X-ADDRESS=Raahauges Pheasant Club Dunnigan CA USA Dunnigan California United States;X-APPLE-RADIUS=500;X-TITLE=Dunnigan\, CA\, USA:geo:-121.96958,38.885238
END:VEVENT
BEGIN:VEVENT
DTSTART;TZID=America/Chicago:20220317T000000
DTEND;TZID=America/Chicago:20220320T000000
DTSTAMP:20260422T122938
CREATED:20250613T043416Z
LAST-MODIFIED:20250613T043416Z
UID:10010641-1647475200-1647734400@essft.com
SUMMARY:Central Kansas Trials (SSCCK)
DESCRIPTION:Entries Close: Monday\, March 7\, 2022 11:59:59 PM Eastern Time(ET) on Hunt Secretary \nJudges Trial 1:  Chuck Nelson and Paul Johannes\nJudges Trial 2:  Peter Rainey\, Kathy Nestor and Cristy Joy apprenticing
URL:https://essft.com/event/central-kansas-trials-sscck/
LOCATION:Springer Hollow Farm\, 12826 SW 77 Ave\, Zenda\, KS 67159\, USA\, Zenda\, Kansas\, 67159\, United States
CATEGORIES:Field Trials - Rocky Mountain
GEO:37.460004;-98.259078
X-APPLE-STRUCTURED-LOCATION;VALUE=URI;X-ADDRESS=Springer Hollow Farm 12826 SW 77 Ave Zenda KS 67159 USA Zenda Kansas 67159 United States;X-APPLE-RADIUS=500;X-TITLE=12826 SW 77 Ave\, Zenda\, KS 67159\, USA:geo:-98.259078,37.460004
END:VEVENT
BEGIN:VEVENT
DTSTART;TZID=America/Chicago:20220313T000000
DTEND;TZID=America/Chicago:20220313T000000
DTSTAMP:20260422T122938
CREATED:20250613T043416Z
LAST-MODIFIED:20250613T043416Z
UID:10010640-1647129600-1647129600@essft.com
SUMMARY:Daylight Saving Time Start
DESCRIPTION:
URL:https://essft.com/event/daylight-saving-time-start/
CATEGORIES:Holidays
END:VEVENT
END:VCALENDAR