BEGIN:VCALENDAR
VERSION:2.0
PRODID:-//English Springer Spaniel Field Trials - ECPv6.15.20//NONSGML v1.0//EN
CALSCALE:GREGORIAN
METHOD:PUBLISH
X-WR-CALNAME:English Springer Spaniel Field Trials
X-ORIGINAL-URL:https://essft.com
X-WR-CALDESC:Events for English Springer Spaniel Field Trials
REFRESH-INTERVAL;VALUE=DURATION:PT1H
X-Robots-Tag:noindex
X-PUBLISHED-TTL:PT1H
BEGIN:VTIMEZONE
TZID:America/Chicago
BEGIN:DAYLIGHT
TZOFFSETFROM:-0600
TZOFFSETTO:-0500
TZNAME:CDT
DTSTART:20210314T080000
END:DAYLIGHT
BEGIN:STANDARD
TZOFFSETFROM:-0500
TZOFFSETTO:-0600
TZNAME:CST
DTSTART:20211107T070000
END:STANDARD
BEGIN:DAYLIGHT
TZOFFSETFROM:-0600
TZOFFSETTO:-0500
TZNAME:CDT
DTSTART:20220313T080000
END:DAYLIGHT
BEGIN:STANDARD
TZOFFSETFROM:-0500
TZOFFSETTO:-0600
TZNAME:CST
DTSTART:20221106T070000
END:STANDARD
BEGIN:DAYLIGHT
TZOFFSETFROM:-0600
TZOFFSETTO:-0500
TZNAME:CDT
DTSTART:20230312T080000
END:DAYLIGHT
BEGIN:STANDARD
TZOFFSETFROM:-0500
TZOFFSETTO:-0600
TZNAME:CST
DTSTART:20231105T070000
END:STANDARD
END:VTIMEZONE
BEGIN:VEVENT
DTSTART;TZID=America/Chicago:20220910T000000
DTEND;TZID=America/Chicago:20220911T000000
DTSTAMP:20260422T164446
CREATED:20250613T044001Z
LAST-MODIFIED:20250613T044001Z
UID:10010755-1662768000-1662854400@essft.com
SUMMARY:Sudbury & District Kennel Club Inc.
DESCRIPTION:Waiting for more information…
URL:https://essft.com/event/sudbury-district-kennel-club-inc-2/
CATEGORIES:Canadian FT
END:VEVENT
BEGIN:VEVENT
DTSTART;TZID=America/Chicago:20220910T000000
DTEND;TZID=America/Chicago:20220911T000000
DTSTAMP:20260422T164446
CREATED:20250613T044001Z
LAST-MODIFIED:20250613T044001Z
UID:10010756-1662768000-1662854400@essft.com
SUMMARY:Gateway Upland Hunt Club Upland Spaniel Hunt Test
DESCRIPTION:Entries Close: Tuesday\, August 30\, 2022 11:59:59 PM Eastern Time(ET) on Hunt Secretary \n 
URL:https://essft.com/event/gateway-upland-hunt-club-upland-spaniel-hunt-test/
CATEGORIES:Hunt Tests
END:VEVENT
BEGIN:VEVENT
DTSTART;TZID=America/Chicago:20220910T000000
DTEND;TZID=America/Chicago:20220911T000000
DTSTAMP:20260422T164446
CREATED:20250613T043946Z
LAST-MODIFIED:20250613T043946Z
UID:10010754-1662768000-1662854400@essft.com
SUMMARY:Spaniel Association of Western New York
DESCRIPTION:Entries: TBD \nJudges: TBD \nPlease stand by…waiting for more information from the club.
URL:https://essft.com/event/spaniel-association-of-western-new-york-5/
CATEGORIES:Field Trials - Mid East
END:VEVENT
BEGIN:VEVENT
DTSTART;TZID=America/Chicago:20220910T000000
DTEND;TZID=America/Chicago:20220911T000000
DTSTAMP:20260422T164446
CREATED:20250613T043946Z
LAST-MODIFIED:20250613T043946Z
UID:10010751-1662768000-1662854400@essft.com
SUMMARY:COCKER: North Dakota Sporting Spaniel Club
DESCRIPTION:Entries Close: Tuesday\, August 30\, 2022 11:59:59 PM Eastern Time(ET) on Hunt Secretary \nJudges: Pat Keliher and Randy Bartsch\n\n		\n			\n			\n		\n\n		\n  \n 
URL:https://essft.com/event/cocker-north-dakota-sporting-spaniel-club-9/
CATEGORIES:Cocker Trial
END:VEVENT
BEGIN:VEVENT
DTSTART;TZID=America/Chicago:20220910T000000
DTEND;TZID=America/Chicago:20220911T000000
DTSTAMP:20260422T164446
CREATED:20250613T043946Z
LAST-MODIFIED:20250613T043946Z
UID:10010752-1662768000-1662854400@essft.com
SUMMARY:Northern Minnesota English Springer Spaniel Club
DESCRIPTION:Entries Close: Monday\, August 29\, 2022 11:59:59 PM Eastern Time(ET) on Hunt Secretary \nJudges: George Akkouris and Trent Bosse\n 
URL:https://essft.com/event/northern-minnesota-english-springer-spaniel-club-6/
LOCATION:Pine Shadows Daybreak\, Frederick\, SD 57441\, USA\, Frederick\, South Dakota\, 57441\, United States
CATEGORIES:Field Trials - Mid West
ORGANIZER;CN="Sophie Haglin":MAILTO:mark@pineshadows.com
END:VEVENT
BEGIN:VEVENT
DTSTART;TZID=America/Chicago:20220910T000000
DTEND;TZID=America/Chicago:20220911T000000
DTSTAMP:20260422T164446
CREATED:20250613T043946Z
LAST-MODIFIED:20250613T043946Z
UID:10010753-1662768000-1662854400@essft.com
SUMMARY:Maine Spaniel Field Trial Club
DESCRIPTION:Entries Close: Tuesday\, August 30\, 2022 11:59:59 PM Eastern Time(ET) on Hunt Secretary \nJudges: Mhari Peschel and Robert Clayton
URL:https://essft.com/event/maine-spaniel-field-trial-club-7/
LOCATION:Green Point WMA\, Dresden\, ME 04342\, USA\, Dresden\, Maine\, 4342\, United States
CATEGORIES:Field Trials - East
GEO:44.107296;-69.724211
X-APPLE-STRUCTURED-LOCATION;VALUE=URI;X-ADDRESS=Green Point WMA Dresden ME 04342 USA Dresden Maine 4342 United States;X-APPLE-RADIUS=500;X-TITLE=Dresden\, ME 04342\, USA:geo:-69.724211,44.107296
END:VEVENT
BEGIN:VEVENT
DTSTART;TZID=America/Chicago:20220909T000000
DTEND;TZID=America/Chicago:20220910T000000
DTSTAMP:20260422T164446
CREATED:20250613T043946Z
LAST-MODIFIED:20250613T043946Z
UID:10010750-1662681600-1662768000@essft.com
SUMMARY:COCKER: Central Wisconsin
DESCRIPTION:Entries Close: Tuesday\, August 30\, 2022 11:59:59 PM Eastern Time(ET) on Hunt Secretary \nJudges:  Kathy Nestor and Catherine Lewis\n 
URL:https://essft.com/event/cocker-central-wisconsin-2/
LOCATION:Oasis Game Farm\, New Glarus\, WI 53574\, USA\, New Glarus\, Wisconsin\, 53574\, United States
CATEGORIES:Cocker Trial
GEO:42.837895;-89.729012
X-APPLE-STRUCTURED-LOCATION;VALUE=URI;X-ADDRESS=Oasis Game Farm New Glarus WI 53574 USA New Glarus Wisconsin 53574 United States;X-APPLE-RADIUS=500;X-TITLE=New Glarus\, WI 53574\, USA:geo:-89.729012,42.837895
END:VEVENT
BEGIN:VEVENT
DTSTART;TZID=America/Chicago:20220909T000000
DTEND;TZID=America/Chicago:20220910T000000
DTSTAMP:20260422T164446
CREATED:20250613T043931Z
LAST-MODIFIED:20250613T043931Z
UID:10010749-1662681600-1662768000@essft.com
SUMMARY:Timpanogos Hunting Spaniel Club
DESCRIPTION:Entries Close: Monday\, August 29\, 2022 11:59:59 PM Eastern Time(ET) on Hunt Secretary \nJudges: Cindy Williams and Kevin Martineau
URL:https://essft.com/event/timpanogos-hunting-spaniel-club-15/
LOCATION:Clarkston Trial Grounds\, 4900 W 11000 N\, Clarkston\, UT 84305\, USA\, Clarkston\, Utah\, 84305\, United States
CATEGORIES:Field Trials - West
GEO:41.931805;-112.01117
X-APPLE-STRUCTURED-LOCATION;VALUE=URI;X-ADDRESS=Clarkston Trial Grounds 4900 W 11000 N Clarkston UT 84305 USA Clarkston Utah 84305 United States;X-APPLE-RADIUS=500;X-TITLE=4900 W 11000 N\, Clarkston\, UT 84305\, USA:geo:-112.01117,41.931805
END:VEVENT
BEGIN:VEVENT
DTSTART;TZID=America/Chicago:20220908T000000
DTEND;TZID=America/Chicago:20220909T000000
DTSTAMP:20260422T164446
CREATED:20250613T043931Z
LAST-MODIFIED:20250613T043931Z
UID:10010748-1662595200-1662681600@essft.com
SUMMARY:COCKER: Northern Minnesota ESS Club
DESCRIPTION:Entries Close: Monday\, August 29\, 2022 11:59:59 PM Eastern Time(ET) on Hunt Secretary  \nJudges:  Jim O’Keefe and Brad Schindler\n\n		\n			\n			\n		\n\n		\n  \n 
URL:https://essft.com/event/cocker-northern-minnesota-ess-club-4/
LOCATION:Pine Shadows Daybreak\, Frederick\, SD 57441\, USA\, Frederick\, South Dakota\, 57441\, United States
CATEGORIES:Cocker Trial
ORGANIZER;CN="Sophie Haglin":MAILTO:mark@pineshadows.com
END:VEVENT
BEGIN:VEVENT
DTSTART;TZID=America/Chicago:20220905T000000
DTEND;TZID=America/Chicago:20220905T000000
DTSTAMP:20260422T164446
CREATED:20250613T043931Z
LAST-MODIFIED:20250613T043931Z
UID:10010747-1662336000-1662336000@essft.com
SUMMARY:Labor Day
DESCRIPTION:
URL:https://essft.com/event/labor-day-4/
CATEGORIES:Holidays
END:VEVENT
BEGIN:VEVENT
DTSTART;TZID=America/Chicago:20220904T000000
DTEND;TZID=America/Chicago:20220905T000000
DTSTAMP:20260422T164446
CREATED:20250613T043931Z
LAST-MODIFIED:20250613T043931Z
UID:10010746-1662249600-1662336000@essft.com
SUMMARY:Western Washington Eng. Springer Spaniel Club
DESCRIPTION:Friday\, Sept. 2 host club: Puget Sound Eng. Springer Spaniel Assoc.  contact secretary  Kathy Stermolle stermolle@yahoo.com\n\nSaturday Sept. 3 host club: Mt. Rainier Sporting Spaniel Assoc.  contact secretary:  Karin Cartwright   arborfield@hotmail.com\n\nSunday Sept. 4 host club: Western Washington Eng. Springer Spaniel Club   contact secretary Kathy Stermolle stermolle@yahoo.com\n\nMonday Sept. 5 host club:   Western Washington Eng. Springer Spaniel Club  contact secretary Kathy Stermolle  stermolle@yahoo.com\n\nPremium lists will be available on http://www.huntsecretary.com
URL:https://essft.com/event/western-washington-eng-springer-spaniel-club/
CATEGORIES:Hunt Tests
END:VEVENT
BEGIN:VEVENT
DTSTART;TZID=America/Chicago:20220903T000000
DTEND;TZID=America/Chicago:20220905T000000
DTSTAMP:20260422T164446
CREATED:20250613T043931Z
LAST-MODIFIED:20250613T043931Z
UID:10010745-1662163200-1662336000@essft.com
SUMMARY:Calgary English Springer Spaniel Club Inc
DESCRIPTION:
URL:https://essft.com/event/calgary-english-springer-spaniel-club-inc-6/
CATEGORIES:Canadian FT
END:VEVENT
BEGIN:VEVENT
DTSTART;TZID=America/Chicago:20220903T000000
DTEND;TZID=America/Chicago:20220904T000000
DTSTAMP:20260422T164446
CREATED:20250613T043916Z
LAST-MODIFIED:20250613T043916Z
UID:10010742-1662163200-1662249600@essft.com
SUMMARY:Minnesota Hunting Spaniel Association (MHSA) Hunt Test
DESCRIPTION:Entries Close: Tuesday\, August 23\, 2022 11:59:59 PM Eastern Time(ET) on Hunt Secretary \n\n		\n			\n			\n		\n\n		\n  \n 
URL:https://essft.com/event/minnesota-hunting-spaniel-association-mhsa-hunt-test/
LOCATION:Good Go Ing Kennels\, Baldwin\, WI\, 54002\, United States
CATEGORIES:Hunt Tests
END:VEVENT
BEGIN:VEVENT
DTSTART;TZID=America/Chicago:20220903T000000
DTEND;TZID=America/Chicago:20220904T000000
DTSTAMP:20260422T164446
CREATED:20250613T043916Z
LAST-MODIFIED:20250613T043916Z
UID:10010744-1662163200-1662249600@essft.com
SUMMARY:Wisconsin English Springer Spaniel Assn (WESSA)
DESCRIPTION:Entries Close: Tuesday\, August 23\, 2022 11:59:59 PM Eastern Time(ET) on Hunt Secretary \n  \n\n		\n			\n			\n		\n\n		\n 
URL:https://essft.com/event/wisconsin-english-springer-spaniel-assn-wessa/
LOCATION:Rock River Kennels\, Beaver Dam\, WI 53916\, USA\, Beaver Dam\, Wisconsin\, 53916\, United States
CATEGORIES:Hunt Tests
GEO:43.457769;-88.837329
X-APPLE-STRUCTURED-LOCATION;VALUE=URI;X-ADDRESS=Rock River Kennels Beaver Dam WI 53916 USA Beaver Dam Wisconsin 53916 United States;X-APPLE-RADIUS=500;X-TITLE=Beaver Dam\, WI 53916\, USA:geo:-88.837329,43.457769
END:VEVENT
BEGIN:VEVENT
DTSTART;TZID=America/Chicago:20220903T000000
DTEND;TZID=America/Chicago:20220903T000000
DTSTAMP:20260422T164446
CREATED:20250613T043916Z
LAST-MODIFIED:20250613T043916Z
UID:10010743-1662163200-1662163200@essft.com
SUMMARY:Mt. Rainier Sporting Spaniel Assoc. 
DESCRIPTION:Friday\, Sept. 2 host club: Puget Sound Eng. Springer Spaniel Assoc.  contact secretary  Kathy Stermolle stermolle@yahoo.com\n\nSaturday Sept. 3 host club: Mt. Rainier Sporting Spaniel Assoc.  contact secretary:  Karin Cartwright   arborfield@hotmail.com\n\nSunday Sept. 4 host club: Western Washington Eng. Springer Spaniel Club   contact secretary Kathy Stermolle stermolle@yahoo.com\n\nMonday Sept. 5 host club:   Western Washington Eng. Springer Spaniel Club  contact secretary Kathy Stermolle  stermolle@yahoo.com\n\nPremium lists will be available on http://www.huntsecretary.com
URL:https://essft.com/event/mt-rainier-sporting-spaniel-assoc/
CATEGORIES:Hunt Tests
END:VEVENT
BEGIN:VEVENT
DTSTART;TZID=America/Chicago:20220902T000000
DTEND;TZID=America/Chicago:20220902T000000
DTSTAMP:20260422T164446
CREATED:20250613T043916Z
LAST-MODIFIED:20250613T043916Z
UID:10010741-1662076800-1662076800@essft.com
SUMMARY:Puget Sound Eng. Springer Spaniel Assoc. 
DESCRIPTION:Friday\, Sept. 2 host club: Puget Sound Eng. Springer Spaniel Assoc.  contact secretary  Kathy Stermolle stermolle@yahoo.com\n\nSaturday Sept. 3 host club: Mt. Rainier Sporting Spaniel Assoc.  contact secretary:  Karin Cartwright   arborfield@hotmail.com\n\nSunday Sept. 4 host club: Western Washington Eng. Springer Spaniel Club   contact secretary Kathy Stermolle stermolle@yahoo.com\n\nMonday Sept. 5 host club:   Western Washington Eng. Springer Spaniel Club  contact secretary Kathy Stermolle  stermolle@yahoo.com\n\nPremium lists will be available on http://www.huntsecretary.com
URL:https://essft.com/event/puget-sound-eng-springer-spaniel-assoc/
CATEGORIES:Hunt Tests
END:VEVENT
BEGIN:VEVENT
DTSTART;TZID=America/Chicago:20220827T000000
DTEND;TZID=America/Chicago:20220828T000000
DTSTAMP:20260422T164446
CREATED:20250613T043916Z
LAST-MODIFIED:20250613T043916Z
UID:10010740-1661558400-1661644800@essft.com
SUMMARY:ABDA Flushing Dog Hunt Test
DESCRIPTION:Entries Close: Tuesday\, August 16\, 2022 11:59:59 PM Eastern Time(ET) on Hunt Secretary \n\n		\n			\n			\n		\n\n		\n  \n 
URL:https://essft.com/event/abda-flushing-dog-hunt-test-2/
CATEGORIES:Hunt Tests
END:VEVENT
BEGIN:VEVENT
DTSTART;TZID=America/Chicago:20220827T000000
DTEND;TZID=America/Chicago:20220828T000000
DTSTAMP:20260422T164446
CREATED:20250613T043902Z
LAST-MODIFIED:20250613T043902Z
UID:10010739-1661558400-1661644800@essft.com
SUMMARY:Ohio Valley English Springer Spaniel Club
DESCRIPTION:Entries Close: Monday\, August 22\, 2022 11:59:59 PM Eastern Time(ET) on Hunt Secretary \n\n		\n			\n			\n		\n\n		\n 
URL:https://essft.com/event/ohio-valley-english-springer-spaniel-club-3/
LOCATION:Elk Ridge Game Farm\, 5146 OH-96\, Bucyrus\, OH 44820\, USA\, Bucyrus\, Ohio\, 44820\, United States
CATEGORIES:Hunt Tests
END:VEVENT
BEGIN:VEVENT
DTSTART;TZID=America/Chicago:20220827T000000
DTEND;TZID=America/Chicago:20220828T000000
DTSTAMP:20260422T164446
CREATED:20250613T043901Z
LAST-MODIFIED:20250613T043901Z
UID:10010738-1661558400-1661644800@essft.com
SUMMARY:English Springer Spaniel FT Assoc Spaniel Hunt Test 2022 (National Specialty)
DESCRIPTION:Entries Close: Monday\, August 15\, 2022 at 11:59 P.M. Eastern Time(ET) on Hunt Secretary \n 
URL:https://essft.com/event/english-springer-spaniel-ft-assoc-spaniel-hunt-test-2022-national-specialty/
CATEGORIES:Hunt Tests
END:VEVENT
BEGIN:VEVENT
DTSTART;TZID=America/Chicago:20220827T000000
DTEND;TZID=America/Chicago:20220828T000000
DTSTAMP:20260422T164446
CREATED:20250613T043901Z
LAST-MODIFIED:20250613T043901Z
UID:10010737-1661558400-1661644800@essft.com
SUMMARY:Central Connecticut Spaniel Club
DESCRIPTION:Entries Close: Tuesday\, August 16\, 2022 11:59:59 PM Eastern Time(ET) on Hunt Secretary \nJudges:  Dan Lussen and Alex Cacchio       Apprentice  John Dunn
URL:https://essft.com/event/central-connecticut-spaniel-club-10/
CATEGORIES:Field Trials - East
ORGANIZER;CN="Deborah Olszewski":MAILTO:dmoski@aol.com
END:VEVENT
BEGIN:VEVENT
DTSTART;TZID=America/Chicago:20220826T000000
DTEND;TZID=America/Chicago:20220827T000000
DTSTAMP:20260422T164446
CREATED:20250613T043901Z
LAST-MODIFIED:20250613T043901Z
UID:10010736-1661472000-1661558400@essft.com
SUMMARY:COCKER: Timpanogos Hunting Spaniel Club
DESCRIPTION:Entries Close: Monday\, August 15\, 2022 11:59:59 PM Eastern Time(ET) on Hunt Secretary \nJudges: Bob Child and Greg Kuhlman\n 
URL:https://essft.com/event/cocker-timpanogos-hunting-spaniel-club-5/
LOCATION:Clarkston Trial Grounds\, 4900 W 11000 N\, Clarkston\, UT 84305\, USA\, Clarkston\, Utah\, 84305\, United States
CATEGORIES:Cocker Trial
GEO:41.931805;-112.01117
X-APPLE-STRUCTURED-LOCATION;VALUE=URI;X-ADDRESS=Clarkston Trial Grounds 4900 W 11000 N Clarkston UT 84305 USA Clarkston Utah 84305 United States;X-APPLE-RADIUS=500;X-TITLE=4900 W 11000 N\, Clarkston\, UT 84305\, USA:geo:-112.01117,41.931805
END:VEVENT
BEGIN:VEVENT
DTSTART;TZID=America/Chicago:20220825T000000
DTEND;TZID=America/Chicago:20220827T000000
DTSTAMP:20260422T164446
CREATED:20250613T043901Z
LAST-MODIFIED:20250613T043901Z
UID:10010735-1661385600-1661558400@essft.com
SUMMARY:Prairie Spaniel Club
DESCRIPTION:Entries\nClosing and Draw – 8:00 p.m. MDT\, Tuesday\, August 16\, 2022. Running order draws will be held immediately thereafter. \nField Trial Secretary\nAlice Stewart – 5031-50 Avenue\, Vermilion\, Alberta\, T9X 1A7\nalice.stewart@lakelandcollege.ca\nTelephone: 780-853-3551 cell\nPlease enter on dogshow.ca\nCredit card and Interac entries are avail \n  \n****Judges—pending CKC approval\nKevin Rutherford\nLavern Forewell\nMike Sterling\nRandy Setzer
URL:https://essft.com/event/prairie-spaniel-club-5/
CATEGORIES:Canadian FT
END:VEVENT
BEGIN:VEVENT
DTSTART;TZID=America/Chicago:20220820T000000
DTEND;TZID=America/Chicago:20220821T000000
DTSTAMP:20260422T164446
CREATED:20250613T043846Z
LAST-MODIFIED:20250613T043846Z
UID:10010732-1660953600-1661040000@essft.com
SUMMARY:Central Ontario Spaniel Club
DESCRIPTION:https://www.dogshow.ca/en/Events/3190/Central-Ontario-Spaniel-Club
URL:https://essft.com/event/central-ontario-spaniel-club-8/
CATEGORIES:Canadian FT
END:VEVENT
BEGIN:VEVENT
DTSTART;TZID=America/Chicago:20220820T000000
DTEND;TZID=America/Chicago:20220821T000000
DTSTAMP:20260422T164446
CREATED:20250613T043846Z
LAST-MODIFIED:20250613T043846Z
UID:10010734-1660953600-1661040000@essft.com
SUMMARY:Northwest ESS Club (NWESSC) Hunt Test
DESCRIPTION:Entries Close: Tuesday\, August 9\, 2022 11:59:59 PM Eastern Time(ET) on Hunt Secretary \n  \n\n		\n			\n			\n		\n\n		\n 
URL:https://essft.com/event/northwest-ess-club-nwessc-hunt-test/
LOCATION:Luckiamute Valley Pheasants\, Monmouth\, OR\, USA\, Monmouth\, Oregon\, United States
CATEGORIES:Hunt Tests
GEO:44.848452;-123.233989
X-APPLE-STRUCTURED-LOCATION;VALUE=URI;X-ADDRESS=Luckiamute Valley Pheasants Monmouth OR USA Monmouth Oregon United States;X-APPLE-RADIUS=500;X-TITLE=Monmouth\, OR\, USA:geo:-123.233989,44.848452
END:VEVENT
BEGIN:VEVENT
DTSTART;TZID=America/Chicago:20220820T000000
DTEND;TZID=America/Chicago:20220820T000000
DTSTAMP:20260422T164446
CREATED:20250613T043846Z
LAST-MODIFIED:20250613T043846Z
UID:10010733-1660953600-1660953600@essft.com
SUMMARY:Stillwater Valley English Springer Spaniel Club
DESCRIPTION:Entries Close: Tuesday\, August 9\, 2022 11:59:59 PM Eastern Time(ET) on Hunt Secretary  \nJudges: Paul Hearing and Ben Martin \n 
URL:https://essft.com/event/stillwater-valley-english-springer-spaniel-club/
LOCATION:Beelman Farm\, 2192 Co Rd 21\, De Graff\, OH 43318\, USA\, De Graff\, Ohio\, 43318\, United States
CATEGORIES:Water Test
GEO:40.36598;-83.944001
X-APPLE-STRUCTURED-LOCATION;VALUE=URI;X-ADDRESS=Beelman Farm 2192 Co Rd 21 De Graff OH 43318 USA De Graff Ohio 43318 United States;X-APPLE-RADIUS=500;X-TITLE=2192 Co Rd 21\, De Graff\, OH 43318\, USA:geo:-83.944001,40.36598
END:VEVENT
BEGIN:VEVENT
DTSTART;TZID=America/Chicago:20220813T000000
DTEND;TZID=America/Chicago:20220814T000000
DTSTAMP:20260422T164446
CREATED:20250613T043846Z
LAST-MODIFIED:20250613T043846Z
UID:10010730-1660348800-1660435200@essft.com
SUMMARY:Gunning Seminar - Eastern Interclub
DESCRIPTION:The date for the gunning seminar will be Aug 13th and 14th.  START TIME: 8:00 AM \nThe seminar will be conducted by our National Gunning Educational Chair Morgan Haglin and our Eastern Reginal Gunning Director George Akkouris. \nDue to the price of birds\, the cost will be $75. That will include birds for all shooters\, lunch both days and any instructional materials. \nIt will be held at Schoenwood Farms 49 Whites RD Washington NJ 07882 \nThe seminar will be 2 days: \nSaturday will be for new guns wanting to become Field Trial Guns and for those shooting 5 years or less and any guns that want to further their education in gunning Field Trials\, but ALL are welcome. \nSunday will be an advanced course for those senior guns that would like to become Gun Captain’s\, Current Gun Captain’s\, Field trial Chairman\, and any current guns are welcome. \nThere will be classroom time\, as well as time spent in the field doing actual shooting scenarios on live birds consisting of pigeons\, Chukar and Pheasant. We will be running dogs in braces and single and if we have some puppies a puppy run. SO BRING YOUR GUN and ammo. \nYou can bring your dog if you have one and when not gunning you might find time to run your dog. \nYou MUST register in advance no later than Aug 6th. Make checks payable to New Jersey Spaniel Field Trial Club and mail them to Ted Lagala 21 Seabreeze Lane West Islip NY 11795\nPlease pass this along to your club members and anyone else you feel would benefit by this educational seminar.
URL:https://essft.com/event/gunning-seminar-eastern-interclub/
CATEGORIES:Gunning Seminars
END:VEVENT
BEGIN:VEVENT
DTSTART;TZID=America/Chicago:20220813T000000
DTEND;TZID=America/Chicago:20220814T000000
DTSTAMP:20260422T164446
CREATED:20250613T043831Z
LAST-MODIFIED:20250613T043831Z
UID:10010728-1660348800-1660435200@essft.com
SUMMARY:Central Maine Spaniel Club Hunt Test
DESCRIPTION:Entries Close: Tuesday\, August 2\, 2022 11:59:59 PM Eastern Time(ET) on Hunt Secretary
URL:https://essft.com/event/central-maine-spaniel-club-hunt-test-2/
CATEGORIES:Hunt Tests
END:VEVENT
BEGIN:VEVENT
DTSTART;TZID=America/Chicago:20220813T000000
DTEND;TZID=America/Chicago:20220813T000000
DTSTAMP:20260422T164446
CREATED:20250613T043846Z
LAST-MODIFIED:20250613T043846Z
UID:10010731-1660348800-1660348800@essft.com
SUMMARY:Utah Springer Spaniel Club
DESCRIPTION:Waiting for more information…..
URL:https://essft.com/event/utah-springer-spaniel-club-17/
CATEGORIES:Water Test
ORGANIZER;CN="Charles Tatton%2C FTS":MAILTO:tatton@brentblundell.com
END:VEVENT
BEGIN:VEVENT
DTSTART;TZID=America/Chicago:20220813T000000
DTEND;TZID=America/Chicago:20220813T000000
DTSTAMP:20260422T164446
CREATED:20250613T043831Z
LAST-MODIFIED:20250613T043831Z
UID:10010729-1660348800-1660348800@essft.com
SUMMARY:ESS Club of the Central States-- Springer Spaniel Water Test
DESCRIPTION:Entries Close: Tuesday\, August 2\, 2022 11:59:59 PM Eastern Time(ET) on Hunt Secretary \nJudges: Don Brunn and Jack Markowski
URL:https://essft.com/event/ess-club-of-the-central-states-springer-spaniel-water-test/
LOCATION:Dansmirth Kennels\, 17109 Lincoln Rd\, Harvard\, IL 60033\, USA\, Harvard\, Illinois\, 60033\, United States
CATEGORIES:Water Test
END:VEVENT
BEGIN:VEVENT
DTSTART;TZID=America/Chicago:20220806T000000
DTEND;TZID=America/Chicago:20220807T000000
DTSTAMP:20260422T164446
CREATED:20250613T043831Z
LAST-MODIFIED:20250613T043831Z
UID:10010727-1659744000-1659830400@essft.com
SUMMARY:Southern Tier Spaniel Field Trial Assn
DESCRIPTION:Entries Close: Tuesday\, July 26\, 2022 11:59:59 PM Eastern Time(ET) on Hunt Secretary
URL:https://essft.com/event/southern-tier-spaniel-field-trial-assn/
LOCATION:Sunrise Kennels\, 6600 Co Rd 69\, Canisteo\, NY 14823\, USA\, Canisteo\, New York\, 14823\, United States
CATEGORIES:Hunt Tests
GEO:42.321777;-77.460261
X-APPLE-STRUCTURED-LOCATION;VALUE=URI;X-ADDRESS=Sunrise Kennels 6600 Co Rd 69 Canisteo NY 14823 USA Canisteo New York 14823 United States;X-APPLE-RADIUS=500;X-TITLE=6600 Co Rd 69\, Canisteo\, NY 14823\, USA:geo:-77.460261,42.321777
END:VEVENT
END:VCALENDAR