BEGIN:VCALENDAR
VERSION:2.0
PRODID:-//English Springer Spaniel Field Trials - ECPv6.15.20//NONSGML v1.0//EN
CALSCALE:GREGORIAN
METHOD:PUBLISH
X-WR-CALNAME:English Springer Spaniel Field Trials
X-ORIGINAL-URL:https://essft.com
X-WR-CALDESC:Events for English Springer Spaniel Field Trials
REFRESH-INTERVAL;VALUE=DURATION:PT1H
X-Robots-Tag:noindex
X-PUBLISHED-TTL:PT1H
BEGIN:VTIMEZONE
TZID:America/Chicago
BEGIN:DAYLIGHT
TZOFFSETFROM:-0600
TZOFFSETTO:-0500
TZNAME:CDT
DTSTART:20200308T080000
END:DAYLIGHT
BEGIN:STANDARD
TZOFFSETFROM:-0500
TZOFFSETTO:-0600
TZNAME:CST
DTSTART:20201101T070000
END:STANDARD
BEGIN:DAYLIGHT
TZOFFSETFROM:-0600
TZOFFSETTO:-0500
TZNAME:CDT
DTSTART:20210314T080000
END:DAYLIGHT
BEGIN:STANDARD
TZOFFSETFROM:-0500
TZOFFSETTO:-0600
TZNAME:CST
DTSTART:20211107T070000
END:STANDARD
BEGIN:DAYLIGHT
TZOFFSETFROM:-0600
TZOFFSETTO:-0500
TZNAME:CDT
DTSTART:20220313T080000
END:DAYLIGHT
BEGIN:STANDARD
TZOFFSETFROM:-0500
TZOFFSETTO:-0600
TZNAME:CST
DTSTART:20221106T070000
END:STANDARD
BEGIN:DAYLIGHT
TZOFFSETFROM:-0600
TZOFFSETTO:-0500
TZNAME:CDT
DTSTART:20230312T080000
END:DAYLIGHT
BEGIN:STANDARD
TZOFFSETFROM:-0500
TZOFFSETTO:-0600
TZNAME:CST
DTSTART:20231105T070000
END:STANDARD
END:VTIMEZONE
BEGIN:VEVENT
DTSTART;TZID=America/Chicago:20220226T000000
DTEND;TZID=America/Chicago:20220227T000000
DTSTAMP:20260422T134746
CREATED:20250613T043301Z
LAST-MODIFIED:20250613T043301Z
UID:10010619-1645833600-1645920000@essft.com
SUMMARY:Missouri Hunting Spaniel Club
DESCRIPTION:Entries Close: Tuesday\, February 15\, 2022 11:59:59 PM Eastern Time(ET) on Hunt Secretary \nJudges: Rick Paquin and Will Pick
URL:https://essft.com/event/missouri-hunting-spaniel-club-18/
LOCATION:Brushy Creek Farm\, Dunnegan\, MO 65640\, USA\, Dunnegan\, Missouri\, 65640\, United States
CATEGORIES:Field Trials - Rocky Mountain
GEO:37.70822;-93.577297
X-APPLE-STRUCTURED-LOCATION;VALUE=URI;X-ADDRESS=Brushy Creek Farm Dunnegan MO 65640 USA Dunnegan Missouri 65640 United States;X-APPLE-RADIUS=500;X-TITLE=Dunnegan\, MO 65640\, USA:geo:-93.577297,37.70822
END:VEVENT
BEGIN:VEVENT
DTSTART;TZID=America/Chicago:20220226T000000
DTEND;TZID=America/Chicago:20220227T000000
DTSTAMP:20260422T134746
CREATED:20250613T043301Z
LAST-MODIFIED:20250613T043301Z
UID:10010618-1645833600-1645920000@essft.com
SUMMARY:Southern California Sporting Spaniel Club
DESCRIPTION:Entries Close: Tuesday\, February 15\, 2022 11:59:59 PM Eastern Time(ET) on Hunt Secretary \nJudges: Richard Whelan and Bob Iversen
URL:https://essft.com/event/southern-california-sporting-spaniel-club-8/
LOCATION:Etiwanda Game Association\, 18950 CA-173\, Hesperia\, CA 92345\, USA\, Hesperia\, California\, 92345\, United States
CATEGORIES:Field Trials - West
GEO:34.3089;-117.322115
X-APPLE-STRUCTURED-LOCATION;VALUE=URI;X-ADDRESS=Etiwanda Game Association 18950 CA-173 Hesperia CA 92345 USA Hesperia California 92345 United States;X-APPLE-RADIUS=500;X-TITLE=18950 CA-173\, Hesperia\, CA 92345\, USA:geo:-117.322115,34.3089
END:VEVENT
BEGIN:VEVENT
DTSTART;TZID=America/Chicago:20220225T000000
DTEND;TZID=America/Chicago:20220225T000000
DTSTAMP:20260422T134746
CREATED:20250613T043301Z
LAST-MODIFIED:20250613T043301Z
UID:10010617-1645747200-1645747200@essft.com
SUMMARY:Cocker: Missouri Hunting Spaniel Club
DESCRIPTION:Entries Close: Tuesday\, February 15\, 2022 11:59:59 PM Eastern Time(ET) on Hunt Secretary \nJudges:  Will Pick and Rick Paquin
URL:https://essft.com/event/cocker-missouri-hunting-spaniel-club-2/
LOCATION:Brushy Creek Farm\, Dunnegan\, MO 65640\, USA\, Dunnegan\, Missouri\, 65640\, United States
CATEGORIES:Cocker Trial
GEO:37.70822;-93.577297
X-APPLE-STRUCTURED-LOCATION;VALUE=URI;X-ADDRESS=Brushy Creek Farm Dunnegan MO 65640 USA Dunnegan Missouri 65640 United States;X-APPLE-RADIUS=500;X-TITLE=Dunnegan\, MO 65640\, USA:geo:-93.577297,37.70822
END:VEVENT
BEGIN:VEVENT
DTSTART;TZID=America/Chicago:20220221T000000
DTEND;TZID=America/Chicago:20220221T000000
DTSTAMP:20260422T134746
CREATED:20250613T043301Z
LAST-MODIFIED:20250613T043301Z
UID:10010616-1645401600-1645401600@essft.com
SUMMARY:San Fernando Valley Springer Spaniel Club
DESCRIPTION:PLEASE MAKE CHECKS PAYABLE TO SAN FERNANDO VALLEY\nSPRINGER SPANIEL CLUB AND SEND IN ADVANCE TO:\nNicola Quinn\, Field Trial Secretary\n3001 Bridgeway 193\nSausalito CA 94965\nEmail: quinn.npq@gmail.com\nEmail entries will be accepted but entry fees must be paid prior to trial. \nENTRIES WILL CLOSE AT THE ABOVE ADDRESS AT:\n8:00 PM (PST) February 9\, 2022 \nJudge Change: Bob Bullard and  Steve Bender\nUpdated 2/2/2022:  Pheasant will be used for the All-Age Stakes
URL:https://essft.com/event/san-fernando-valley-springer-spaniel-club-5/
LOCATION:Kincade Wildlife Management Area\, Porterville\, CA 93257\, USA\, Porterville\, California\, 93257\, United States
CATEGORIES:Field Trials - West
GEO:36.057532;-118.99131
X-APPLE-STRUCTURED-LOCATION;VALUE=URI;X-ADDRESS=Kincade Wildlife Management Area Porterville CA 93257 USA Porterville California 93257 United States;X-APPLE-RADIUS=500;X-TITLE=Porterville\, CA 93257\, USA:geo:-118.99131,36.057532
END:VEVENT
BEGIN:VEVENT
DTSTART;TZID=America/Chicago:20220219T000000
DTEND;TZID=America/Chicago:20220220T000000
DTSTAMP:20260422T134746
CREATED:20250613T043301Z
LAST-MODIFIED:20250613T043301Z
UID:10010615-1645228800-1645315200@essft.com
SUMMARY:COCKER:  Central Maine Spaniel Club
DESCRIPTION:Entries Close: Monday\, February 7\, 2022 11:59:59 PM Eastern Time(ET) on Hunt Secretary \nJudges: Pete Zuleger and Dominique Savoie
URL:https://essft.com/event/cocker-central-maine-spaniel-club-3/
CATEGORIES:Cocker Trial
END:VEVENT
BEGIN:VEVENT
DTSTART;TZID=America/Chicago:20220219T000000
DTEND;TZID=America/Chicago:20220220T000000
DTSTAMP:20260422T134746
CREATED:20250613T043246Z
LAST-MODIFIED:20250613T043246Z
UID:10010614-1645228800-1645315200@essft.com
SUMMARY:Arrowhead ESS Club
DESCRIPTION:PLEASE MAKE CHECKS PAYABLE TO ARROWHEAD ENGLISH\nSPRINGER SPANIEL CLUB AND SEND IN ADVANCE TO:\nNicola Quinn\, Field Trial Secretary\n3001 Bridgeway 193\nSausalito CA 94965\nEmail: quinn.npq@gmail.com\nEmail entries will be accepted but entry fees must be paid prior to trial. \nENTRIES WILL CLOSE AT THE ABOVE ADDRESS AT:\n8:00 PM (PST) February 9\, 2022 \nJUDGE CHANGES:  Steve Bender and Mhari Peschel\nUpdate 2/2/2022:  Using Pheasant in the All Age Stakes
URL:https://essft.com/event/arrowhead-ess-club-8/
LOCATION:Kincade Wildlife Management Area\, Porterville\, CA 93257\, USA\, Porterville\, California\, 93257\, United States
CATEGORIES:Field Trials - West
GEO:36.057532;-118.99131
X-APPLE-STRUCTURED-LOCATION;VALUE=URI;X-ADDRESS=Kincade Wildlife Management Area Porterville CA 93257 USA Porterville California 93257 United States;X-APPLE-RADIUS=500;X-TITLE=Porterville\, CA 93257\, USA:geo:-118.99131,36.057532
END:VEVENT
BEGIN:VEVENT
DTSTART;TZID=America/Chicago:20220218T000000
DTEND;TZID=America/Chicago:20220220T000000
DTSTAMP:20260422T134746
CREATED:20250613T043246Z
LAST-MODIFIED:20250613T043246Z
UID:10010613-1645142400-1645315200@essft.com
SUMMARY:Central Maine Spaniel Club
DESCRIPTION:Entries Close: Monday\, February 7\, 2022 11:59:59 PM Eastern Time(ET) on Hunt Secretary \nJudges: Pete Zuleger and Dominique Savoie
URL:https://essft.com/event/central-maine-spaniel-club-6/
CATEGORIES:Field Trials - East
END:VEVENT
BEGIN:VEVENT
DTSTART;TZID=America/Chicago:20220211T000000
DTEND;TZID=America/Chicago:20220213T000000
DTSTAMP:20260422T134746
CREATED:20250613T043246Z
LAST-MODIFIED:20250613T043246Z
UID:10010612-1644537600-1644710400@essft.com
SUMMARY:COCKER:  Stockton ESSTC
DESCRIPTION:Entries Close: Monday\, January 31\, 2022 11:59:59 PM Eastern Time(ET) on Hunt Secretary \nJudges:  Rick Shively and Brent Blundel
URL:https://essft.com/event/cocker-stockton-esstc-2/
LOCATION:Clear Creek Ranch
CATEGORIES:Cocker Trial
END:VEVENT
BEGIN:VEVENT
DTSTART;TZID=America/Chicago:20220211T000000
DTEND;TZID=America/Chicago:20220213T000000
DTSTAMP:20260422T134746
CREATED:20250613T043246Z
LAST-MODIFIED:20250613T043246Z
UID:10010610-1644537600-1644710400@essft.com
SUMMARY:Stockton ESS Training Club
DESCRIPTION:Entries Close: Monday\, January 31\, 2022 11:59:59 PM Eastern Time(ET) on Hunt Secretary \nJudges: Rick Shively and Brent Blundel
URL:https://essft.com/event/stockton-ess-training-club-5/
LOCATION:Clear Creek Ranch
CATEGORIES:Field Trials - West
END:VEVENT
BEGIN:VEVENT
DTSTART;TZID=America/Chicago:20220211T000000
DTEND;TZID=America/Chicago:20220212T000000
DTSTAMP:20260422T134746
CREATED:20250613T043246Z
LAST-MODIFIED:20250613T043246Z
UID:10010611-1644537600-1644624000@essft.com
SUMMARY:Hall of Fame Trial #2
DESCRIPTION:Entries Close: Monday\, January 31\, 2022 11:59:59 PM Eastern Time(ET) on Hunt Secretary \nJudges: John Bruggeman and Justin Smith\n  \n\n		\n			\n			\n		\n\n		\n 
URL:https://essft.com/event/hall-of-fame-trial-2/
CATEGORIES:Field Trials - Rocky Mountain
END:VEVENT
BEGIN:VEVENT
DTSTART;TZID=America/Chicago:20220209T000000
DTEND;TZID=America/Chicago:20220210T000000
DTSTAMP:20260422T134746
CREATED:20250613T043231Z
LAST-MODIFIED:20250613T043231Z
UID:10010609-1644364800-1644451200@essft.com
SUMMARY:Volunteer ESSC: Hall of Fame Trial #1
DESCRIPTION:Entries Close: Monday\, January 31\, 2022 11:59:59 PM Eastern Time(ET) on Hunt Secretary \nJudges: Robert Clayton and Dan Murray
URL:https://essft.com/event/volunteer-essc-hall-of-fame-trial-1/
CATEGORIES:Field Trials - Rocky Mountain
END:VEVENT
BEGIN:VEVENT
DTSTART;TZID=America/Chicago:20220205T000000
DTEND;TZID=America/Chicago:20220206T000000
DTSTAMP:20260422T134746
CREATED:20250613T043231Z
LAST-MODIFIED:20250613T043231Z
UID:10010608-1644019200-1644105600@essft.com
SUMMARY:Houston ESSC
DESCRIPTION:Entries Close: Tuesday\, January 25\, 2022 11:59:59 PM Eastern Time(ET) on Hunt Secretary \nJudges: John Bishop and Andre Trudel\n\n		\n			\n			\n		\n\n		\n 
URL:https://essft.com/event/houston-essc-4/
LOCATION:Springer Creek Ranch\, 4918 FM1374\, Huntsville\, TX 77340\, USA\, Huntsville\, Texas\, 77340\, United States
CATEGORIES:Field Trials - Rocky Mountain
GEO:30.613039;-95.621861
X-APPLE-STRUCTURED-LOCATION;VALUE=URI;X-ADDRESS=Springer Creek Ranch 4918 FM1374 Huntsville TX 77340 USA Huntsville Texas 77340 United States;X-APPLE-RADIUS=500;X-TITLE=4918 FM1374\, Huntsville\, TX 77340\, USA:geo:-95.621861,30.613039
END:VEVENT
BEGIN:VEVENT
DTSTART;TZID=America/Chicago:20220202T000000
DTEND;TZID=America/Chicago:20220203T000000
DTSTAMP:20260422T134746
CREATED:20250613T043231Z
LAST-MODIFIED:20250613T043231Z
UID:10010607-1643760000-1643846400@essft.com
SUMMARY:COCKER: Houston ESSC
DESCRIPTION:Entries Close: Monday\, January 24\, 2022 11:59:59 PM Eastern Time(ET) on Hunt Secretary \nJudges: Gary Wilson and Chad Betts
URL:https://essft.com/event/cocker-houston-essc/
LOCATION:Springer Creek Ranch\, 4918 FM1374\, Huntsville\, TX 77340\, USA\, Huntsville\, Texas\, 77340\, United States
CATEGORIES:Cocker Trial
GEO:30.613039;-95.621861
X-APPLE-STRUCTURED-LOCATION;VALUE=URI;X-ADDRESS=Springer Creek Ranch 4918 FM1374 Huntsville TX 77340 USA Huntsville Texas 77340 United States;X-APPLE-RADIUS=500;X-TITLE=4918 FM1374\, Huntsville\, TX 77340\, USA:geo:-95.621861,30.613039
END:VEVENT
BEGIN:VEVENT
DTSTART;TZID=America/Chicago:20220129T000000
DTEND;TZID=America/Chicago:20220130T000000
DTSTAMP:20260422T134746
CREATED:20250613T043231Z
LAST-MODIFIED:20250613T043231Z
UID:10010605-1643414400-1643500800@essft.com
SUMMARY:ESS Club of Southern California
DESCRIPTION:Entries Close: Tuesday\, January 18\, 2022 11:59:59 PM Eastern Time(ET) on Hunt Secretary \nJudges: Rick Pacquin and Terry Sworsky
URL:https://essft.com/event/ess-club-of-southern-california-3/
CATEGORIES:Field Trials - West
END:VEVENT
BEGIN:VEVENT
DTSTART;TZID=America/Chicago:20220129T000000
DTEND;TZID=America/Chicago:20220130T000000
DTSTAMP:20260422T134747
CREATED:20250613T043231Z
LAST-MODIFIED:20250613T043231Z
UID:10010606-1643414400-1643500800@essft.com
SUMMARY:Southeast Texas Sporting Spaniel Club
DESCRIPTION:Entries Close: Tuesday\, January 18\, 2022 11:59:59 PM Eastern Time(ET) on Hunt Secretary \nJudges: Mhari Peschel and Mike McGinty
URL:https://essft.com/event/southeast-texas-sporting-spaniel-club/
LOCATION:Springer Creek Ranch\, 4918 FM1374\, Huntsville\, TX 77340\, USA\, Huntsville\, Texas\, 77340\, United States
CATEGORIES:Field Trials - Rocky Mountain
GEO:30.613039;-95.621861
X-APPLE-STRUCTURED-LOCATION;VALUE=URI;X-ADDRESS=Springer Creek Ranch 4918 FM1374 Huntsville TX 77340 USA Huntsville Texas 77340 United States;X-APPLE-RADIUS=500;X-TITLE=4918 FM1374\, Huntsville\, TX 77340\, USA:geo:-95.621861,30.613039
END:VEVENT
BEGIN:VEVENT
DTSTART;TZID=America/Chicago:20220129T000000
DTEND;TZID=America/Chicago:20220130T000000
DTSTAMP:20260422T134747
CREATED:20250613T043216Z
LAST-MODIFIED:20250613T043216Z
UID:10010604-1643414400-1643500800@essft.com
SUMMARY:COCKER: Wateree Spaniel Club Cocker Field Trial
DESCRIPTION:Entries Close: Tuesday\, January 18\, 2022 11:59:59 PM Eastern Time(ET) on Hunt Secretary \nJudges: Mark Haglin and Morgan Haglin\nWe are hosting a judging seminar is going along with this Field Trial \nPlease click on Wateree Judging Seminar Information to enter the Seminar. \n\n		\n			\n			\n		\n\n		\n 
URL:https://essft.com/event/cocker-wateree-spaniel-club-cocker-field-trial-2/
LOCATION:H. Cooper Black Jr. Memorial Field Trial & Recreation Area\, Cheraw\, SC 29520\, USA\, Cheraw\, South Carolina\, 29520\, United States
CATEGORIES:Cocker Trial
GEO:34.697656;-79.883397
X-APPLE-STRUCTURED-LOCATION;VALUE=URI;X-ADDRESS=H. Cooper Black Jr. Memorial Field Trial & Recreation Area Cheraw SC 29520 USA Cheraw South Carolina 29520 United States;X-APPLE-RADIUS=500;X-TITLE=Cheraw\, SC 29520\, USA:geo:-79.883397,34.697656
END:VEVENT
BEGIN:VEVENT
DTSTART;TZID=America/Chicago:20220128T000000
DTEND;TZID=America/Chicago:20220128T000000
DTSTAMP:20260422T134747
CREATED:20250613T043216Z
LAST-MODIFIED:20250613T043216Z
UID:10010603-1643328000-1643328000@essft.com
SUMMARY:AKC Spaniel Field Trial Judging Seminar Hosted by Wateree Spaniel Club
DESCRIPTION:Entries Close: Friday\, January 21\, 2022 11:59:59 PM EST on Hunt Secretary \n\n		\n			\n			\n		\n\n		\n 
URL:https://essft.com/event/akc-spaniel-field-trial-judging-seminar-hosted-by-wateree-spaniel-club/
LOCATION:H. Cooper Black Jr. Memorial Field Trial & Recreation Area\, Cheraw\, SC 29520\, USA\, Cheraw\, South Carolina\, 29520\, United States
CATEGORIES:Judging Seminar
GEO:34.697656;-79.883397
X-APPLE-STRUCTURED-LOCATION;VALUE=URI;X-ADDRESS=H. Cooper Black Jr. Memorial Field Trial & Recreation Area Cheraw SC 29520 USA Cheraw South Carolina 29520 United States;X-APPLE-RADIUS=500;X-TITLE=Cheraw\, SC 29520\, USA:geo:-79.883397,34.697656
END:VEVENT
BEGIN:VEVENT
DTSTART;TZID=America/Chicago:20220122T000000
DTEND;TZID=America/Chicago:20220123T000000
DTSTAMP:20260422T134747
CREATED:20250613T043216Z
LAST-MODIFIED:20250613T043216Z
UID:10010600-1642809600-1642896000@essft.com
SUMMARY:North Texas Sporting Spaniel Club
DESCRIPTION:Entries Close: Tuesday\, January 11\, 2022 11:59:59 PM Eastern Time(ET) on Hunt Secretary \nJudges: Randy Bartsch and Ken Hanson    Apprentice: Rick Schneider
URL:https://essft.com/event/north-texas-sporting-spaniel-club-5/
CATEGORIES:Field Trials - Rocky Mountain
END:VEVENT
BEGIN:VEVENT
DTSTART;TZID=America/Chicago:20220122T000000
DTEND;TZID=America/Chicago:20220123T000000
DTSTAMP:20260422T134747
CREATED:20250613T043216Z
LAST-MODIFIED:20250613T043216Z
UID:10010601-1642809600-1642896000@essft.com
SUMMARY:Central Virginia ESS Field Trial Club
DESCRIPTION:Entries Close: Tuesday\, January 11\, 2022 11:59:59 PM Eastern Time(ET) on Hunt Secretary \nJudges: Garry Soper and Roland Snyder\n\n		\n			\n			\n		\n\n		\n 
URL:https://essft.com/event/central-virginia-ess-field-trial-club-5/
CATEGORIES:Field Trials - East
END:VEVENT
BEGIN:VEVENT
DTSTART;TZID=America/Chicago:20220122T000000
DTEND;TZID=America/Chicago:20220123T000000
DTSTAMP:20260422T134747
CREATED:20250613T043216Z
LAST-MODIFIED:20250613T043216Z
UID:10010602-1642809600-1642896000@essft.com
SUMMARY:English Cocker Spaniel Club of America Field Trial January 2022
DESCRIPTION:Entries Close: Tuesday\, January 11\, 2022 11:59:59 PM Eastern Time(ET) on Hunt Secretary \n\n		\n			\n			\n		\n\n		\n 
URL:https://essft.com/event/english-cocker-spaniel-club-of-america-field-trial-january-2022/
LOCATION:Lime Rock Cockers Preserve\, East Bend\, NC 27018\, USA\, East Bend\, North Carolina\, 27018\, United States
CATEGORIES:Cocker Trial
GEO:36.216528;-80.512558
X-APPLE-STRUCTURED-LOCATION;VALUE=URI;X-ADDRESS=Lime Rock Cockers Preserve East Bend NC 27018 USA East Bend North Carolina 27018 United States;X-APPLE-RADIUS=500;X-TITLE=East Bend\, NC 27018\, USA:geo:-80.512558,36.216528
END:VEVENT
BEGIN:VEVENT
DTSTART;TZID=America/Chicago:20220122T000000
DTEND;TZID=America/Chicago:20220123T000000
DTSTAMP:20260422T134747
CREATED:20250613T043201Z
LAST-MODIFIED:20250613T043201Z
UID:10010599-1642809600-1642896000@essft.com
SUMMARY:COCKER: English Cocker Spaniel Club of America Field Trial January 2022
DESCRIPTION:Cancelled due to weather.\n  \nEntries Close: Tuesday\, January 11\, 2022 11:59:59 PM Eastern Time(ET) on Hunt Secretary \nJudges: Pat Keliher and Keith Meissner
URL:https://essft.com/event/cocker-english-cocker-spaniel-club-of-america-field-trial-january-2022/
LOCATION:Lime Rock Cockers Preserve\, East Bend\, NC 27018\, USA\, East Bend\, North Carolina\, 27018\, United States
CATEGORIES:Cocker Trial
GEO:36.216528;-80.512558
X-APPLE-STRUCTURED-LOCATION;VALUE=URI;X-ADDRESS=Lime Rock Cockers Preserve East Bend NC 27018 USA East Bend North Carolina 27018 United States;X-APPLE-RADIUS=500;X-TITLE=East Bend\, NC 27018\, USA:geo:-80.512558,36.216528
END:VEVENT
BEGIN:VEVENT
DTSTART;TZID=America/Chicago:20220121T000000
DTEND;TZID=America/Chicago:20220121T000000
DTSTAMP:20260422T134747
CREATED:20250613T043201Z
LAST-MODIFIED:20250613T043201Z
UID:10010598-1642723200-1642723200@essft.com
SUMMARY:COCKER: North Texas Sporting Spaniel Club
DESCRIPTION:Entries Close: Tuesday\, January 11\, 2022 11:59:59 PM Eastern Time(ET) on Hunt Secretary \nJudges: Randy Bartsch\, Ken Hanson     Apprentice: Rick Schneider
URL:https://essft.com/event/cocker-north-texas-sporting-spaniel-club/
CATEGORIES:Cocker Trial
END:VEVENT
BEGIN:VEVENT
DTSTART;TZID=America/Chicago:20220117T000000
DTEND;TZID=America/Chicago:20220117T000000
DTSTAMP:20260422T134747
CREATED:20250613T043200Z
LAST-MODIFIED:20250613T043200Z
UID:10010597-1642377600-1642377600@essft.com
SUMMARY:Martin Luther King Jr. Day
DESCRIPTION:
URL:https://essft.com/event/martin-luther-king-jr-day-3/
CATEGORIES:Holidays
END:VEVENT
BEGIN:VEVENT
DTSTART;TZID=America/Chicago:20220115T000000
DTEND;TZID=America/Chicago:20220116T000000
DTSTAMP:20260422T134747
CREATED:20250613T043200Z
LAST-MODIFIED:20250613T043200Z
UID:10010596-1642204800-1642291200@essft.com
SUMMARY:MidEast Memorial/ Ravenna
DESCRIPTION:Entries Close: Tuesday\, January 4\, 2022 11:59:59 PM Eastern Time(ET) on Hunt Secretary   \nJudges: Katie Gorecki and Todd Agnew
URL:https://essft.com/event/mideast-memorial-ravenna/
LOCATION:Beelman Farm\, 2192 Co Rd 21\, De Graff\, OH 43318\, USA\, De Graff\, Ohio\, 43318\, United States
CATEGORIES:Field Trials - Mid East
GEO:40.36598;-83.944001
X-APPLE-STRUCTURED-LOCATION;VALUE=URI;X-ADDRESS=Beelman Farm 2192 Co Rd 21 De Graff OH 43318 USA De Graff Ohio 43318 United States;X-APPLE-RADIUS=500;X-TITLE=2192 Co Rd 21\, De Graff\, OH 43318\, USA:geo:-83.944001,40.36598
END:VEVENT
BEGIN:VEVENT
DTSTART;TZID=America/Chicago:20220113T000000
DTEND;TZID=America/Chicago:20220116T000000
DTSTAMP:20260422T134747
CREATED:20250613T043200Z
LAST-MODIFIED:20250613T043200Z
UID:10010595-1642032000-1642291200@essft.com
SUMMARY:Oklahoma ESSFTC Trials (2 Open/2AM/2Puppy)
DESCRIPTION:  \nEntries Close: Monday\, January 3\, 2022 11:59:59 PM Eastern Time(ET) on  Hunt Secretary \nTrial #1 Judges: Mark Haglin and Morgan Haglin     Apprentice: Brad Schindler\nTrial #2 Judges: Elaine O’Keefe and Dan Murray   1/11: Judge Change: to Jim O’Keefe
URL:https://essft.com/event/oklahoma-essftc-trials-2-open-2am-2puppy/
CATEGORIES:Field Trials - Rocky Mountain
END:VEVENT
BEGIN:VEVENT
DTSTART;TZID=America/Chicago:20220110T000000
DTEND;TZID=America/Chicago:20220111T000000
DTSTAMP:20260422T134747
CREATED:20250613T043157Z
LAST-MODIFIED:20250613T043157Z
UID:10010594-1641772800-1641859200@essft.com
SUMMARY:COCKER: Platte River English Springer Spaniel Club
DESCRIPTION:  \nEntries Close: Tuesday\, December 28\, 2021 11:59:59 PM Eastern Time(ET) on Hunt Secretary \nJudges: JUDGE CHANGE:  Todd Stelzer  Tom Meyer and John Meyer
URL:https://essft.com/event/cocker-platte-river-english-springer-spaniel-club/
CATEGORIES:Cocker Trial
END:VEVENT
BEGIN:VEVENT
DTSTART;TZID=America/Chicago:20220108T000000
DTEND;TZID=America/Chicago:20220109T000000
DTSTAMP:20260422T134747
CREATED:20250613T043157Z
LAST-MODIFIED:20250613T043157Z
UID:10010593-1641600000-1641686400@essft.com
SUMMARY:Platte River English Springer Spaniel Club
DESCRIPTION:  \n  \n  \nEntries Close: Tuesday\, December 28\, 2021 11:59:59 PM Eastern Time(ET) on Hunt Secretary \nJudges:  JUDGE CHANGE: Tom Meyer  Pete Anderson and John Meyer\n  \n\n		\n			\n			\n		\n\n		\n 
URL:https://essft.com/event/platte-river-english-springer-spaniel-club-5/
CATEGORIES:Field Trials - Rocky Mountain
END:VEVENT
BEGIN:VEVENT
DTSTART;TZID=America/Chicago:20220107T000000
DTEND;TZID=America/Chicago:20220109T000000
DTSTAMP:20260422T134747
CREATED:20250613T043157Z
LAST-MODIFIED:20250613T043157Z
UID:10010592-1641513600-1641686400@essft.com
SUMMARY:3 Day Spaniel Training Seminar Conducted by Todd Agnew
DESCRIPTION:CLICK HERE for More Information and to Register
URL:https://essft.com/event/3-day-spaniel-training-seminar-conducted-by-todd-agnew/
CATEGORIES:Training Seminar
END:VEVENT
BEGIN:VEVENT
DTSTART;TZID=America/Chicago:20220101T000000
DTEND;TZID=America/Chicago:20220101T000000
DTSTAMP:20260422T134747
CREATED:20250613T043157Z
LAST-MODIFIED:20250613T043157Z
UID:10010591-1640995200-1640995200@essft.com
SUMMARY:New Years Day
DESCRIPTION:
URL:https://essft.com/event/new-years-day-4/
CATEGORIES:Holidays
END:VEVENT
BEGIN:VEVENT
DTSTART;TZID=America/Chicago:20211231T000000
DTEND;TZID=America/Chicago:20211231T000000
DTSTAMP:20260422T134747
CREATED:20250613T043156Z
LAST-MODIFIED:20250613T043156Z
UID:10010590-1640908800-1640908800@essft.com
SUMMARY:New Year's Eve
DESCRIPTION:
URL:https://essft.com/event/new-years-eve/
CATEGORIES:Holidays
END:VEVENT
END:VCALENDAR