BEGIN:VCALENDAR
VERSION:2.0
PRODID:-//English Springer Spaniel Field Trials - ECPv6.15.20//NONSGML v1.0//EN
CALSCALE:GREGORIAN
METHOD:PUBLISH
X-WR-CALNAME:English Springer Spaniel Field Trials
X-ORIGINAL-URL:https://essft.com
X-WR-CALDESC:Events for English Springer Spaniel Field Trials
REFRESH-INTERVAL;VALUE=DURATION:PT1H
X-Robots-Tag:noindex
X-PUBLISHED-TTL:PT1H
BEGIN:VTIMEZONE
TZID:America/Chicago
BEGIN:DAYLIGHT
TZOFFSETFROM:-0600
TZOFFSETTO:-0500
TZNAME:CDT
DTSTART:20200308T080000
END:DAYLIGHT
BEGIN:STANDARD
TZOFFSETFROM:-0500
TZOFFSETTO:-0600
TZNAME:CST
DTSTART:20201101T070000
END:STANDARD
BEGIN:DAYLIGHT
TZOFFSETFROM:-0600
TZOFFSETTO:-0500
TZNAME:CDT
DTSTART:20210314T080000
END:DAYLIGHT
BEGIN:STANDARD
TZOFFSETFROM:-0500
TZOFFSETTO:-0600
TZNAME:CST
DTSTART:20211107T070000
END:STANDARD
BEGIN:DAYLIGHT
TZOFFSETFROM:-0600
TZOFFSETTO:-0500
TZNAME:CDT
DTSTART:20220313T080000
END:DAYLIGHT
BEGIN:STANDARD
TZOFFSETFROM:-0500
TZOFFSETTO:-0600
TZNAME:CST
DTSTART:20221106T070000
END:STANDARD
END:VTIMEZONE
BEGIN:VEVENT
DTSTART;TZID=America/Chicago:20211030T000000
DTEND;TZID=America/Chicago:20211031T000000
DTSTAMP:20260422T150804
CREATED:20250613T042703Z
LAST-MODIFIED:20250613T042703Z
UID:10010567-1635552000-1635638400@essft.com
SUMMARY:English Springer Spaniel Field Trial Club of Illinois
DESCRIPTION:Entries Close: Tuesday\, October 19\, 2021 11:59:59 PM Eastern Time(ET) on Hunt Secretary \nJudges: Gary Breitbarth and Kevin McGlin
URL:https://essft.com/event/english-springer-spaniel-field-trial-club-of-illinois-2/
LOCATION:South Dakota
CATEGORIES:Field Trials - Mid West
END:VEVENT
BEGIN:VEVENT
DTSTART;TZID=America/Chicago:20211030T000000
DTEND;TZID=America/Chicago:20211031T000000
DTSTAMP:20260422T150804
CREATED:20250613T042703Z
LAST-MODIFIED:20250613T042703Z
UID:10010568-1635552000-1635638400@essft.com
SUMMARY:Ohio Valley ESS Club
DESCRIPTION:Entries Close: Monday\, October 25\, 2021 11:59:59 PM Eastern Time(ET) on Hunt Secretary \nJudges: Kevin Martineau and Garry Soper
URL:https://essft.com/event/ohio-valley-ess-club-7/
LOCATION:Russ Smith Farm\, Millersport\, OH 43046\, USA\, Millersport\, Ohio\, 43046\, United States
CATEGORIES:Field Trials - Mid East
GEO:39.892591;-82.513803
X-APPLE-STRUCTURED-LOCATION;VALUE=URI;X-ADDRESS=Russ Smith Farm Millersport OH 43046 USA Millersport Ohio 43046 United States;X-APPLE-RADIUS=500;X-TITLE=Millersport\, OH 43046\, USA:geo:-82.513803,39.892591
END:VEVENT
BEGIN:VEVENT
DTSTART;TZID=America/Chicago:20211030T000000
DTEND;TZID=America/Chicago:20211031T000000
DTSTAMP:20260422T150804
CREATED:20250613T042703Z
LAST-MODIFIED:20250613T042703Z
UID:10010569-1635552000-1635638400@essft.com
SUMMARY:Springer Spaniel Club of Central Kansas
DESCRIPTION:Entries Close: Tuesday\, October 19\, 2021 11:59:59 PM Eastern Time(ET) on Hunt Secretary \nJudges: Jeff Brooks and Bob Merrill    Tony Cyr is apprenticing\n 
URL:https://essft.com/event/springer-spaniel-club-of-central-kansas-6-3/
LOCATION:Bramwell Residence\, 12826 SW 77 Ave\, Zenda\, KS 67159\, USA\, Zenda\, Kansas\, 67159\, United States
CATEGORIES:Field Trials - Rocky Mountain
GEO:37.460004;-98.259078
X-APPLE-STRUCTURED-LOCATION;VALUE=URI;X-ADDRESS=Bramwell Residence 12826 SW 77 Ave Zenda KS 67159 USA Zenda Kansas 67159 United States;X-APPLE-RADIUS=500;X-TITLE=12826 SW 77 Ave\, Zenda\, KS 67159\, USA:geo:-98.259078,37.460004
END:VEVENT
BEGIN:VEVENT
DTSTART;TZID=America/Chicago:20211029T000000
DTEND;TZID=America/Chicago:20211031T000000
DTSTAMP:20260422T150804
CREATED:20250613T042703Z
LAST-MODIFIED:20250613T042703Z
UID:10010566-1635465600-1635638400@essft.com
SUMMARY:English Springer Spaniel Field Trial Assoc. (Parent Club)
DESCRIPTION:Entries Close: Monday\, October 18\, 2021 11:59:59 PM Eastern Time(ET) on Hunt Secretary \nJudges: Mhari Peschel and Bill Cosgrove
URL:https://essft.com/event/english-springer-spaniel-field-trial-assoc-parent-club/
LOCATION:South Dakota
CATEGORIES:Field Trials - East
ORGANIZER;CN="Deborah Olszewski":MAILTO:dmoski@aol.com
END:VEVENT
BEGIN:VEVENT
DTSTART;TZID=America/Chicago:20211023T000000
DTEND;TZID=America/Chicago:20211024T000000
DTSTAMP:20260422T150804
CREATED:20250613T042703Z
LAST-MODIFIED:20250613T042703Z
UID:10010565-1634947200-1635033600@essft.com
SUMMARY:Platte River English Springer Spaniel Club
DESCRIPTION:Entries Close: Tuesday\, October 12\, 2021 11:59:59 PM Eastern Time(ET) on Hunt Secretary \nJudges: Tim Lindsey and Alex Cacchio\n\n		\n			\n			\n		\n\n		\n\n		\n			\n			\n		\n\n		\n 
URL:https://essft.com/event/platte-river-english-springer-spaniel-club-4/
LOCATION:Theye Farm\, Liberty\, NE 68381\, USA\, Liberty\, Nebraska\, 68381\, United States
CATEGORIES:Field Trials - Rocky Mountain
GEO:40.084723;-96.482796
X-APPLE-STRUCTURED-LOCATION;VALUE=URI;X-ADDRESS=Theye Farm Liberty NE 68381 USA Liberty Nebraska 68381 United States;X-APPLE-RADIUS=500;X-TITLE=Liberty\, NE 68381\, USA:geo:-96.482796,40.084723
END:VEVENT
BEGIN:VEVENT
DTSTART;TZID=America/Chicago:20211023T000000
DTEND;TZID=America/Chicago:20211024T000000
DTSTAMP:20260422T150804
CREATED:20250613T042504Z
LAST-MODIFIED:20250613T042504Z
UID:10010564-1634947200-1635033600@essft.com
SUMMARY:New Jersey Spaniel Field Trial Club
DESCRIPTION:Entries Close: Tuesday\, October 12\, 2021 11:59:59 PM Eastern Time(ET) on Hunt Secretary \nJudges: Dominique Savoie and Terry Quinlan    Judge Change – Patrick Berry
URL:https://essft.com/event/new-jersey-spaniel-field-trial-club-8/
LOCATION:South Dakota
CATEGORIES:Field Trials - East
END:VEVENT
BEGIN:VEVENT
DTSTART;TZID=America/Chicago:20211023T000000
DTEND;TZID=America/Chicago:20211024T000000
DTSTAMP:20260422T150804
CREATED:20250613T042503Z
LAST-MODIFIED:20250613T042503Z
UID:10010560-1634947200-1635033600@essft.com
SUMMARY:Minnesota English Springer Spaniel Club
DESCRIPTION:Entries Close: Tuesday\, October 12\, 2021 11:59:59 PM Eastern Time(ET) on Hunt Secretary \nJudges: George Kittle and Richard Paquin
URL:https://essft.com/event/minnesota-english-springer-spaniel-club-9/
LOCATION:South Dakota
CATEGORIES:Field Trials - Mid West
END:VEVENT
BEGIN:VEVENT
DTSTART;TZID=America/Chicago:20211023T000000
DTEND;TZID=America/Chicago:20211024T000000
DTSTAMP:20260422T150804
CREATED:20250613T042503Z
LAST-MODIFIED:20250613T042503Z
UID:10010561-1634947200-1635033600@essft.com
SUMMARY:Central States
DESCRIPTION:Running Orders!\n  \n\n		\n			\n			\n		\n\n		\n\n		\n			\n			\n		\n\n		\n  \n  \nMake checks payable to Central States ESS Club Send Entries with payment to:   \nLisa Schmeling\, Field Trial Secretary  \n5348 N Dexter Ave Milwaukee\, WI 53209  \nPhone 414-510-9800  \nEntries will close with the Field Trial Secretary on  Tuesday\, October 12\, 2021 at 8:00 pm!  NOT ON HUNT SECRETARY! MAIL  YOUR ENTRIES EARLY!!! \n5348 N Dexter Ave\, Milwaukee\, WI 53209 \n  \nJudges: Bob Merrill and Terry Sworsky\n\n		\n			\n			\n		\n\n		\n\n		\n			\n			\n		\n\n		\n \nCLICK HERE FOR CENTRAL STATES FILLABLE ENTRY FORM\nNote:  The entry form is in Microsoft Word.  If you do not have Microsoft word download and print the PDF file.
URL:https://essft.com/event/central-states/
LOCATION:Fox Ridge Farm\, 4640 S Madison Rd\, Elizabeth\, IL 61028\, USA\, Elizabeth\, Illinois\, 61028\, United States
CATEGORIES:Field Trials - Mid West
GEO:42.306416;-90.217998
X-APPLE-STRUCTURED-LOCATION;VALUE=URI;X-ADDRESS=Fox Ridge Farm 4640 S Madison Rd Elizabeth IL 61028 USA Elizabeth Illinois 61028 United States;X-APPLE-RADIUS=500;X-TITLE=4640 S Madison Rd\, Elizabeth\, IL 61028\, USA:geo:-90.217998,42.306416
END:VEVENT
BEGIN:VEVENT
DTSTART;TZID=America/Chicago:20211023T000000
DTEND;TZID=America/Chicago:20211024T000000
DTSTAMP:20260422T150804
CREATED:20250613T042503Z
LAST-MODIFIED:20250613T042503Z
UID:10010562-1634947200-1635033600@essft.com
SUMMARY:Ravenna Field Trial Club
DESCRIPTION:Entries Close: Tuesday\, October 12\, 2021 11:59:59 PM Eastern Time(ET) on Hunt Secretary \nJudges: Harold Hiles and Mike Keough\n 
URL:https://essft.com/event/ravenna-field-trial-club-6/
LOCATION:South Dakota
CATEGORIES:Field Trials - Mid East
END:VEVENT
BEGIN:VEVENT
DTSTART;TZID=America/Chicago:20211023T000000
DTEND;TZID=America/Chicago:20211024T000000
DTSTAMP:20260422T150804
CREATED:20250613T042503Z
LAST-MODIFIED:20250613T042503Z
UID:10010563-1634947200-1635033600@essft.com
SUMMARY:Inland Empire ESS Club
DESCRIPTION:Entries Close: Tuesday\, October 12\, 2021 11:59:59 PM Eastern Time(ET) on Hunt Secretary \nJudges: Don Mock and Rick Shively
URL:https://essft.com/event/inland-empire-ess-club-4/
LOCATION:South Dakota
CATEGORIES:Field Trials - West
ORGANIZER;CN="Darlene Cherry":MAILTO:inlandempireessc@gmail.com
END:VEVENT
BEGIN:VEVENT
DTSTART;TZID=America/Chicago:20211021T000000
DTEND;TZID=America/Chicago:20211022T000000
DTSTAMP:20260422T150804
CREATED:20250613T042302Z
LAST-MODIFIED:20250613T042302Z
UID:10010557-1634774400-1634860800@essft.com
SUMMARY:Central Wisconsin Sporting Spaniel Club
DESCRIPTION:Entries Close: Monday\, October 11\, 2021 11:59:59 PM Eastern Time(ET) on Hunt Secretary \nJudges: Kathy Nestor and John Smith
URL:https://essft.com/event/central-wisconsin-sporting-spaniel-club-8/
LOCATION:Oasis Game Farm\, New Glarus\, WI 53574\, USA\, New Glarus\, Wisconsin\, 53574\, United States
CATEGORIES:Field Trials - Mid West
GEO:42.837895;-89.729012
X-APPLE-STRUCTURED-LOCATION;VALUE=URI;X-ADDRESS=Oasis Game Farm New Glarus WI 53574 USA New Glarus Wisconsin 53574 United States;X-APPLE-RADIUS=500;X-TITLE=New Glarus\, WI 53574\, USA:geo:-89.729012,42.837895
END:VEVENT
BEGIN:VEVENT
DTSTART;TZID=America/Chicago:20211021T000000
DTEND;TZID=America/Chicago:20211022T000000
DTSTAMP:20260422T150804
CREATED:20250613T042302Z
LAST-MODIFIED:20250613T042302Z
UID:10010558-1634774400-1634860800@essft.com
SUMMARY:Mid-Penn ESS Club
DESCRIPTION:Postponed.  More information to follow when a new date is approved by AKC.
URL:https://essft.com/event/mid-penn-ess-club-4/
LOCATION:South Dakota
CATEGORIES:Field Trials - Mid East
END:VEVENT
BEGIN:VEVENT
DTSTART;TZID=America/Chicago:20211021T000000
DTEND;TZID=America/Chicago:20211022T000000
DTSTAMP:20260422T150804
CREATED:20250613T042302Z
LAST-MODIFIED:20250613T042302Z
UID:10010559-1634774400-1634860800@essft.com
SUMMARY:English Springer Spaniel Club of Eastern Nebraska
DESCRIPTION:Entries Close: Monday\, October 11\, 2021 11:59:59 PM Eastern Time(ET) on Hunt Secretary \nJudges: Randy Bartsch and David Sanford\n 
URL:https://essft.com/event/english-springer-spaniel-club-of-eastern-nebraska-4-4/
LOCATION:South Dakota
CATEGORIES:Field Trials - Rocky Mountain
END:VEVENT
BEGIN:VEVENT
DTSTART;TZID=America/Chicago:20211018T000000
DTEND;TZID=America/Chicago:20211019T000000
DTSTAMP:20260422T150804
CREATED:20250613T042302Z
LAST-MODIFIED:20250613T042302Z
UID:10010556-1634515200-1634601600@essft.com
SUMMARY:Euclid Sporting Spaniel Club - ESS FT
DESCRIPTION:Entries Close: Tuesday\, October 5\, 2021 11:59:59 PM Eastern Time(ET) on Hunt Secretary \nJudges: Jack Markowski and Will Pick
URL:https://essft.com/event/euclid-sporting-spaniel-club-ess-ft/
LOCATION:South Dakota
CATEGORIES:Field Trials - Mid East
END:VEVENT
BEGIN:VEVENT
DTSTART;TZID=America/Chicago:20211016T000000
DTEND;TZID=America/Chicago:20211017T000000
DTSTAMP:20260422T150804
CREATED:20250613T042302Z
LAST-MODIFIED:20250613T042302Z
UID:10010555-1634342400-1634428800@essft.com
SUMMARY:Fox River Field Spaniel Club Fall Hunt Test
DESCRIPTION:Entries Close: Tuesday\, October 5\, 2021 11:59:59 PM Eastern Time(ET) on Hunt Secretary
URL:https://essft.com/event/fox-river-field-spaniel-club-fall-hunt-test/
LOCATION:South Dakota
CATEGORIES:Hunt Tests
END:VEVENT
BEGIN:VEVENT
DTSTART;TZID=America/Chicago:20211016T000000
DTEND;TZID=America/Chicago:20211017T000000
DTSTAMP:20260422T150804
CREATED:20250613T042102Z
LAST-MODIFIED:20250613T042102Z
UID:10010551-1634342400-1634428800@essft.com
SUMMARY:COCKER: New Jersey Spaniel Club - 2 Trials
DESCRIPTION:Entries Close: Tuesday\, October 5\, 2021 11:59:59 PM Eastern Time(ET) on Hunt Secretary      Click here for Trial #2 \nJudges: Ralph Botti and William Gates
URL:https://essft.com/event/cocker-new-jersey-spaniel-club-2-trials/
LOCATION:South Dakota
CATEGORIES:Cocker Trial
END:VEVENT
BEGIN:VEVENT
DTSTART;TZID=America/Chicago:20211016T000000
DTEND;TZID=America/Chicago:20211017T000000
DTSTAMP:20260422T150804
CREATED:20250613T042102Z
LAST-MODIFIED:20250613T042102Z
UID:10010552-1634342400-1634428800@essft.com
SUMMARY:COCKER: Euclid Sporting Spaniel Club
DESCRIPTION:Entries Close: Tuesday\, October 5\, 2021 11:59:59 PM Eastern Time(ET)  on Hunt Secretary \nJudges: Don Wagner and Justin Smith
URL:https://essft.com/event/cocker-euclid-sporting-spaniel-club/
LOCATION:South Dakota
CATEGORIES:Cocker Trial
END:VEVENT
BEGIN:VEVENT
DTSTART;TZID=America/Chicago:20211016T000000
DTEND;TZID=America/Chicago:20211017T000000
DTSTAMP:20260422T150804
CREATED:20250613T042102Z
LAST-MODIFIED:20250613T042102Z
UID:10010553-1634342400-1634428800@essft.com
SUMMARY:Cocker Spaniel Field Trial Club of America
DESCRIPTION:Entries Close: Tuesday\, October 5\, 2021 11:59:59 PM Eastern Time(ET) on Hunt Secretary \nJudges: Deborah Olszewski and Peter Rizzo\n\n		\n			\n			\n		\n\n		\n  \n 
URL:https://essft.com/event/cocker-spaniel-field-trial-club-of-america-7/
LOCATION:South Dakota
CATEGORIES:Field Trials - East
END:VEVENT
BEGIN:VEVENT
DTSTART;TZID=America/Chicago:20211016T000000
DTEND;TZID=America/Chicago:20211017T000000
DTSTAMP:20260422T150804
CREATED:20250613T042102Z
LAST-MODIFIED:20250613T042102Z
UID:10010554-1634342400-1634428800@essft.com
SUMMARY:Missouri Hunting Spaniel Club
DESCRIPTION:Entries Close: Tuesday\, October 5\, 2021 11:59:59 PM Eastern Time(ET) on Hunt Secretary \nJudges: Mark Hairfield and John Bishop
URL:https://essft.com/event/missouri-hunting-spaniel-club-17/
LOCATION:South Dakota
CATEGORIES:Field Trials - Rocky Mountain
END:VEVENT
BEGIN:VEVENT
DTSTART;TZID=America/Chicago:20211016T000000
DTEND;TZID=America/Chicago:20211017T000000
DTSTAMP:20260422T150804
CREATED:20250613T042101Z
LAST-MODIFIED:20250613T042101Z
UID:10010550-1634342400-1634428800@essft.com
SUMMARY:Cincinnati ESS Field Trial Club
DESCRIPTION:Entries Close: Tuesday\, October 5\, 2021 11:59:59 PM Eastern Time(ET) on Hunt Secretary \nJudges: Patrick Berry and Mike Elsasser\n9/15: New Location – Russ Smith Farm in Millersport\, Ohio
URL:https://essft.com/event/cincinnati-ess-field-trial-club-3/
LOCATION:Russ Smith Farm\, Millersport\, OH 43046\, USA\, Millersport\, Ohio\, 43046\, United States
CATEGORIES:Field Trials - Mid East
ORGANIZER;CN="Amy Haering":MAILTO:cessftc@yahoo.com
GEO:39.892591;-82.513803
X-APPLE-STRUCTURED-LOCATION;VALUE=URI;X-ADDRESS=Russ Smith Farm Millersport OH 43046 USA Millersport Ohio 43046 United States;X-APPLE-RADIUS=500;X-TITLE=Millersport\, OH 43046\, USA:geo:-82.513803,39.892591
END:VEVENT
BEGIN:VEVENT
DTSTART;TZID=America/Chicago:20211016T000000
DTEND;TZID=America/Chicago:20211017T000000
DTSTAMP:20260422T150804
CREATED:20250613T042052Z
LAST-MODIFIED:20250613T042052Z
UID:10010549-1634342400-1634428800@essft.com
SUMMARY:Sportsmen’s Spaniel Club of Calumet
DESCRIPTION:Entries Close: Tuesday\, October 5\, 2021 11:59:59 PM Eastern Time(ET) on Hunt Secretary \nJudges:  John Bruggeman and Mike Keough
URL:https://essft.com/event/sportsmens-spaniel-club-of-calumet-9/
LOCATION:Des Plaines State Fish & Wildlife Area\, Wilmington\, IL 60481\, USA\, Wilmington\, Illinois\, 60481\, United States
CATEGORIES:Field Trials - Mid West
GEO:41.307809;-88.146724
X-APPLE-STRUCTURED-LOCATION;VALUE=URI;X-ADDRESS=Des Plaines State Fish & Wildlife Area Wilmington IL 60481 USA Wilmington Illinois 60481 United States;X-APPLE-RADIUS=500;X-TITLE=Wilmington\, IL 60481\, USA:geo:-88.146724,41.307809
END:VEVENT
BEGIN:VEVENT
DTSTART;TZID=America/Chicago:20211015T000000
DTEND;TZID=America/Chicago:20211018T000000
DTSTAMP:20260422T150804
CREATED:20250613T042051Z
LAST-MODIFIED:20250628T023843Z
UID:10010547-1634256000-1634515200@essft.com
SUMMARY:Canadian National Open Spaniel Field Trial Championship
DESCRIPTION:Please make your entry through dogshow.ca \nJudges: John Filler and Tom Menzel\n\n		\n			\n			\n		\n\n		\n 
URL:https://essft.com/event/canadian-national-open-spaniel-field-trial-championship/
LOCATION:South Dakota
CATEGORIES:NATIONAL FIELD TRIALS
END:VEVENT
BEGIN:VEVENT
DTSTART;TZID=America/Chicago:20211015T000000
DTEND;TZID=America/Chicago:20211016T000000
DTSTAMP:20260422T150804
CREATED:20250613T042051Z
LAST-MODIFIED:20250613T042051Z
UID:10010546-1634256000-1634342400@essft.com
SUMMARY:Utah Springer Spaniel Club
DESCRIPTION:Entries Close: Monday\, October 4\, 2021 11:59:59 PM Eastern Time(ET) on Hunt Secretary \nJudges: Dean Koehler and Randy Manore
URL:https://essft.com/event/utah-springer-spaniel-club-14/
LOCATION:Clarkston Trial Grounds\, 4900 W 11000 N\, Clarkston\, UT 84305\, USA\, Clarkston\, Utah\, 84305\, United States
CATEGORIES:Field Trials - West
GEO:41.931805;-112.01117
X-APPLE-STRUCTURED-LOCATION;VALUE=URI;X-ADDRESS=Clarkston Trial Grounds 4900 W 11000 N Clarkston UT 84305 USA Clarkston Utah 84305 United States;X-APPLE-RADIUS=500;X-TITLE=4900 W 11000 N\, Clarkston\, UT 84305\, USA:geo:-112.01117,41.931805
END:VEVENT
BEGIN:VEVENT
DTSTART;TZID=America/Chicago:20211015T000000
DTEND;TZID=America/Chicago:20211015T000000
DTSTAMP:20260422T150804
CREATED:20250613T042051Z
LAST-MODIFIED:20250613T042051Z
UID:10010548-1634256000-1634256000@essft.com
SUMMARY:COCKER: Missouri Hunting Spaniel Club
DESCRIPTION:Entries Close: Monday\, October 4\, 2021 11:59:59 PM Eastern Time(ET) on Hunt Secretary \nJudges: Mari Hairfield and John Bishop
URL:https://essft.com/event/cocker-missouri-hunting-spaniel-club/
LOCATION:South Dakota
CATEGORIES:Cocker Trial
END:VEVENT
BEGIN:VEVENT
DTSTART;TZID=America/Chicago:20211011T000000
DTEND;TZID=America/Chicago:20211011T000000
DTSTAMP:20260422T150804
CREATED:20250613T042051Z
LAST-MODIFIED:20250613T042051Z
UID:10010545-1633910400-1633910400@essft.com
SUMMARY:Columbus Day
DESCRIPTION:
URL:https://essft.com/event/columbus-day/
LOCATION:South Dakota
CATEGORIES:Holidays
END:VEVENT
BEGIN:VEVENT
DTSTART;TZID=America/Chicago:20211009T000000
DTEND;TZID=America/Chicago:20211010T000000
DTSTAMP:20260422T150804
CREATED:20250613T035449Z
LAST-MODIFIED:20250613T035449Z
UID:10010541-1633737600-1633824000@essft.com
SUMMARY:Northern Colorado Springer Spaniel Club
DESCRIPTION:Entries Close: Tuesday\, September 28\, 2021 11:59:59 PM Eastern Time(ET) on Hunt Secretary \nJudges:  Brian Bilotta and Kevin Rutherford\n\n		\n			\n			\n		\n\n		\n 
URL:https://essft.com/event/northern-colorado-springer-spaniel-club-5-6/
LOCATION:South Dakota
CATEGORIES:Field Trials - Rocky Mountain
END:VEVENT
BEGIN:VEVENT
DTSTART;TZID=America/Chicago:20211009T000000
DTEND;TZID=America/Chicago:20211010T000000
DTSTAMP:20260422T150804
CREATED:20250613T035449Z
LAST-MODIFIED:20250613T035449Z
UID:10010542-1633737600-1633824000@essft.com
SUMMARY:Arrowhead ESS Club
DESCRIPTION:Entries:\nClosing Date: 29 September 2021\nChip Bunker\, Field Trial Secretary\n5111 Solias Road\, Fallon NV 89406\nchip@hjsys.com \nJudges: George Akkouris & Ryan Lamberg
URL:https://essft.com/event/arrowhead-ess-club-7/
LOCATION:Lahontan Valley Bird Dog Club\, Fallon\, NV 89406\, USA\, Fallon\, Nevada\, 89406\, United States
CATEGORIES:Field Trials - West
GEO:39.474869;-118.777041
X-APPLE-STRUCTURED-LOCATION;VALUE=URI;X-ADDRESS=Lahontan Valley Bird Dog Club Fallon NV 89406 USA Fallon Nevada 89406 United States;X-APPLE-RADIUS=500;X-TITLE=Fallon\, NV 89406\, USA:geo:-118.777041,39.474869
END:VEVENT
BEGIN:VEVENT
DTSTART;TZID=America/Chicago:20211009T000000
DTEND;TZID=America/Chicago:20211010T000000
DTSTAMP:20260422T150804
CREATED:20250613T035449Z
LAST-MODIFIED:20250628T023852Z
UID:10010543-1633737600-1633824000@essft.com
SUMMARY:Canadian National Amateur Field Trial - Nova Scotia\, Canada
DESCRIPTION:Hosted by Scotia Spaniel Club & Prince Edward Interprovincial Springer Club \nGary Wilson – 6600 County Route 69\, Canisteo\, New York\, 14823\nBill McCaffrey – 383 Dominion Dr.\, Hanmer Ont . P3P 0A9
URL:https://essft.com/event/canadian-national-amateur-field-trial-nova-scotia-canada/
LOCATION:South Dakota
CATEGORIES:NATIONAL FIELD TRIALS
END:VEVENT
BEGIN:VEVENT
DTSTART;TZID=America/Chicago:20211009T000000
DTEND;TZID=America/Chicago:20211010T000000
DTSTAMP:20260422T150804
CREATED:20250613T035449Z
LAST-MODIFIED:20250613T035449Z
UID:10010544-1633737600-1633824000@essft.com
SUMMARY:English Cocker Spaniel Club of America Hunt Test October 2021 Chester Springs\, PA
DESCRIPTION:Entries Close: Tuesday\, September 28\, 2021 11:59:59 PM Eastern Time(ET) on Hunt Secretary \nJudges:  Kate Ostrowski and Tim Welling
URL:https://essft.com/event/english-cocker-spaniel-club-of-america-hunt-test-october-2021-chester-springs-pa/
LOCATION:South Dakota
CATEGORIES:Hunt Tests
END:VEVENT
BEGIN:VEVENT
DTSTART;TZID=America/Chicago:20211009T000000
DTEND;TZID=America/Chicago:20211010T000000
DTSTAMP:20260422T150804
CREATED:20250613T035449Z
LAST-MODIFIED:20250613T035449Z
UID:10010540-1633737600-1633824000@essft.com
SUMMARY:English Springer Spaniel Club of Long Island
DESCRIPTION:Entries Close: Tuesday\, September 28\, 2021 11:59:59 PM Eastern Time(ET) on Hunt Secretary \nJudges: Kathy Nestor and Aaron Wendel
URL:https://essft.com/event/english-springer-spaniel-club-of-long-island-5/
LOCATION:South Dakota
CATEGORIES:Field Trials - East
ORGANIZER;CN="Kevin Dolan":MAILTO:kdcups@gmail.com
END:VEVENT
END:VCALENDAR