BEGIN:VCALENDAR
VERSION:2.0
PRODID:-//English Springer Spaniel Field Trials - ECPv6.15.20//NONSGML v1.0//EN
CALSCALE:GREGORIAN
METHOD:PUBLISH
X-WR-CALNAME:English Springer Spaniel Field Trials
X-ORIGINAL-URL:https://essft.com
X-WR-CALDESC:Events for English Springer Spaniel Field Trials
REFRESH-INTERVAL;VALUE=DURATION:PT1H
X-Robots-Tag:noindex
X-PUBLISHED-TTL:PT1H
BEGIN:VTIMEZONE
TZID:America/Chicago
BEGIN:DAYLIGHT
TZOFFSETFROM:-0600
TZOFFSETTO:-0500
TZNAME:CDT
DTSTART:20190310T080000
END:DAYLIGHT
BEGIN:STANDARD
TZOFFSETFROM:-0500
TZOFFSETTO:-0600
TZNAME:CST
DTSTART:20191103T070000
END:STANDARD
BEGIN:DAYLIGHT
TZOFFSETFROM:-0600
TZOFFSETTO:-0500
TZNAME:CDT
DTSTART:20200308T080000
END:DAYLIGHT
BEGIN:STANDARD
TZOFFSETFROM:-0500
TZOFFSETTO:-0600
TZNAME:CST
DTSTART:20201101T070000
END:STANDARD
BEGIN:DAYLIGHT
TZOFFSETFROM:-0600
TZOFFSETTO:-0500
TZNAME:CDT
DTSTART:20210314T080000
END:DAYLIGHT
BEGIN:STANDARD
TZOFFSETFROM:-0500
TZOFFSETTO:-0600
TZNAME:CST
DTSTART:20211107T070000
END:STANDARD
END:VTIMEZONE
BEGIN:VEVENT
DTSTART;TZID=America/Chicago:20201010T000000
DTEND;TZID=America/Chicago:20201011T000000
DTSTAMP:20260423T060048
CREATED:20250613T023827Z
LAST-MODIFIED:20250613T023827Z
UID:10010310-1602288000-1602374400@essft.com
SUMMARY:St. Croix Valley Spaniel Club ESS Field Trial Fall 2020 #2
DESCRIPTION:Entries Close: Monday\, September 28\, 2020 11:59:59 PM Eastern Time(ET) on Hunt Secretary \nJudges: Rumi Schroeder and Brian Bilotta\n 
URL:https://essft.com/event/st-croix-valley-spaniel-club-ess-field-trial-fall-2020-2/
LOCATION:Leslie Bjerketvedt Farm\, Co Hwy 5\, Clitherall\, MN 56524\, USA\, Clitherall\, Minnesota\, 56524\, United States
CATEGORIES:Field Trials - Mid West
GEO:46.275682;-95.633964
X-APPLE-STRUCTURED-LOCATION;VALUE=URI;X-ADDRESS=Leslie Bjerketvedt Farm Co Hwy 5 Clitherall MN 56524 USA Clitherall Minnesota 56524 United States;X-APPLE-RADIUS=500;X-TITLE=Co Hwy 5\, Clitherall\, MN 56524\, USA:geo:-95.633964,46.275682
END:VEVENT
BEGIN:VEVENT
DTSTART;TZID=America/Chicago:20201010T000000
DTEND;TZID=America/Chicago:20201011T000000
DTSTAMP:20260423T060048
CREATED:20250613T023827Z
LAST-MODIFIED:20250613T023827Z
UID:10010311-1602288000-1602374400@essft.com
SUMMARY:Cocker:  Minnesota Hunting Spaniel Association
DESCRIPTION:Waiting for more info.
URL:https://essft.com/event/cocker-minnesota-hunting-spaniel-association-2/
CATEGORIES:Cocker Trial
END:VEVENT
BEGIN:VEVENT
DTSTART;TZID=America/Chicago:20201010T000000
DTEND;TZID=America/Chicago:20201011T000000
DTSTAMP:20260423T060048
CREATED:20250613T023823Z
LAST-MODIFIED:20250613T023823Z
UID:10010306-1602288000-1602374400@essft.com
SUMMARY:Cincinnati ESS Field Trial Club
DESCRIPTION:Entries Close: Tuesday\, September 29\, 2020 11:59:59 PM Eastern Time(ET) on Hunt Secretary \nJudges: Gary Wilson and Dick Taylor
URL:https://essft.com/event/cincinnati-ess-field-trial-club-2/
CATEGORIES:Field Trials - Mid East
ORGANIZER;CN="Amy Haering":MAILTO:cessftc@yahoo.com
END:VEVENT
BEGIN:VEVENT
DTSTART;TZID=America/Chicago:20201010T000000
DTEND;TZID=America/Chicago:20201011T000000
DTSTAMP:20260423T060048
CREATED:20250613T023823Z
LAST-MODIFIED:20250613T023823Z
UID:10010307-1602288000-1602374400@essft.com
SUMMARY:South Western Ontario Spaniel Club
DESCRIPTION:Saturday Oct 10\, 2020.   Open\, Amateur and Puppy stakes.\nSunday Oct 11\, 2020.  Open and Limit stakes.
URL:https://essft.com/event/south-western-ontario-spaniel-club-7/
CATEGORIES:Canadian FT
END:VEVENT
BEGIN:VEVENT
DTSTART;TZID=America/Chicago:20201010T000000
DTEND;TZID=America/Chicago:20201011T000000
DTSTAMP:20260423T060048
CREATED:20250613T023823Z
LAST-MODIFIED:20250613T023823Z
UID:10010308-1602288000-1602374400@essft.com
SUMMARY:Cocker:  Arrowhead ESS Club
DESCRIPTION:Entries Due:  8:00 PM (PST) Wednesday\, September 30th\, 2020 \nFT Secretary: Chip Bunker\, 5111 Solias Road\, Fallon NV 89406 \n  \nJudges: Rick Shively & Robert Willis   Mhari Pescel\n  \nOct 10 – 11\, 2020 – Springers Open & Amateur \nOct 10\, 2020 – Cocker Open alternating with Springers \nOct 11\, 2020 – Cocker Open alternating with Springers
URL:https://essft.com/event/cocker-arrowhead-ess-club/
LOCATION:Lahontan Valley Bird Dog Club\, Fallon\, NV 89406\, USA\, Fallon\, Nevada\, 89406\, United States
CATEGORIES:Cocker Trial
GEO:39.474869;-118.777041
X-APPLE-STRUCTURED-LOCATION;VALUE=URI;X-ADDRESS=Lahontan Valley Bird Dog Club Fallon NV 89406 USA Fallon Nevada 89406 United States;X-APPLE-RADIUS=500;X-TITLE=Fallon\, NV 89406\, USA:geo:-118.777041,39.474869
END:VEVENT
BEGIN:VEVENT
DTSTART;TZID=America/Chicago:20201010T000000
DTEND;TZID=America/Chicago:20201011T000000
DTSTAMP:20260423T060048
CREATED:20250612T043049Z
LAST-MODIFIED:20250613T023823Z
UID:10010305-1602288000-1602374400@essft.com
SUMMARY:Arrowhead ESS Club
DESCRIPTION:Entries Due:  8:00 PM (PST) Wednesday\, September 30th\, 2020 \nFT Secretary: Chip Bunker\, 5111 Solias Road\, Fallon NV 89406 \n  \nJudges: Rick Shively &  Mhari Peschel\n  \nOct 10 – 11\, 2020 – Springers Open & Amateur \nOct 10\, 2020 – Cocker Open alternating with Springers \nOct 11\, 2020 – Cocker Open alternating with Springers
URL:https://essft.com/event/arrowhead-ess-club-5/
LOCATION:Lahontan Valley Bird Dog Club\, Fallon\, NV 89406\, USA\, Fallon\, Nevada\, 89406\, United States
CATEGORIES:Field Trials - West
GEO:39.474869;-118.777041
X-APPLE-STRUCTURED-LOCATION;VALUE=URI;X-ADDRESS=Lahontan Valley Bird Dog Club Fallon NV 89406 USA Fallon Nevada 89406 United States;X-APPLE-RADIUS=500;X-TITLE=Fallon\, NV 89406\, USA:geo:-118.777041,39.474869
END:VEVENT
BEGIN:VEVENT
DTSTART;TZID=America/Chicago:20201010T000000
DTEND;TZID=America/Chicago:20201011T000000
DTSTAMP:20260423T060048
CREATED:20250612T043049Z
LAST-MODIFIED:20250613T023823Z
UID:10010304-1602288000-1602374400@essft.com
SUMMARY:Cocker Spaniel Field Trial of America
DESCRIPTION:Entries Close: Tuesday\, September 29\, 2020 11:59:59 PM Eastern Time(ET) on Hunt Secretary \nJudges: Alexandra Bradley and Kathy Nestor
URL:https://essft.com/event/cocker-spaniel-field-trial-of-america-2/
CATEGORIES:Field Trials - East
END:VEVENT
BEGIN:VEVENT
DTSTART;TZID=America/Chicago:20201009T000000
DTEND;TZID=America/Chicago:20201009T000000
DTSTAMP:20260423T060048
CREATED:20250612T043049Z
LAST-MODIFIED:20250612T043049Z
UID:10010303-1602201600-1602201600@essft.com
SUMMARY:St Croix Valley Spaniel Club Trial #1
DESCRIPTION:Entries Close: Monday\, September 28\, 2020 11:59:59 PM Eastern Time(ET) on Hunt Secretary \nJudges:  John Bruggeman & Francis Sworsky\n 
URL:https://essft.com/event/st-croix-valley-spaniel-club-trial-1/
LOCATION:Leslie Bjerketvedt Farm\, Co Hwy 5\, Clitherall\, MN 56524\, USA\, Clitherall\, Minnesota\, 56524\, United States
CATEGORIES:Field Trials - Mid West
GEO:46.275682;-95.633964
X-APPLE-STRUCTURED-LOCATION;VALUE=URI;X-ADDRESS=Leslie Bjerketvedt Farm Co Hwy 5 Clitherall MN 56524 USA Clitherall Minnesota 56524 United States;X-APPLE-RADIUS=500;X-TITLE=Co Hwy 5\, Clitherall\, MN 56524\, USA:geo:-95.633964,46.275682
END:VEVENT
BEGIN:VEVENT
DTSTART;TZID=America/Chicago:20201003T000000
DTEND;TZID=America/Chicago:20201004T000000
DTSTAMP:20260423T060048
CREATED:20250612T043049Z
LAST-MODIFIED:20250612T043049Z
UID:10010301-1601683200-1601769600@essft.com
SUMMARY:Cocker Spaniel Hunting Enthusiasts Spaniel Hunt Test
DESCRIPTION:Entries Close: Tuesday\, September 22\, 2020 11:59:59 PM Eastern Time(ET) on Hunt Secretary \n 
URL:https://essft.com/event/cocker-spaniel-hunting-enthusiasts-spaniel-hunt-test/
CATEGORIES:Hunt Tests
END:VEVENT
BEGIN:VEVENT
DTSTART;TZID=America/Chicago:20201003T000000
DTEND;TZID=America/Chicago:20201004T000000
DTSTAMP:20260423T060048
CREATED:20250612T043049Z
LAST-MODIFIED:20250612T043049Z
UID:10010302-1601683200-1601769600@essft.com
SUMMARY:Cocker: Spaniel Association of Western NY Field Trial
DESCRIPTION:Entries Close: Tuesday\, September 22\, 2020 11:59:59 PM Eastern Time(ET) on Hunt Secretary \nOpen Judges: Brent LeMaster and Trent Bosse\nAmateur Judges:  Doug Regnet and Joe DeMarkis\n 
URL:https://essft.com/event/cocker-spaniel-association-of-western-ny-field-trial/
LOCATION:One Forty Five North\, LLC\, 8045 Tonawanda Creek Rd\, Lockport\, NY 14094\, USA\, Lockport\, New York\, 14094\, United States
CATEGORIES:Cocker Trial
GEO:43.08423;-78.589279
X-APPLE-STRUCTURED-LOCATION;VALUE=URI;X-ADDRESS=One Forty Five North LLC 8045 Tonawanda Creek Rd Lockport NY 14094 USA Lockport New York 14094 United States;X-APPLE-RADIUS=500;X-TITLE=8045 Tonawanda Creek Rd\, Lockport\, NY 14094\, USA:geo:-78.589279,43.08423
END:VEVENT
BEGIN:VEVENT
DTSTART;TZID=America/Chicago:20201003T000000
DTEND;TZID=America/Chicago:20201004T000000
DTSTAMP:20260423T060048
CREATED:20250612T042849Z
LAST-MODIFIED:20250612T042849Z
UID:10010300-1601683200-1601769600@essft.com
SUMMARY:Missouri Hunting Spaniel Club - Hunt Test
DESCRIPTION:Entries Close: Tuesday\, September 22\, 2020 11:59:59 PM Eastern Time(ET) on Hunt Secretary \n 
URL:https://essft.com/event/missouri-hunting-spaniel-club-hunt-test/
LOCATION:Horse Creek Ranch\, Galena\, MO 65656\, USA\, Galena\, Missouri\, 65656\, United States
CATEGORIES:Hunt Tests
GEO:36.805338;-93.466579
X-APPLE-STRUCTURED-LOCATION;VALUE=URI;X-ADDRESS=Horse Creek Ranch Galena MO 65656 USA Galena Missouri 65656 United States;X-APPLE-RADIUS=500;X-TITLE=Galena\, MO 65656\, USA:geo:-93.466579,36.805338
END:VEVENT
BEGIN:VEVENT
DTSTART;TZID=America/Chicago:20201003T000000
DTEND;TZID=America/Chicago:20201004T000000
DTSTAMP:20260423T060048
CREATED:20250612T042848Z
LAST-MODIFIED:20250612T042848Z
UID:10010297-1601683200-1601769600@essft.com
SUMMARY:English Springer Spaniel Club of Long Island
DESCRIPTION:Entries Close: Tuesday\, September 22\, 2020 11:59:59 PM Eastern Time(ET) on Hunt Secretary  \nJudges: Peter Renwick and Deb Olszewski
URL:https://essft.com/event/english-springer-spaniel-club-of-long-island-4/
CATEGORIES:Field Trials - East
END:VEVENT
BEGIN:VEVENT
DTSTART;TZID=America/Chicago:20201003T000000
DTEND;TZID=America/Chicago:20201004T000000
DTSTAMP:20260423T060048
CREATED:20250612T042848Z
LAST-MODIFIED:20250612T042848Z
UID:10010298-1601683200-1601769600@essft.com
SUMMARY:Great Lakes ESS Field Training Association
DESCRIPTION:Entries Close: Tuesday\, September 22\, 2020 11:59:59 PM Eastern Time(ET) on Hunt Secretary \nJudges: Chad Betts and Darrell Kurszewski\n 
URL:https://essft.com/event/great-lakes-ess-field-training-association/
CATEGORIES:Field Trials - Mid East
END:VEVENT
BEGIN:VEVENT
DTSTART;TZID=America/Chicago:20201003T000000
DTEND;TZID=America/Chicago:20201004T000000
DTSTAMP:20260423T060048
CREATED:20250612T042848Z
LAST-MODIFIED:20250612T042848Z
UID:10010299-1601683200-1601769600@essft.com
SUMMARY:NWESSC  Northwest English Springer Spaniel Club
DESCRIPTION:Entries Close: Tuesday\, September 22\, 2020 11:59:59 PM Eastern Time(ET) on Hunt Secretary \nJudges:  Gary Davis and Bob Davis
URL:https://essft.com/event/nwessc-northwest-english-springer-spaniel-club/
LOCATION:Knaupp Farm\, Rickreall\, OR 97371\, USA\, Rickreall\, Oregon\, 97371\, United States
CATEGORIES:Field Trials - West
ORGANIZER;CN="Paula Mazurek":MAILTO:mtmyst@cablespeed.com
GEO:44.932282;-123.235104
X-APPLE-STRUCTURED-LOCATION;VALUE=URI;X-ADDRESS=Knaupp Farm Rickreall OR 97371 USA Rickreall Oregon 97371 United States;X-APPLE-RADIUS=500;X-TITLE=Rickreall\, OR 97371\, USA:geo:-123.235104,44.932282
END:VEVENT
BEGIN:VEVENT
DTSTART;TZID=America/Chicago:20201003T000000
DTEND;TZID=America/Chicago:20201004T000000
DTSTAMP:20260423T060048
CREATED:20250612T042848Z
LAST-MODIFIED:20250612T042848Z
UID:10010296-1601683200-1601769600@essft.com
SUMMARY:Northern Colorado Springer Spaniel Club
DESCRIPTION:Entries Close: Tuesday\, September 22\, 2020 11:59:59 PM Eastern Time(ET) on Hunt Secretary \nJudges: Tim Lindsey and Brian Sonier
URL:https://essft.com/event/northern-colorado-springer-spaniel-club-5-5/
CATEGORIES:Field Trials - Rocky Mountain
END:VEVENT
BEGIN:VEVENT
DTSTART;TZID=America/Chicago:20201003T000000
DTEND;TZID=America/Chicago:20201004T000000
DTSTAMP:20260423T060048
CREATED:20250612T042648Z
LAST-MODIFIED:20250612T042648Z
UID:10010294-1601683200-1601769600@essft.com
SUMMARY:Cocker:  Fox Valley English Cocker Club
DESCRIPTION:Entries Close: Tuesday\, September 22\, 2020 11:59:59 PM Eastern Time(ET) on Hunt Secretary \nJudges: Elaine (VanderSlice) O’Keefe and James O’Keefe\n 
URL:https://essft.com/event/cocker-fox-valley-english-cocker-club/
LOCATION:Connolly Game Farm\, Reedsville\, WI 54230\, USA\, Reedsville\, Wisconsin\, 54230\, United States
CATEGORIES:Cocker Trial
GEO:44.153604;-87.956762
X-APPLE-STRUCTURED-LOCATION;VALUE=URI;X-ADDRESS=Connolly Game Farm Reedsville WI 54230 USA Reedsville Wisconsin 54230 United States;X-APPLE-RADIUS=500;X-TITLE=Reedsville\, WI 54230\, USA:geo:-87.956762,44.153604
END:VEVENT
BEGIN:VEVENT
DTSTART;TZID=America/Chicago:20201003T000000
DTEND;TZID=America/Chicago:20201004T000000
DTSTAMP:20260423T060048
CREATED:20250612T042648Z
LAST-MODIFIED:20250612T042648Z
UID:10010295-1601683200-1601769600@essft.com
SUMMARY:Minnesota Heartland
DESCRIPTION:Entries Close: Tuesday\, September 22\, 2020 11:59:59 PM Eastern Time(ET) on Hunt Secretary \nJudges: Chuck Nelson and John Smith\nDirections: From Kilkenny 1.5 miles east on Dodd Road to County 134  and go North 1/2 Mile \nCLICK Here for directions from the Host Hotel in Faribault
URL:https://essft.com/event/minnesota-heartland-2/
CATEGORIES:Field Trials - Mid West
END:VEVENT
BEGIN:VEVENT
DTSTART;TZID=America/Chicago:20201002T000000
DTEND;TZID=America/Chicago:20201002T000000
DTSTAMP:20260423T060048
CREATED:20250612T042647Z
LAST-MODIFIED:20250612T042647Z
UID:10010292-1601596800-1601596800@essft.com
SUMMARY:Cocker: Northwest ESS Club
DESCRIPTION:Entries Close: Monday\, September 21\, 2020 11:59:59 PM Eastern Time(ET) on Hunt Secretary \nJudges:  Gary Davis and Bob Davis\n\n		\n			\n			\n		\n\n		\n 
URL:https://essft.com/event/cocker-northwest-ess-club-2/
LOCATION:Knaupp Farm\, Rickreall\, OR 97371\, USA\, Rickreall\, Oregon\, 97371\, United States
CATEGORIES:Cocker Trial
ORGANIZER;CN="Paula Mazurek":MAILTO:mtmyst@cablespeed.com
GEO:44.932282;-123.235104
X-APPLE-STRUCTURED-LOCATION;VALUE=URI;X-ADDRESS=Knaupp Farm Rickreall OR 97371 USA Rickreall Oregon 97371 United States;X-APPLE-RADIUS=500;X-TITLE=Rickreall\, OR 97371\, USA:geo:-123.235104,44.932282
END:VEVENT
BEGIN:VEVENT
DTSTART;TZID=America/Chicago:20201002T000000
DTEND;TZID=America/Chicago:20201002T000000
DTSTAMP:20260423T060048
CREATED:20250612T042647Z
LAST-MODIFIED:20250612T042647Z
UID:10010293-1601596800-1601596800@essft.com
SUMMARY:Cocker: Northwest English Springer Spaniel Club
DESCRIPTION:Entries Close: Monday\, September 21\, 2020 11:59:59 PM Eastern Time(ET) on Hunt Secretary \nJudges: Gary Davis and Bob Davis
URL:https://essft.com/event/cocker-northwest-english-springer-spaniel-club-2/
LOCATION:Knaupp Farm\, Rickreall\, OR 97371\, USA\, Rickreall\, Oregon\, 97371\, United States
CATEGORIES:Cocker Trial
GEO:44.932282;-123.235104
X-APPLE-STRUCTURED-LOCATION;VALUE=URI;X-ADDRESS=Knaupp Farm Rickreall OR 97371 USA Rickreall Oregon 97371 United States;X-APPLE-RADIUS=500;X-TITLE=Rickreall\, OR 97371\, USA:geo:-123.235104,44.932282
END:VEVENT
BEGIN:VEVENT
DTSTART;TZID=America/Chicago:20201001T000000
DTEND;TZID=America/Chicago:20201002T000000
DTSTAMP:20260423T060048
CREATED:20250612T042647Z
LAST-MODIFIED:20250612T042647Z
UID:10010291-1601510400-1601596800@essft.com
SUMMARY:Spaniel Association of Western New York
DESCRIPTION:Entries Close: Monday\, September 21\, 2020 11:59:59 PM Eastern Time(ET) on Hunt Secretary \nJudges:\nOpen – Gary Soper and Mike Ludwig\nAmateur – Gary Soper and Richie Whelan
URL:https://essft.com/event/spaniel-association-of-western-new-york-3/
LOCATION:One Forty Five North\, LLC\, 8045 Tonawanda Creek Rd\, Lockport\, NY 14094\, USA\, Lockport\, New York\, 14094\, United States
CATEGORIES:Field Trials - Mid East
GEO:43.08423;-78.589279
X-APPLE-STRUCTURED-LOCATION;VALUE=URI;X-ADDRESS=One Forty Five North LLC 8045 Tonawanda Creek Rd Lockport NY 14094 USA Lockport New York 14094 United States;X-APPLE-RADIUS=500;X-TITLE=8045 Tonawanda Creek Rd\, Lockport\, NY 14094\, USA:geo:-78.589279,43.08423
END:VEVENT
BEGIN:VEVENT
DTSTART;TZID=America/Chicago:20201001T000000
DTEND;TZID=America/Chicago:20201002T000000
DTSTAMP:20260423T060048
CREATED:20250612T042446Z
LAST-MODIFIED:20250612T042446Z
UID:10010289-1601510400-1601596800@essft.com
SUMMARY:Fox Valley English Cocker Club Springer FT
DESCRIPTION:Entries Close: Monday\, September 21\, 2020 11:59:59 PM Eastern Time(ET) on Hunt Secretary \nJudges: Dan Murray and Will Pick
URL:https://essft.com/event/fox-valley-english-cocker-club-springer-ft/
LOCATION:Connolly Game Farm\, Reedsville\, WI 54230\, USA\, Reedsville\, Wisconsin\, 54230\, United States
CATEGORIES:Field Trials - Mid West
GEO:44.153604;-87.956762
X-APPLE-STRUCTURED-LOCATION;VALUE=URI;X-ADDRESS=Connolly Game Farm Reedsville WI 54230 USA Reedsville Wisconsin 54230 United States;X-APPLE-RADIUS=500;X-TITLE=Reedsville\, WI 54230\, USA:geo:-87.956762,44.153604
END:VEVENT
BEGIN:VEVENT
DTSTART;TZID=America/Chicago:20201001T000000
DTEND;TZID=America/Chicago:20201002T000000
DTSTAMP:20260423T060048
CREATED:20250612T042446Z
LAST-MODIFIED:20250612T042446Z
UID:10010290-1601510400-1601596800@essft.com
SUMMARY:Rocky Mountain Springer Spaniel Assoc.
DESCRIPTION:Entries Close: Monday\, September 21\, 2020 11:59:59 PM Eastern Time(ET) on Hunt Secretary \nJudges: Tom Nabity and Randy Curtis
URL:https://essft.com/event/rocky-mountain-springer-spaniel-assoc-3/
CATEGORIES:Field Trials - Rocky Mountain
END:VEVENT
BEGIN:VEVENT
DTSTART;TZID=America/Chicago:20200926T000000
DTEND;TZID=America/Chicago:20200927T000000
DTSTAMP:20260423T060048
CREATED:20250612T042446Z
LAST-MODIFIED:20250612T042446Z
UID:10010286-1601078400-1601164800@essft.com
SUMMARY:South Western Ontario Spaniel Club
DESCRIPTION:Saturday Sept 26\, 2020.   Open\, Amateur and Puppy stakes.\nSunday Sept 27\, 2020.   Open and Limit stakes.
URL:https://essft.com/event/south-western-ontario-spaniel-club-6/
CATEGORIES:Canadian FT
END:VEVENT
BEGIN:VEVENT
DTSTART;TZID=America/Chicago:20200926T000000
DTEND;TZID=America/Chicago:20200927T000000
DTSTAMP:20260423T060048
CREATED:20250612T042446Z
LAST-MODIFIED:20250612T042446Z
UID:10010288-1601078400-1601164800@essft.com
SUMMARY:Cocker: Maine Spaniel Field Trial Club
DESCRIPTION:Entries close with the Field Trial Secretary at 6:00 PM EST\nMonday\, Sept. 21\, 2020. The drawing will take place at 8:00 PM\nEST Monday\, Sept. 21\, 2020 at\n186 Lowe Street\, Leominster\, MA. \nJudges:  Richard Moore and Keith Meissner
URL:https://essft.com/event/cocker-maine-spaniel-field-trial-club-3/
LOCATION:Wildwind Kennels\, 1368 Webb Rd\, Thorndike\, ME\, United States
CATEGORIES:Cocker Trial
GEO:44.530132;-69.209867
X-APPLE-STRUCTURED-LOCATION;VALUE=URI;X-ADDRESS=Wildwind Kennels 1368 Webb Rd Thorndike ME United States;X-APPLE-RADIUS=500;X-TITLE=1368 Webb Rd:geo:-69.209867,44.530132
END:VEVENT
BEGIN:VEVENT
DTSTART;TZID=America/Chicago:20200926T000000
DTEND;TZID=America/Chicago:20200927T000000
DTSTAMP:20260423T060048
CREATED:20250612T042245Z
LAST-MODIFIED:20250612T042245Z
UID:10010283-1601078400-1601164800@essft.com
SUMMARY:Northeast Wisconsin Spaniel Club
DESCRIPTION:Entries Close: Tuesday\, September 15\, 2020 11:59:59 PM Eastern Time(ET) on Hunt Secretary \nJudges: Paul Haering and Ryan Lamberg
URL:https://essft.com/event/northeast-wisconsin-spaniel-club-3/
LOCATION:Besadny Fish and Wildlife Area\, Kewaunee\, WI 54216\, USA\, Kewaunee\, Wisconsin\, 54216\, United States
CATEGORIES:Field Trials - Mid West
ORGANIZER;CN="Mark Moore":MAILTO:mark@mooreagphotos.com
GEO:44.458332;-87.50314
X-APPLE-STRUCTURED-LOCATION;VALUE=URI;X-ADDRESS=Besadny Fish and Wildlife Area Kewaunee WI 54216 USA Kewaunee Wisconsin 54216 United States;X-APPLE-RADIUS=500;X-TITLE=Kewaunee\, WI 54216\, USA:geo:-87.50314,44.458332
END:VEVENT
BEGIN:VEVENT
DTSTART;TZID=America/Chicago:20200926T000000
DTEND;TZID=America/Chicago:20200927T000000
DTSTAMP:20260423T060049
CREATED:20250612T042245Z
LAST-MODIFIED:20250612T042245Z
UID:10010285-1601078400-1601164800@essft.com
SUMMARY:Southern Michigan Springer Spaniel Training Club
DESCRIPTION:Entries Close: Tuesday\, September 15\, 2020 11:59:59 PM Eastern Time(ET) on Hunt Secretary \nJudges: Pat Gilligan and Donny Mock
URL:https://essft.com/event/southern-michigan-springer-spaniel-training-club-2/
CATEGORIES:Field Trials - Mid East
END:VEVENT
BEGIN:VEVENT
DTSTART;TZID=America/Chicago:20200926T000000
DTEND;TZID=America/Chicago:20200926T000000
DTSTAMP:20260423T060049
CREATED:20250612T042446Z
LAST-MODIFIED:20250612T042446Z
UID:10010287-1601078400-1601078400@essft.com
SUMMARY:Cocker: Northeast Wisconsin Spaniel Club Field Trial
DESCRIPTION:Entries Close: Tuesday\, September 15\, 2020 11:59:59 PM Eastern Time(ET) on Hunt Secretary \nJudges: Paul Hearing and Ryan Lamberg
URL:https://essft.com/event/cocker-northeast-wisconsin-spaniel-club-field-trial/
LOCATION:Besadny Fish and Wildlife Area\, Kewaunee\, WI 54216\, USA\, Kewaunee\, Wisconsin\, 54216\, United States
CATEGORIES:Cocker Trial
ORGANIZER;CN="Mark Moore":MAILTO:mark@mooreagphotos.com
GEO:44.458332;-87.50314
X-APPLE-STRUCTURED-LOCATION;VALUE=URI;X-ADDRESS=Besadny Fish and Wildlife Area Kewaunee WI 54216 USA Kewaunee Wisconsin 54216 United States;X-APPLE-RADIUS=500;X-TITLE=Kewaunee\, WI 54216\, USA:geo:-87.50314,44.458332
END:VEVENT
BEGIN:VEVENT
DTSTART;TZID=America/Chicago:20200926T000000
DTEND;TZID=America/Chicago:20200926T000000
DTSTAMP:20260423T060049
CREATED:20250612T042245Z
LAST-MODIFIED:20250612T042245Z
UID:10010284-1601078400-1601078400@essft.com
SUMMARY:Bushy Hill Springer Spaniel FT Assoc
DESCRIPTION:Entries Close: Wednesday\, September 16\, 2020 11:59:59 PM Eastern Time(ET) on Hunt Secretary \nJudges: Chris Jensen and William Pierson\n  \nThe start time has been changed to 7:30 am. \nAlex Cacchio is judging instead of Bill Pierson.
URL:https://essft.com/event/bushy-hill-springer-spaniel-ft-assoc/
LOCATION:Richard Stewart Farm\, Canisteo\, NY 14823\, USA\, Canisteo\, New York\, 14823\, United States
CATEGORIES:Field Trials - East
ORGANIZER;CN="Suzanne Smith":MAILTO:ssmith@interimhealthcr.com
GEO:42.291091;-77.498077
X-APPLE-STRUCTURED-LOCATION;VALUE=URI;X-ADDRESS=Richard Stewart Farm Canisteo NY 14823 USA Canisteo New York 14823 United States;X-APPLE-RADIUS=500;X-TITLE=Canisteo\, NY 14823\, USA:geo:-77.498077,42.291091
END:VEVENT
BEGIN:VEVENT
DTSTART;TZID=America/Chicago:20200925T000000
DTEND;TZID=America/Chicago:20200927T000000
DTSTAMP:20260423T060049
CREATED:20250612T042245Z
LAST-MODIFIED:20250612T042245Z
UID:10010281-1600992000-1601164800@essft.com
SUMMARY:Cocker: Iowa Sporting Spaniel Club
DESCRIPTION:Entries Close: Monday\, September 14\, 2020 11:59:59 PM Eastern Time(ET) on Hunt Secretary \nJudges:\nCocker #1:  Kathy Sleavin and Elaine (Vanderslice) O’Keefe\nCocker #2 & #3:  Mark Mercie and Tom Menzel\n\nThursday:  ESS Open and ESS Water Test \nFriday:  ESS Amateur and Cocker Open #1  Alternating \nSaturday: Cocker Open #2 and Amateur \nSunday:  Cocker Open #3 \n\n		\n			\n			\n		\n\n		\n  \n 
URL:https://essft.com/event/cocker-iowa-sporting-spaniel-club/
CATEGORIES:Cocker Trial
END:VEVENT
BEGIN:VEVENT
DTSTART;TZID=America/Chicago:20200925T000000
DTEND;TZID=America/Chicago:20200927T000000
DTSTAMP:20260423T060049
CREATED:20250612T042045Z
LAST-MODIFIED:20250612T042045Z
UID:10010279-1600992000-1601164800@essft.com
SUMMARY:Pawnee Flushing Spaniel Club
DESCRIPTION:The Pawnee Flushing Spaniel Club would like to announce that due to the current circumstances\, we are canceling our fall trial that was scheduled for September.  We would like to thank all those who have supported us in the past. \n\nWe look forward to seeing all of you in 2021. \nMatt Ortiz
URL:https://essft.com/event/pawnee-flushing-spaniel-club-4/
CATEGORIES:Field Trials - Rocky Mountain
END:VEVENT
END:VCALENDAR