BEGIN:VCALENDAR
VERSION:2.0
PRODID:-//English Springer Spaniel Field Trials - ECPv6.15.20//NONSGML v1.0//EN
CALSCALE:GREGORIAN
METHOD:PUBLISH
X-WR-CALNAME:English Springer Spaniel Field Trials
X-ORIGINAL-URL:https://essft.com
X-WR-CALDESC:Events for English Springer Spaniel Field Trials
REFRESH-INTERVAL;VALUE=DURATION:PT1H
X-Robots-Tag:noindex
X-PUBLISHED-TTL:PT1H
BEGIN:VTIMEZONE
TZID:America/Chicago
BEGIN:DAYLIGHT
TZOFFSETFROM:-0600
TZOFFSETTO:-0500
TZNAME:CDT
DTSTART:20200308T080000
END:DAYLIGHT
BEGIN:STANDARD
TZOFFSETFROM:-0500
TZOFFSETTO:-0600
TZNAME:CST
DTSTART:20201101T070000
END:STANDARD
BEGIN:DAYLIGHT
TZOFFSETFROM:-0600
TZOFFSETTO:-0500
TZNAME:CDT
DTSTART:20210314T080000
END:DAYLIGHT
BEGIN:STANDARD
TZOFFSETFROM:-0500
TZOFFSETTO:-0600
TZNAME:CST
DTSTART:20211107T070000
END:STANDARD
BEGIN:DAYLIGHT
TZOFFSETFROM:-0600
TZOFFSETTO:-0500
TZNAME:CDT
DTSTART:20220313T080000
END:DAYLIGHT
BEGIN:STANDARD
TZOFFSETFROM:-0500
TZOFFSETTO:-0600
TZNAME:CST
DTSTART:20221106T070000
END:STANDARD
END:VTIMEZONE
BEGIN:VEVENT
DTSTART;TZID=America/Chicago:20210731T000000
DTEND;TZID=America/Chicago:20210731T000000
DTSTAMP:20260422T175429
CREATED:20250613T034218Z
LAST-MODIFIED:20250613T034218Z
UID:10010469-1627689600-1627689600@essft.com
SUMMARY:Gunning Seminar for Springers and Cockers Sponsored by Northern MN ESS Club
DESCRIPTION:Seminar is July 31\, 2021 start time 8:30 am. \nCost:  $75  Mail check made out to NMESSC or bring with on day of registration.  Includes seminar and lunch \nChecks can be mailed to: Pine Shadows\, 14752 Three Mile Road Brainerd\, MN 56401 Or bring check or cash on the day of the seminar. \nPlease contact Mark with any questions or reserve your spot. You can email him at mark@pineshadows.com \n 
URL:https://essft.com/event/gunning-seminar-for-springers-and-cockers-sponsored-by-northern-mn-ess-club-2/
CATEGORIES:Gunning Seminars
END:VEVENT
BEGIN:VEVENT
DTSTART;TZID=America/Chicago:20210724T000000
DTEND;TZID=America/Chicago:20210725T000000
DTSTAMP:20260422T175429
CREATED:20250613T034218Z
LAST-MODIFIED:20250613T034218Z
UID:10010468-1627084800-1627171200@essft.com
SUMMARY:NTSSC Gunning Seminar
DESCRIPTION:
URL:https://essft.com/event/ntssc-gunning-seminar/
CATEGORIES:Gunning Seminars
END:VEVENT
BEGIN:VEVENT
DTSTART;TZID=America/Chicago:20210704T000000
DTEND;TZID=America/Chicago:20210704T000000
DTSTAMP:20260422T175429
CREATED:20250613T034218Z
LAST-MODIFIED:20250613T034218Z
UID:10010467-1625356800-1625356800@essft.com
SUMMARY:Independence Day
DESCRIPTION:
URL:https://essft.com/event/independence-day-3/
CATEGORIES:Holidays
END:VEVENT
BEGIN:VEVENT
DTSTART;TZID=America/Chicago:20210626T000000
DTEND;TZID=America/Chicago:20210627T000000
DTSTAMP:20260422T175429
CREATED:20250613T034218Z
LAST-MODIFIED:20250613T034218Z
UID:10010466-1624665600-1624752000@essft.com
SUMMARY:Eastern Slopes Spaniel Association
DESCRIPTION:
URL:https://essft.com/event/eastern-slopes-spaniel-association-9/
CATEGORIES:Canadian FT
END:VEVENT
BEGIN:VEVENT
DTSTART;TZID=America/Chicago:20210626T000000
DTEND;TZID=America/Chicago:20210627T000000
DTSTAMP:20260422T175429
CREATED:20250613T034218Z
LAST-MODIFIED:20250613T034218Z
UID:10010465-1624665600-1624752000@essft.com
SUMMARY:Central Virginia ESS Field Trial Club
DESCRIPTION:4/12/2021:  This event is cancelled.
URL:https://essft.com/event/central-virginia-ess-field-trial-club-4/
CATEGORIES:Field Trials - East
END:VEVENT
BEGIN:VEVENT
DTSTART;TZID=America/Chicago:20210620T000000
DTEND;TZID=America/Chicago:20210620T000000
DTSTAMP:20260422T175429
CREATED:20250613T034204Z
LAST-MODIFIED:20250613T034204Z
UID:10010464-1624147200-1624147200@essft.com
SUMMARY:Father's Day
DESCRIPTION:
URL:https://essft.com/event/fathers-day-3/
CATEGORIES:Holidays
END:VEVENT
BEGIN:VEVENT
DTSTART;TZID=America/Chicago:20210619T000000
DTEND;TZID=America/Chicago:20210620T000000
DTSTAMP:20260422T175429
CREATED:20250613T034203Z
LAST-MODIFIED:20250613T034203Z
UID:10010460-1624060800-1624147200@essft.com
SUMMARY:Missouri Headwaters Gun Dog Club (MT)
DESCRIPTION:Hunt Test \nClass Judge Entry Fee\nJunior Hunter: Greg Johnson Kerri Payne\n$50.00 \nSenior Hunter: Greg Johnson Kerri Payne\n$70.00 \nMaster Hunter: Greg Johnson Kerri Payne\n$80.00 \n 
URL:https://essft.com/event/missouri-headwaters-gun-dog-club-mt/
CATEGORIES:Hunt Tests
END:VEVENT
BEGIN:VEVENT
DTSTART;TZID=America/Chicago:20210619T000000
DTEND;TZID=America/Chicago:20210620T000000
DTSTAMP:20260422T175429
CREATED:20250613T034203Z
LAST-MODIFIED:20250613T034203Z
UID:10010461-1624060800-1624147200@essft.com
SUMMARY:North Dakota Springer Spaniel Club
DESCRIPTION:Entries Close: Tuesday\, June 8\, 2021 11:59:59 PM Eastern Time(ET) on Hunt Secretary \nJudges: Will Pick and Bob Merrill\n\n		\n			\n			\n		\n\n		\n 
URL:https://essft.com/event/north-dakota-springer-spaniel-club/
CATEGORIES:Field Trials - Rocky Mountain
END:VEVENT
BEGIN:VEVENT
DTSTART;TZID=America/Chicago:20210619T000000
DTEND;TZID=America/Chicago:20210620T000000
DTSTAMP:20260422T175429
CREATED:20250613T034203Z
LAST-MODIFIED:20250613T034203Z
UID:10010462-1624060800-1624147200@essft.com
SUMMARY:Tilden Valley English Springer Spaniel Club Hunt Test
DESCRIPTION:Entries Close: Tuesday\, June 8\, 2021 11:59:59 PM Eastern Time(ET) on Hunt Secretary \n\n		\n			\n			\n		\n\n		\n 
URL:https://essft.com/event/tilden-valley-english-springer-spaniel-club-hunt-test-2/
CATEGORIES:Hunt Tests
END:VEVENT
BEGIN:VEVENT
DTSTART;TZID=America/Chicago:20210619T000000
DTEND;TZID=America/Chicago:20210620T000000
DTSTAMP:20260422T175429
CREATED:20250613T034203Z
LAST-MODIFIED:20250613T034203Z
UID:10010463-1624060800-1624147200@essft.com
SUMMARY:Tilden Valley English Springer Spaniel Club Water Test for English Springer Spaniels
DESCRIPTION:Entries Close: Tuesday\, June 8\, 2021 11:59:59 PM Eastern Time(ET) on Hunt Secretary
URL:https://essft.com/event/tilden-valley-english-springer-spaniel-club-water-test-for-english-springer-spaniels/
CATEGORIES:Water Test
END:VEVENT
BEGIN:VEVENT
DTSTART;TZID=America/Chicago:20210619T000000
DTEND;TZID=America/Chicago:20210620T000000
DTSTAMP:20260422T175429
CREATED:20250613T034148Z
LAST-MODIFIED:20250613T034148Z
UID:10010459-1624060800-1624147200@essft.com
SUMMARY:Maine Spaniel Field Trial Club  Hunt Tests
DESCRIPTION:Entries Close: Tuesday\, June 8\, 2021 11:59:59 PM Eastern Time(ET) on Hunt Secretary
URL:https://essft.com/event/maine-spaniel-field-trial-club-hunt-tests-3/
CATEGORIES:Hunt Tests
END:VEVENT
BEGIN:VEVENT
DTSTART;TZID=America/Chicago:20210612T000000
DTEND;TZID=America/Chicago:20210613T000000
DTSTAMP:20260422T175429
CREATED:20250613T034148Z
LAST-MODIFIED:20250613T034148Z
UID:10010458-1623456000-1623542400@essft.com
SUMMARY:COCKER: Central Maine Spaniel Club
DESCRIPTION:Entries Close: Tuesday\, June 1\, 2021 11:59:59 PM Eastern Time(ET) on Hunt Secretary \nJudges: Mark Haglin and Alex Cacchio   Apprentice Judge: Pat Berry
URL:https://essft.com/event/cocker-central-maine-spaniel-club-2/
CATEGORIES:Cocker Trial
END:VEVENT
BEGIN:VEVENT
DTSTART;TZID=America/Chicago:20210612T000000
DTEND;TZID=America/Chicago:20210613T000000
DTSTAMP:20260422T175429
CREATED:20250613T034148Z
LAST-MODIFIED:20250613T034148Z
UID:10010457-1623456000-1623542400@essft.com
SUMMARY:Cocker: North Dakota Sporting Spaniel Club
DESCRIPTION:Entries Close: Tuesday\, June 1\, 2021 11:59:59 PM Eastern Time(ET) on Hunt Secretary \nJudges:  Bob Iverson and Curt Poquette\n\n		\n			\n			\n		\n\n		\n  \n 
URL:https://essft.com/event/cocker-north-dakota-sporting-spaniel-club-6/
CATEGORIES:Cocker Trial
END:VEVENT
BEGIN:VEVENT
DTSTART;TZID=America/Chicago:20210611T000000
DTEND;TZID=America/Chicago:20210613T000000
DTSTAMP:20260422T175429
CREATED:20250613T034148Z
LAST-MODIFIED:20250613T034148Z
UID:10010456-1623369600-1623542400@essft.com
SUMMARY:Central Maine Spaniel Club
DESCRIPTION:Entries Close: Tuesday\, June 1\, 2021 11:59:59 PM Eastern Time(ET) on Hunt Secretary \nJudges: Mark Haglin and Gary Riddle     Apprentice Judge: Pat Berry
URL:https://essft.com/event/central-maine-spaniel-club-5/
CATEGORIES:Field Trials - East
END:VEVENT
BEGIN:VEVENT
DTSTART;TZID=America/Chicago:20210605T000000
DTEND;TZID=America/Chicago:20210606T000000
DTSTAMP:20260422T175429
CREATED:20250613T034134Z
LAST-MODIFIED:20250613T034134Z
UID:10010454-1622851200-1622937600@essft.com
SUMMARY:Sudbury & District Kennel Club Inc. - Spaniels
DESCRIPTION:https://www.dogshow.ca/en/Events/2794/Sudbury-and-District-Kennel-Club-Inc.—Spaniels
URL:https://essft.com/event/sudbury-district-kennel-club-inc-spaniels-3/
CATEGORIES:Canadian FT
END:VEVENT
BEGIN:VEVENT
DTSTART;TZID=America/Chicago:20210605T000000
DTEND;TZID=America/Chicago:20210606T000000
DTSTAMP:20260422T175429
CREATED:20250613T034133Z
LAST-MODIFIED:20250613T034133Z
UID:10010452-1622851200-1622937600@essft.com
SUMMARY:North Dakota Sporting Spaniel Club Spring 2021 Spaniel Hunting Test
DESCRIPTION:Entries Close: Tuesday\, May 25\, 2021 11:59:59 PM Eastern Time(ET) on Hunt Secretary
URL:https://essft.com/event/north-dakota-sporting-spaniel-club-spring-2021-spaniel-hunting-test/
CATEGORIES:Hunt Tests
END:VEVENT
BEGIN:VEVENT
DTSTART;TZID=America/Chicago:20210605T000000
DTEND;TZID=America/Chicago:20210606T000000
DTSTAMP:20260422T175429
CREATED:20250613T034133Z
LAST-MODIFIED:20250613T034133Z
UID:10010453-1622851200-1622937600@essft.com
SUMMARY:Cocker Spaniel Field Trial Club of America Spring 2021 Hunt Test
DESCRIPTION:Entries Close: Tuesday\, May 25\, 2021 11:59:59 PM Eastern Time(ET) on Hunt Secretary \n 
URL:https://essft.com/event/cocker-spaniel-field-trial-club-of-america-spring-2021-hunt-test/
CATEGORIES:Hunt Tests
ORGANIZER;CN="Barbara A Bobrowich":MAILTO:sobakakennels1@gmail.com
END:VEVENT
BEGIN:VEVENT
DTSTART;TZID=America/Chicago:20210605T000000
DTEND;TZID=America/Chicago:20210605T000000
DTSTAMP:20260422T175429
CREATED:20250613T034148Z
LAST-MODIFIED:20250613T034148Z
UID:10010455-1622851200-1622851200@essft.com
SUMMARY:Minnesota Hunting Spaniel Assoc.  - Working Dog Test
DESCRIPTION:Date: June 5th\nTime: 12pm\nLocation: Good Go Ing kennels\nJudges: Jim Ramacier and/or Bethann Wiley\nGame: Chuckars\n\n\nThe cost is $30\nPaper entry that day.\n\n\nApproved for:\nEnglish Springer Springers\nCocker Spaniels\nEnglish Cocker Spaniels\nField Spaniels\nClumber Spaniels\nWelsh Springer Spaniels\nBoykin Spaniel\nAiredale Terriers (flushing dog)\nSussex Spaniels
URL:https://essft.com/event/minnesota-hunting-spaniel-assoc-working-dog-test/
LOCATION:Good Go Ing Kennels\, Baldwin\, WI\, 54002\, United States
CATEGORIES:Hunt Tests
END:VEVENT
BEGIN:VEVENT
DTSTART;TZID=America/Chicago:20210604T000000
DTEND;TZID=America/Chicago:20210606T000000
DTSTAMP:20260422T175429
CREATED:20250613T034133Z
LAST-MODIFIED:20250613T034133Z
UID:10010451-1622764800-1622937600@essft.com
SUMMARY:Spaniel Training Clinic with Ray Cacchio
DESCRIPTION:for info – go to www.windriftspaniels.com
URL:https://essft.com/event/spaniel-training-clinic-with-ray-cacchio/
LOCATION:Windrift Farm\, Cochranton\, PA
CATEGORIES:Training Seminar
END:VEVENT
BEGIN:VEVENT
DTSTART;TZID=America/Chicago:20210531T000000
DTEND;TZID=America/Chicago:20210531T000000
DTSTAMP:20260422T175429
CREATED:20250613T034133Z
LAST-MODIFIED:20250613T034133Z
UID:10010450-1622419200-1622419200@essft.com
SUMMARY:Memorial Day
DESCRIPTION:
URL:https://essft.com/event/memorial-day-3/
CATEGORIES:Holidays
END:VEVENT
BEGIN:VEVENT
DTSTART;TZID=America/Chicago:20210528T000000
DTEND;TZID=America/Chicago:20210530T000000
DTSTAMP:20260422T175429
CREATED:20250613T034119Z
LAST-MODIFIED:20250613T034119Z
UID:10010449-1622160000-1622332800@essft.com
SUMMARY:Club de Chiens de Chasse de Quebec
DESCRIPTION:https://www.dogshow.ca/en/Events/2805/Club-de-Chiens-de-Chasse-de-Quebec
URL:https://essft.com/event/club-de-chiens-de-chasse-de-quebec-3/
CATEGORIES:Canadian FT
END:VEVENT
BEGIN:VEVENT
DTSTART;TZID=America/Chicago:20210522T000000
DTEND;TZID=America/Chicago:20210524T000000
DTSTAMP:20260422T175429
CREATED:20250613T034118Z
LAST-MODIFIED:20250613T034118Z
UID:10010447-1621641600-1621814400@essft.com
SUMMARY:South Western Ontario Spaniel Club
DESCRIPTION:MAY 3\, 2021: Due to the number of Covid cases in Ontario and the current provincial stay at home orders in place until at least May 20th our CKC licensed field trial scheduled for May 22\, 23 and 24 has been postponed to a later date.  A future date has not been set due to the unpredictability of the Covid virus. \nENTRIES — Closing Date & Draw: 8:00 pm.\, Friday May 14th\, 2021\nTo whom entries must be sent\nJeffrey Cubitt\,\n2320 Fischer Hallman Road\, New Dundee\, Ontario N0B 2E0\n(519)-573-6215. jeffreycubitt@gmail.com
URL:https://essft.com/event/south-western-ontario-spaniel-club-8/
CATEGORIES:Canadian FT
END:VEVENT
BEGIN:VEVENT
DTSTART;TZID=America/Chicago:20210522T000000
DTEND;TZID=America/Chicago:20210523T000000
DTSTAMP:20260422T175429
CREATED:20250613T034118Z
LAST-MODIFIED:20250613T034118Z
UID:10010445-1621641600-1621728000@essft.com
SUMMARY:COCKER: Maine Spaniel Field Trial Club
DESCRIPTION:Entries Close: Tuesday\, May 11\, 2021 11:59:59 PM Eastern Time(ET) on Hunt Secretary \nJudges: Dan Lussen and Casey Butz\n\n		\n			\n			\n		\n\n		\n 
URL:https://essft.com/event/cocker-maine-spaniel-field-trial-club-4/
CATEGORIES:Cocker Trial
END:VEVENT
BEGIN:VEVENT
DTSTART;TZID=America/Chicago:20210522T000000
DTEND;TZID=America/Chicago:20210523T000000
DTSTAMP:20260422T175429
CREATED:20250613T034118Z
LAST-MODIFIED:20250613T034118Z
UID:10010446-1621641600-1621728000@essft.com
SUMMARY:Central Connecticut Spaniel Club
DESCRIPTION:Entries Close: Tuesday\, May 11\, 2021 11:59:59 PM Eastern Time(ET) on Hunt Secretary \nJudges: Jim Cappelli and Katie Gorecki
URL:https://essft.com/event/central-connecticut-spaniel-club-7/
CATEGORIES:Field Trials - East
ORGANIZER;CN="Deborah Olszewski":MAILTO:dmoski@aol.com
END:VEVENT
BEGIN:VEVENT
DTSTART;TZID=America/Chicago:20210522T000000
DTEND;TZID=America/Chicago:20210523T000000
DTSTAMP:20260422T175429
CREATED:20250613T034118Z
LAST-MODIFIED:20250613T034118Z
UID:10010448-1621641600-1621728000@essft.com
SUMMARY:Pittsburgh ESSFTC Spring Hunt Test
DESCRIPTION:Entries Close: Tuesday\, May 11\, 2021 11:59:59 PM Eastern Time(ET) on Hunt Secretary
URL:https://essft.com/event/pittsburgh-essftc-spring-hunt-test/
LOCATION:Windrift Farm\, Cochranton\, PA
CATEGORIES:Hunt Tests
ORGANIZER;CN="Justin Smith":MAILTO:pittsburghhuntingspaniels@yahoo.com
END:VEVENT
BEGIN:VEVENT
DTSTART;TZID=America/Chicago:20210521T000000
DTEND;TZID=America/Chicago:20210521T000000
DTSTAMP:20260422T175429
CREATED:20250613T034103Z
LAST-MODIFIED:20250613T034103Z
UID:10010444-1621555200-1621555200@essft.com
SUMMARY:Spaniel Hunt Test Hosted by Greater Milwaukee Poodle Club
DESCRIPTION:Entries Close: Monday\, May 10\, 2021 11:59:59 PM Eastern Time(ET) on Hunt Secretary
URL:https://essft.com/event/spaniel-hunt-test-hosted-by-greater-milwaukee-poodle-club/
CATEGORIES:Hunt Tests
END:VEVENT
BEGIN:VEVENT
DTSTART;TZID=America/Chicago:20210515T000000
DTEND;TZID=America/Chicago:20210516T000000
DTSTAMP:20260422T175429
CREATED:20250613T034103Z
LAST-MODIFIED:20250613T034103Z
UID:10010442-1621036800-1621123200@essft.com
SUMMARY:Southern Tier Field Trial Assoc.
DESCRIPTION:Entries Close: Wednesday\, May 5\, 2021 11:59:59 PM Eastern Time(ET) on Hunt Secretary \nJudges:  Harold Hiles and Trent Bosse
URL:https://essft.com/event/southern-tier-field-trial-assoc-3/
LOCATION:Richard Stewart Farm\, Canisteo\, NY 14823\, USA\, Canisteo\, New York\, 14823\, United States
CATEGORIES:Field Trials - East
GEO:42.291091;-77.498077
X-APPLE-STRUCTURED-LOCATION;VALUE=URI;X-ADDRESS=Richard Stewart Farm Canisteo NY 14823 USA Canisteo New York 14823 United States;X-APPLE-RADIUS=500;X-TITLE=Canisteo\, NY 14823\, USA:geo:-77.498077,42.291091
END:VEVENT
BEGIN:VEVENT
DTSTART;TZID=America/Chicago:20210515T000000
DTEND;TZID=America/Chicago:20210516T000000
DTSTAMP:20260422T175429
CREATED:20250613T034103Z
LAST-MODIFIED:20250613T034103Z
UID:10010443-1621036800-1621123200@essft.com
SUMMARY:COCKER: Cocker Spaniel Hunting Enthusiasts of SE Wisconsin
DESCRIPTION:Entries Close: Tuesday\, May 4\, 2021 11:59:59 PM Eastern Time(ET) on Hunt Secretary \nJudges: Lynn Miller and Kathy Nestor
URL:https://essft.com/event/cocker-cocker-spaniel-hunting-enthusiasts-of-se-wisconsin/
LOCATION:Windrift Farm\, Cochranton\, PA
CATEGORIES:Cocker Trial
END:VEVENT
BEGIN:VEVENT
DTSTART;TZID=America/Chicago:20210509T000000
DTEND;TZID=America/Chicago:20210509T000000
DTSTAMP:20260422T175429
CREATED:20250613T034103Z
LAST-MODIFIED:20250613T034103Z
UID:10010441-1620518400-1620518400@essft.com
SUMMARY:Mother's Day
DESCRIPTION:
URL:https://essft.com/event/mothers-day-3/
CATEGORIES:Holidays
END:VEVENT
BEGIN:VEVENT
DTSTART;TZID=America/Chicago:20210508T000000
DTEND;TZID=America/Chicago:20210509T000000
DTSTAMP:20260422T175429
CREATED:20250613T034103Z
LAST-MODIFIED:20250613T034103Z
UID:10010440-1620432000-1620518400@essft.com
SUMMARY:Scotia Springer Club
DESCRIPTION:
URL:https://essft.com/event/scotia-springer-club-4/
CATEGORIES:Canadian FT
END:VEVENT
END:VCALENDAR