BEGIN:VCALENDAR
VERSION:2.0
PRODID:-//English Springer Spaniel Field Trials - ECPv6.15.20//NONSGML v1.0//EN
CALSCALE:GREGORIAN
METHOD:PUBLISH
X-WR-CALNAME:English Springer Spaniel Field Trials
X-ORIGINAL-URL:https://essft.com
X-WR-CALDESC:Events for English Springer Spaniel Field Trials
REFRESH-INTERVAL;VALUE=DURATION:PT1H
X-Robots-Tag:noindex
X-PUBLISHED-TTL:PT1H
BEGIN:VTIMEZONE
TZID:America/Chicago
BEGIN:DAYLIGHT
TZOFFSETFROM:-0600
TZOFFSETTO:-0500
TZNAME:CDT
DTSTART:20200308T080000
END:DAYLIGHT
BEGIN:STANDARD
TZOFFSETFROM:-0500
TZOFFSETTO:-0600
TZNAME:CST
DTSTART:20201101T070000
END:STANDARD
BEGIN:DAYLIGHT
TZOFFSETFROM:-0600
TZOFFSETTO:-0500
TZNAME:CDT
DTSTART:20210314T080000
END:DAYLIGHT
BEGIN:STANDARD
TZOFFSETFROM:-0500
TZOFFSETTO:-0600
TZNAME:CST
DTSTART:20211107T070000
END:STANDARD
BEGIN:DAYLIGHT
TZOFFSETFROM:-0600
TZOFFSETTO:-0500
TZNAME:CDT
DTSTART:20220313T080000
END:DAYLIGHT
BEGIN:STANDARD
TZOFFSETFROM:-0500
TZOFFSETTO:-0600
TZNAME:CST
DTSTART:20221106T070000
END:STANDARD
END:VTIMEZONE
BEGIN:VEVENT
DTSTART;TZID=America/Chicago:20211015T000000
DTEND;TZID=America/Chicago:20211015T000000
DTSTAMP:20260422T203909
CREATED:20250613T042051Z
LAST-MODIFIED:20250613T042051Z
UID:10010548-1634256000-1634256000@essft.com
SUMMARY:COCKER: Missouri Hunting Spaniel Club
DESCRIPTION:Entries Close: Monday\, October 4\, 2021 11:59:59 PM Eastern Time(ET) on Hunt Secretary \nJudges: Mari Hairfield and John Bishop
URL:https://essft.com/event/cocker-missouri-hunting-spaniel-club/
CATEGORIES:Cocker Trial
END:VEVENT
BEGIN:VEVENT
DTSTART;TZID=America/Chicago:20211011T000000
DTEND;TZID=America/Chicago:20211011T000000
DTSTAMP:20260422T203909
CREATED:20250613T042051Z
LAST-MODIFIED:20250613T042051Z
UID:10010545-1633910400-1633910400@essft.com
SUMMARY:Columbus Day
DESCRIPTION:
URL:https://essft.com/event/columbus-day/
CATEGORIES:Holidays
END:VEVENT
BEGIN:VEVENT
DTSTART;TZID=America/Chicago:20211009T000000
DTEND;TZID=America/Chicago:20211010T000000
DTSTAMP:20260422T203909
CREATED:20250613T035449Z
LAST-MODIFIED:20250613T035449Z
UID:10010540-1633737600-1633824000@essft.com
SUMMARY:English Springer Spaniel Club of Long Island
DESCRIPTION:Entries Close: Tuesday\, September 28\, 2021 11:59:59 PM Eastern Time(ET) on Hunt Secretary \nJudges: Kathy Nestor and Aaron Wendel
URL:https://essft.com/event/english-springer-spaniel-club-of-long-island-5/
CATEGORIES:Field Trials - East
ORGANIZER;CN="Kevin Dolan":MAILTO:kdcups@gmail.com
END:VEVENT
BEGIN:VEVENT
DTSTART;TZID=America/Chicago:20211009T000000
DTEND;TZID=America/Chicago:20211010T000000
DTSTAMP:20260422T203909
CREATED:20250613T035449Z
LAST-MODIFIED:20250613T035449Z
UID:10010541-1633737600-1633824000@essft.com
SUMMARY:Northern Colorado Springer Spaniel Club
DESCRIPTION:Entries Close: Tuesday\, September 28\, 2021 11:59:59 PM Eastern Time(ET) on Hunt Secretary \nJudges:  Brian Bilotta and Kevin Rutherford\n\n		\n			\n			\n		\n\n		\n 
URL:https://essft.com/event/northern-colorado-springer-spaniel-club-5-6/
CATEGORIES:Field Trials - Rocky Mountain
END:VEVENT
BEGIN:VEVENT
DTSTART;TZID=America/Chicago:20211009T000000
DTEND;TZID=America/Chicago:20211010T000000
DTSTAMP:20260422T203909
CREATED:20250613T035449Z
LAST-MODIFIED:20250613T035449Z
UID:10010542-1633737600-1633824000@essft.com
SUMMARY:Arrowhead ESS Club
DESCRIPTION:Entries:\nClosing Date: 29 September 2021\nChip Bunker\, Field Trial Secretary\n5111 Solias Road\, Fallon NV 89406\nchip@hjsys.com \nJudges: George Akkouris & Ryan Lamberg
URL:https://essft.com/event/arrowhead-ess-club-7/
LOCATION:Lahontan Valley Bird Dog Club\, Fallon\, NV 89406\, USA\, Fallon\, Nevada\, 89406\, United States
CATEGORIES:Field Trials - West
GEO:39.474869;-118.777041
X-APPLE-STRUCTURED-LOCATION;VALUE=URI;X-ADDRESS=Lahontan Valley Bird Dog Club Fallon NV 89406 USA Fallon Nevada 89406 United States;X-APPLE-RADIUS=500;X-TITLE=Fallon\, NV 89406\, USA:geo:-118.777041,39.474869
END:VEVENT
BEGIN:VEVENT
DTSTART;TZID=America/Chicago:20211009T000000
DTEND;TZID=America/Chicago:20211010T000000
DTSTAMP:20260422T203909
CREATED:20250613T035449Z
LAST-MODIFIED:20250628T023852Z
UID:10010543-1633737600-1633824000@essft.com
SUMMARY:Canadian National Amateur Field Trial - Nova Scotia\, Canada
DESCRIPTION:Hosted by Scotia Spaniel Club & Prince Edward Interprovincial Springer Club \nGary Wilson – 6600 County Route 69\, Canisteo\, New York\, 14823\nBill McCaffrey – 383 Dominion Dr.\, Hanmer Ont . P3P 0A9
URL:https://essft.com/event/canadian-national-amateur-field-trial-nova-scotia-canada/
CATEGORIES:NATIONAL FIELD TRIALS
END:VEVENT
BEGIN:VEVENT
DTSTART;TZID=America/Chicago:20211009T000000
DTEND;TZID=America/Chicago:20211010T000000
DTSTAMP:20260422T203909
CREATED:20250613T035449Z
LAST-MODIFIED:20250613T035449Z
UID:10010544-1633737600-1633824000@essft.com
SUMMARY:English Cocker Spaniel Club of America Hunt Test October 2021 Chester Springs\, PA
DESCRIPTION:Entries Close: Tuesday\, September 28\, 2021 11:59:59 PM Eastern Time(ET) on Hunt Secretary \nJudges:  Kate Ostrowski and Tim Welling
URL:https://essft.com/event/english-cocker-spaniel-club-of-america-hunt-test-october-2021-chester-springs-pa/
CATEGORIES:Hunt Tests
END:VEVENT
BEGIN:VEVENT
DTSTART;TZID=America/Chicago:20211009T000000
DTEND;TZID=America/Chicago:20211010T000000
DTSTAMP:20260422T203909
CREATED:20250613T035249Z
LAST-MODIFIED:20250613T035249Z
UID:10010538-1633737600-1633824000@essft.com
SUMMARY:COCKER: Minnesota Hunting Spaniel Assoc.
DESCRIPTION:Entries Close: Tuesday\, September 28\, 2021 11:59:59 PM Eastern Time(ET) on Hunt Secretary \nJudges: Katie Gorecki and Ray Takmajian
URL:https://essft.com/event/cocker-minnesota-hunting-spaniel-assoc-2/
LOCATION:Long Pond Elk Farm\, 10940 293rd Ave NW\, Princeton\, MN 55371\, USA\, Princeton\, Minnesota\, 55371\, United States
CATEGORIES:Cocker Trial
GEO:45.510557;-93.554875
X-APPLE-STRUCTURED-LOCATION;VALUE=URI;X-ADDRESS=Long Pond Elk Farm 10940 293rd Ave NW Princeton MN 55371 USA Princeton Minnesota 55371 United States;X-APPLE-RADIUS=500;X-TITLE=10940 293rd Ave NW\, Princeton\, MN 55371\, USA:geo:-93.554875,45.510557
END:VEVENT
BEGIN:VEVENT
DTSTART;TZID=America/Chicago:20211009T000000
DTEND;TZID=America/Chicago:20211010T000000
DTSTAMP:20260422T203909
CREATED:20250613T035249Z
LAST-MODIFIED:20250613T035249Z
UID:10010539-1633737600-1633824000@essft.com
SUMMARY:COCKER: Arrowhead ESS Club
DESCRIPTION:Entries:  Closing Date: 29 September 2021\nChip Bunker\, Field Trial Secretary\n5111 Solias Road\, Fallon NV 89406\nchip@hjsys.com \nJudges: George Akkouris & Ryan Lamberg\n 
URL:https://essft.com/event/cocker-arrowhead-ess-club-2/
LOCATION:Lahontan Valley Bird Dog Club\, Fallon\, NV 89406\, USA\, Fallon\, Nevada\, 89406\, United States
CATEGORIES:Cocker Trial
GEO:39.474869;-118.777041
X-APPLE-STRUCTURED-LOCATION;VALUE=URI;X-ADDRESS=Lahontan Valley Bird Dog Club Fallon NV 89406 USA Fallon Nevada 89406 United States;X-APPLE-RADIUS=500;X-TITLE=Fallon\, NV 89406\, USA:geo:-118.777041,39.474869
END:VEVENT
BEGIN:VEVENT
DTSTART;TZID=America/Chicago:20211009T000000
DTEND;TZID=America/Chicago:20211010T000000
DTSTAMP:20260422T203909
CREATED:20250613T035248Z
LAST-MODIFIED:20250613T035248Z
UID:10010536-1633737600-1633824000@essft.com
SUMMARY:Great Lakes ESS Field Training Association
DESCRIPTION:Entries Close: TBD \nJudges: TBD \nMore information to follow.
URL:https://essft.com/event/great-lakes-ess-field-training-association-2/
CATEGORIES:Field Trials - Mid East
END:VEVENT
BEGIN:VEVENT
DTSTART;TZID=America/Chicago:20211009T000000
DTEND;TZID=America/Chicago:20211010T000000
DTSTAMP:20260422T203909
CREATED:20250613T035248Z
LAST-MODIFIED:20250613T035248Z
UID:10010537-1633737600-1633824000@essft.com
SUMMARY:COCKER: Spaniel Assoc of Western NY
DESCRIPTION:Entries: TBD on Hunt Secretary \nJudges: TBD
URL:https://essft.com/event/cocker-spaniel-assoc-of-western-ny/
CATEGORIES:Cocker Trial
END:VEVENT
BEGIN:VEVENT
DTSTART;TZID=America/Chicago:20211008T000000
DTEND;TZID=America/Chicago:20211010T000000
DTSTAMP:20260422T203909
CREATED:20250613T035248Z
LAST-MODIFIED:20250613T035248Z
UID:10010535-1633651200-1633824000@essft.com
SUMMARY:Cocker: Spaniel Association of Western New York
DESCRIPTION:Entries Close: Tuesday\, September 28\, 2021 11:59:59 PM Eastern Time(ET) on Hunt Secretary \nFriday Judges:  Jack Markowski and Charles Urland \nSaturday/Sunday Judges:  Jack Markowski and Justin Smith
URL:https://essft.com/event/cocker-spaniel-association-of-western-new-york/
LOCATION:One Forty Five North\, LLC\, 8045 Tonawanda Creek Rd\, Lockport\, NY 14094\, USA\, Lockport\, New York\, 14094\, United States
CATEGORIES:Cocker Trial
GEO:43.08423;-78.589279
X-APPLE-STRUCTURED-LOCATION;VALUE=URI;X-ADDRESS=One Forty Five North LLC 8045 Tonawanda Creek Rd Lockport NY 14094 USA Lockport New York 14094 United States;X-APPLE-RADIUS=500;X-TITLE=8045 Tonawanda Creek Rd\, Lockport\, NY 14094\, USA:geo:-78.589279,43.08423
END:VEVENT
BEGIN:VEVENT
DTSTART;TZID=America/Chicago:20211008T000000
DTEND;TZID=America/Chicago:20211010T000000
DTSTAMP:20260422T203909
CREATED:20250613T035049Z
LAST-MODIFIED:20250613T035049Z
UID:10010534-1633651200-1633824000@essft.com
SUMMARY:St. Croix Valley Spaniel Club
DESCRIPTION:Entries Close: Monday\, September 27\, 2021 11:59:59 PM Eastern Time(ET) on Hunt Secretary  FT 1 \nEntries Close: Monday\, September 27\, 2021 11:59:59 PM Eastern Time(ET) on Hunt Secretary FT 2 \n  \nJudges:\nFriday October 8\, open\, water & puppy\, open & water judges Terry Sworsky & Pete Zuleger. Puppy Rick Radtke & Dave Huth\, Clitheral\, MN\n\nSaturday & Sunday\, October 9 & 10\, open\, amateur & puppy. Open & Amateur judges John Hall & Robert Clayton\, Clitheral\, MN. Puppy judges Bill Gillet & Kevin Martineau.\nDue to unforeseen circumstances\, John Hall will not be able to judge the weekend trial. Pete Zulegar will be his replacement. Please contact Deb Livingston gregdebliving@aol.com with any questions or issues with this change.\n\n\nGreetings Field Trialers!\n\nThe St. Croix Valley Spaniel Club would like to welcome you to our annual Fall Field Trial on Friday Oct 8th – Sunday Oct 10th.  This event will be held at the William’s property\, 4291 210th St Clitherall\, MN\, approximately 35 minutes NE of Alexandria\, MN.  This is a large property made up of brome grass that is almost knee high with no major obstacles or obstructions.  We will hold an Open\, Puppy and Water Test on Friday Oct 8th  & an Open\, Amateur with alternating stakes Saturday and Sunday along with a second Puppy stake.\n\nALL AGE JUDGES FRIDAY: Terry Sworsky. St. Francis\, MN & Pete Zuleger\, Appleton\, WI\n\nPUPPY JUDGES FRIDAY: Dave Huth\, Maple Grove\, MN & Rick Radtke\, Big Lake\, MN\n\nALL AGE JUDGES SATURDAY/SUNDAY: John Hall\, Chicago\, IL & Robert Clayton\, Deer Park\, TX\n\nPUPPY JUDGES SUNDAY: Kevin Martineau\, Longville\, MN & Bill Gillett\, Inver Grove Heights\, MN\n\nSTART TIMES: Friday Open: 8am\, Puppy to follow 2nd series of Open\, Water test to be held at a different location immediately after the conclusion of the Open & the Puppy.\nSaturday Open: 8am\, Amateur after first series of the Open\nSunday: Puppy not before 10am\n\nFIELD TRIAL CHAIR BOTH TRIALS: Kory Fredrickson\n\nThe club will be hosting a dinner following the water test. The water test is going to be held at the Linden Park Resort. RSVP IS REQUIRED FOR DINNER. Please contact Kory (whiskeywindsspaniels@yahoo.com) or Stuart Lavalier (lavalierfamily@yahoo.com) by closing date to RSVP.  In addition to the dinner\, the club will also be providing an assortment of subs for lunch on Friday & Saturday\, no special orders. AGAIN\,  RSVP IS REQUIRED. Please let Kory know by 10:30 each day if you would like a sub.\n\nDriving directions to the trial grounds & the resort for the water test are listed on the premium as well as the hotels in the area. Parking will be along the shoulder/ditch on 210t St. ABSOLUTELY NO PARKING ON GRAVEL ROAD LEADING TO PRIVATE RESIDENCES.\n\nHOTEL: Super 8 of Alexandria There are 15 rooms set aside until 9/20 at a reduced rate of $79 per night for the nights of October 7th thru the 9th. Mention St. Croix Valley Club. You will need to check on their pet policy.\n4620 MN Hwy 29 So.\, Alexandria\, MN\, 56308\n320-421-8005.\n\nThere are several other accommodations listed in the premium.\n\nThanks for your participation.\n\nKory Fredrickson\, Trial Chair\nwhiskeywindsspaniels@yahoo.com\n763-370-5577\n\nStuart Lavalier\, Trial Secretary for Friday\nlavalierfamily@yahoo.com\n763-688-1636\n\nDeb Livingston\, Trial Secretary for weekend\ngregdebliving@aol.com\n763-422-8044
URL:https://essft.com/event/st-croix-valley-spaniel-club-10/
CATEGORIES:Field Trials - Mid West
END:VEVENT
BEGIN:VEVENT
DTSTART;TZID=America/Chicago:20211002T000000
DTEND;TZID=America/Chicago:20211003T000000
DTSTAMP:20260422T203909
CREATED:20250613T035048Z
LAST-MODIFIED:20250613T035048Z
UID:10010532-1633132800-1633219200@essft.com
SUMMARY:West Allis Training Kennel Club October 2021 Spaniel Hunt Test
DESCRIPTION:Entries Close: Tuesday\, September 21\, 2021 11:59:59 PM Eastern Time(ET) on Hunt Secretary
URL:https://essft.com/event/west-allis-training-kennel-club-october-2021-spaniel-hunt-test/
CATEGORIES:Hunt Tests
END:VEVENT
BEGIN:VEVENT
DTSTART;TZID=America/Chicago:20211002T000000
DTEND;TZID=America/Chicago:20211003T000000
DTSTAMP:20260422T203909
CREATED:20250613T035048Z
LAST-MODIFIED:20250613T035048Z
UID:10010533-1633132800-1633219200@essft.com
SUMMARY:Missouri Hunting Spaniel Club
DESCRIPTION:Entries Close: Tuesday\, September 21\, 2021 11:59:59 PM Eastern Time(ET) on Hunt Secretary \nJudges:  Michael Gregory and Alan Young    New Judge:  Wayne Tisue
URL:https://essft.com/event/missouri-hunting-spaniel-club-16/
CATEGORIES:Hunt Tests
END:VEVENT
BEGIN:VEVENT
DTSTART;TZID=America/Chicago:20211002T000000
DTEND;TZID=America/Chicago:20211003T000000
DTSTAMP:20260422T203909
CREATED:20250613T035048Z
LAST-MODIFIED:20250613T035048Z
UID:10010530-1633132800-1633219200@essft.com
SUMMARY:Bushy Hill Springer Spaniel Field Trial Association
DESCRIPTION:Entries Close: Tuesday\, September 21\, 2021 11:59:59 PM Eastern Time(ET) on Hunt Secretary \nJudges: Randy Manore and Terry Sworsky
URL:https://essft.com/event/bushy-hill-springer-spaniel-field-trial-association-4/
LOCATION:Triple Ridge Farm\, Southport\, NY\, USA\, Southport\, New York\, United States
CATEGORIES:Field Trials - East
ORGANIZER;CN="Suzanne Smith":MAILTO:ssmith@interimhealthcr.com
GEO:42.054796;-76.819123
X-APPLE-STRUCTURED-LOCATION;VALUE=URI;X-ADDRESS=Triple Ridge Farm Southport NY USA Southport New York United States;X-APPLE-RADIUS=500;X-TITLE=Southport\, NY\, USA:geo:-76.819123,42.054796
END:VEVENT
BEGIN:VEVENT
DTSTART;TZID=America/Chicago:20211002T000000
DTEND;TZID=America/Chicago:20211003T000000
DTSTAMP:20260422T203909
CREATED:20250613T035048Z
LAST-MODIFIED:20250613T035048Z
UID:10010531-1633132800-1633219200@essft.com
SUMMARY:Northwest ESS Club
DESCRIPTION:Entries Close: Tuesday\, September 21\, 2021 11:59:59 PM Eastern Time(ET) on Hunt Secretary \nJudges: Ray Jack and John Smith\n\n		\n			\n			\n		\n\n		\n 
URL:https://essft.com/event/northwest-ess-club-4/
LOCATION:Knaupp Farm\, Rickreall\, OR 97371\, USA\, Rickreall\, Oregon\, 97371\, United States
CATEGORIES:Field Trials - West
ORGANIZER;CN="Paula Mazurek":MAILTO:mtmyst@cablespeed.com
GEO:44.932282;-123.235104
X-APPLE-STRUCTURED-LOCATION;VALUE=URI;X-ADDRESS=Knaupp Farm Rickreall OR 97371 USA Rickreall Oregon 97371 United States;X-APPLE-RADIUS=500;X-TITLE=Rickreall\, OR 97371\, USA:geo:-123.235104,44.932282
END:VEVENT
BEGIN:VEVENT
DTSTART;TZID=America/Chicago:20211002T000000
DTEND;TZID=America/Chicago:20211003T000000
DTSTAMP:20260422T203909
CREATED:20250613T034849Z
LAST-MODIFIED:20250613T034849Z
UID:10010529-1633132800-1633219200@essft.com
SUMMARY:COCKER: Fox Valley ECS
DESCRIPTION:Entries Close: Monday\, September 20\, 2021 11:59:59 PM Eastern Time(ET) on Hunt Secretary  \nJudges: Curt Poquette and Brian Bilotta\n 
URL:https://essft.com/event/cocker-fox-valley-ecs/
LOCATION:Connolly Game Farm\, Reedsville\, WI 54230\, USA\, Reedsville\, Wisconsin\, 54230\, United States
CATEGORIES:Cocker Trial
GEO:44.153604;-87.956762
X-APPLE-STRUCTURED-LOCATION;VALUE=URI;X-ADDRESS=Connolly Game Farm Reedsville WI 54230 USA Reedsville Wisconsin 54230 United States;X-APPLE-RADIUS=500;X-TITLE=Reedsville\, WI 54230\, USA:geo:-87.956762,44.153604
END:VEVENT
BEGIN:VEVENT
DTSTART;TZID=America/Chicago:20211002T000000
DTEND;TZID=America/Chicago:20211003T000000
DTSTAMP:20260422T203909
CREATED:20250613T034848Z
LAST-MODIFIED:20250613T034848Z
UID:10010526-1633132800-1633219200@essft.com
SUMMARY:COCKER: Maine Spaniel Field Trial Club
DESCRIPTION:Entries Close: Tuesday\, September 21\, 2021 at 11:59 P.M. Eastern Time(ET) on Hunt Secretary \nJudges: Alex Cacchio and John Fillier
URL:https://essft.com/event/cocker-maine-spaniel-field-trial-club-5/
LOCATION:Green Point WMA\, Dresden\, ME 04342\, USA\, Dresden\, Maine\, 4342\, United States
CATEGORIES:Cocker Trial
GEO:44.107296;-69.724211
X-APPLE-STRUCTURED-LOCATION;VALUE=URI;X-ADDRESS=Green Point WMA Dresden ME 04342 USA Dresden Maine 4342 United States;X-APPLE-RADIUS=500;X-TITLE=Dresden\, ME 04342\, USA:geo:-69.724211,44.107296
END:VEVENT
BEGIN:VEVENT
DTSTART;TZID=America/Chicago:20211002T000000
DTEND;TZID=America/Chicago:20211003T000000
DTSTAMP:20260422T203909
CREATED:20250613T034848Z
LAST-MODIFIED:20250613T034848Z
UID:10010527-1633132800-1633219200@essft.com
SUMMARY:Minnesota Heartland English Springer Spaniel Club
DESCRIPTION:Entries Close: Tuesday\, September 21\, 2021 11:59:59 PM Eastern Time(ET) on Hunt Secretary \nJudges: John Meyer and Jerry Barrett\n  \nPuppy Judges:  Randy Bartsch and Joe Eischen
URL:https://essft.com/event/minnesota-heartland-english-springer-spaniel-club-2/
CATEGORIES:Field Trials - Mid West
END:VEVENT
BEGIN:VEVENT
DTSTART;TZID=America/Chicago:20211002T000000
DTEND;TZID=America/Chicago:20211003T000000
DTSTAMP:20260422T203909
CREATED:20250613T034848Z
LAST-MODIFIED:20250613T034848Z
UID:10010528-1633132800-1633219200@essft.com
SUMMARY:Southern Michigan Springer Spaniel Training Club
DESCRIPTION:Entries Close: Tuesday\, September 21\, 2021 11:59:59 PM Eastern Time(ET) on Hunt Secretary  \nJudges:  Jim Keller and Mike Nolan
URL:https://essft.com/event/southern-michigan-springer-spaniel-training-club-3/
CATEGORIES:Field Trials - Mid East
END:VEVENT
BEGIN:VEVENT
DTSTART;TZID=America/Chicago:20210930T000000
DTEND;TZID=America/Chicago:20211001T000000
DTSTAMP:20260422T203909
CREATED:20250613T034848Z
LAST-MODIFIED:20250613T034848Z
UID:10010525-1632960000-1633046400@essft.com
SUMMARY:Fox Valley English Cocker Spaniel Club
DESCRIPTION:Entries Close: Monday\, September 20\, 2021 11:59:59 PM Eastern Time(ET) on Hunt Secretary \nJudges: Don Maue and Mike McGinty\n\n		\n			\n			\n		\n\n		\n 
URL:https://essft.com/event/fox-valley-english-cocker-spaniel-club-3/
LOCATION:Connolly Game Farm\, Reedsville\, WI 54230\, USA\, Reedsville\, Wisconsin\, 54230\, United States
CATEGORIES:Field Trials - Mid West
GEO:44.153604;-87.956762
X-APPLE-STRUCTURED-LOCATION;VALUE=URI;X-ADDRESS=Connolly Game Farm Reedsville WI 54230 USA Reedsville Wisconsin 54230 United States;X-APPLE-RADIUS=500;X-TITLE=Reedsville\, WI 54230\, USA:geo:-87.956762,44.153604
END:VEVENT
BEGIN:VEVENT
DTSTART;TZID=America/Chicago:20210927T000000
DTEND;TZID=America/Chicago:20210928T000000
DTSTAMP:20260422T203909
CREATED:20250613T034649Z
LAST-MODIFIED:20250613T034649Z
UID:10010524-1632700800-1632787200@essft.com
SUMMARY:Southern Tier Field Trial Association Trial #2
DESCRIPTION:Entries Close: Wednesday\, September 15\, 2021 11:59:59 PM Eastern Time(ET) on Hunt Secretary \nJudges: Brian Bilotta and Mike Ludwig
URL:https://essft.com/event/southern-tier-field-trial-association-trial-2-3/
CATEGORIES:Field Trials - East
END:VEVENT
BEGIN:VEVENT
DTSTART;TZID=America/Chicago:20210926T000000
DTEND;TZID=America/Chicago:20210926T000000
DTSTAMP:20260422T203909
CREATED:20250613T034649Z
LAST-MODIFIED:20250613T034649Z
UID:10010523-1632614400-1632614400@essft.com
SUMMARY:Southern Tier FTA  Water Test
DESCRIPTION:Entries Close: Thursday\, September 23\, 2021 11:59:59 PM Eastern Time(ET) on Hunt Secretary \nJudges:  Jon Cook and Tim Edwards
URL:https://essft.com/event/southern-tier-fta-water-test/
LOCATION:Sunrise Kennels\, 6600 Co Rd 69\, Canisteo\, NY 14823\, USA\, Canisteo\, New York\, 14823\, United States
CATEGORIES:Water Test
GEO:42.321777;-77.460261
X-APPLE-STRUCTURED-LOCATION;VALUE=URI;X-ADDRESS=Sunrise Kennels 6600 Co Rd 69 Canisteo NY 14823 USA Canisteo New York 14823 United States;X-APPLE-RADIUS=500;X-TITLE=6600 Co Rd 69\, Canisteo\, NY 14823\, USA:geo:-77.460261,42.321777
END:VEVENT
BEGIN:VEVENT
DTSTART;TZID=America/Chicago:20210925T000000
DTEND;TZID=America/Chicago:20210926T000000
DTSTAMP:20260422T203909
CREATED:20250613T034648Z
LAST-MODIFIED:20250613T034648Z
UID:10010520-1632528000-1632614400@essft.com
SUMMARY:Southern Tier Field Trial Association Trial #1
DESCRIPTION:Entries Close: Wednesday\, September 15\, 2021 11:59:59 PM Eastern Time(ET) on Hunt Secretary \nJudges: Chuck Urland and JJ Valero
URL:https://essft.com/event/southern-tier-field-trial-association-trial-1-2/
CATEGORIES:Field Trials - East
END:VEVENT
BEGIN:VEVENT
DTSTART;TZID=America/Chicago:20210925T000000
DTEND;TZID=America/Chicago:20210926T000000
DTSTAMP:20260422T203910
CREATED:20250613T034648Z
LAST-MODIFIED:20250613T034648Z
UID:10010521-1632528000-1632614400@essft.com
SUMMARY:Rocky Mountain Springer Spaniel Club
DESCRIPTION:Entries Close: Tuesday\, September 14\, 2021 11:59:59 PM Eastern Time(ET) on Hunt Secretary \n\n		\n			\n			\n		\n\n		\n  \nJudges: Peter Renwick and Mike Nolan\n\n		\n			\n			\n		\n\n		\n 
URL:https://essft.com/event/rocky-mountain-springer-spaniel-club-2/
CATEGORIES:Field Trials - Rocky Mountain
END:VEVENT
BEGIN:VEVENT
DTSTART;TZID=America/Chicago:20210925T000000
DTEND;TZID=America/Chicago:20210926T000000
DTSTAMP:20260422T203910
CREATED:20250613T034648Z
LAST-MODIFIED:20250613T034648Z
UID:10010522-1632528000-1632614400@essft.com
SUMMARY:English Springer Spaniel FT Assoc Spaniel Hunt Test 2021
DESCRIPTION:Entries Close: Monday\, September 13\, 2021 11:59:59 PM Eastern Time(ET) on Hunt Secretary
URL:https://essft.com/event/english-springer-spaniel-ft-assoc-spaniel-hunt-test-2021/
CATEGORIES:Hunt Tests
END:VEVENT
BEGIN:VEVENT
DTSTART;TZID=America/Chicago:20210925T000000
DTEND;TZID=America/Chicago:20210926T000000
DTSTAMP:20260422T203910
CREATED:20250613T034448Z
LAST-MODIFIED:20250613T034448Z
UID:10010517-1632528000-1632614400@essft.com
SUMMARY:COCKER:  Patriot Sporting Spaniel Club
DESCRIPTION:Entries Close: Tuesday\, September 14\, 2021 11:59:59 PM Eastern Time(ET) on Hunt Secretary \nJudges:  Alexandra Bradley and Deborah Olszewski
URL:https://essft.com/event/cocker-patriot-sporting-spaniel-club-2/
CATEGORIES:Cocker Trial
END:VEVENT
BEGIN:VEVENT
DTSTART;TZID=America/Chicago:20210925T000000
DTEND;TZID=America/Chicago:20210926T000000
DTSTAMP:20260422T203910
CREATED:20250613T034448Z
LAST-MODIFIED:20250613T034448Z
UID:10010518-1632528000-1632614400@essft.com
SUMMARY:Northeast Wisconsin Spaniel Club
DESCRIPTION:Entries Close: Tuesday\, September 14\, 2021 11:59:59 PM Eastern Time(ET) on Hunt Secretary \nJudges: Randy Bartsch and John Wright
URL:https://essft.com/event/northeast-wisconsin-spaniel-club-4-2/
CATEGORIES:Field Trials - Mid West
END:VEVENT
BEGIN:VEVENT
DTSTART;TZID=America/Chicago:20210925T000000
DTEND;TZID=America/Chicago:20210926T000000
DTSTAMP:20260422T203910
CREATED:20250613T034448Z
LAST-MODIFIED:20250613T034448Z
UID:10010519-1632528000-1632614400@essft.com
SUMMARY:Pittsburgh ESS Field Trial Club
DESCRIPTION:Entries Close: Tuesday\, September 14\, 2021 11:59:59 PM Eastern Time(ET) on Hunt Secretary \nJudges: Terry Quinlan and Roland Snyder
URL:https://essft.com/event/pittsburgh-ess-field-trial-club-2/
CATEGORIES:Field Trials - Mid East
END:VEVENT
END:VCALENDAR