BEGIN:VCALENDAR
VERSION:2.0
PRODID:-//English Springer Spaniel Field Trials - ECPv6.15.20//NONSGML v1.0//EN
CALSCALE:GREGORIAN
METHOD:PUBLISH
X-WR-CALNAME:English Springer Spaniel Field Trials
X-ORIGINAL-URL:https://essft.com
X-WR-CALDESC:Events for English Springer Spaniel Field Trials
REFRESH-INTERVAL;VALUE=DURATION:PT1H
X-Robots-Tag:noindex
X-PUBLISHED-TTL:PT1H
BEGIN:VTIMEZONE
TZID:America/Chicago
BEGIN:DAYLIGHT
TZOFFSETFROM:-0600
TZOFFSETTO:-0500
TZNAME:CDT
DTSTART:20180311T080000
END:DAYLIGHT
BEGIN:STANDARD
TZOFFSETFROM:-0500
TZOFFSETTO:-0600
TZNAME:CST
DTSTART:20181104T070000
END:STANDARD
BEGIN:DAYLIGHT
TZOFFSETFROM:-0600
TZOFFSETTO:-0500
TZNAME:CDT
DTSTART:20190310T080000
END:DAYLIGHT
BEGIN:STANDARD
TZOFFSETFROM:-0500
TZOFFSETTO:-0600
TZNAME:CST
DTSTART:20191103T070000
END:STANDARD
BEGIN:DAYLIGHT
TZOFFSETFROM:-0600
TZOFFSETTO:-0500
TZNAME:CDT
DTSTART:20200308T080000
END:DAYLIGHT
BEGIN:STANDARD
TZOFFSETFROM:-0500
TZOFFSETTO:-0600
TZNAME:CST
DTSTART:20201101T070000
END:STANDARD
END:VTIMEZONE
BEGIN:VEVENT
DTSTART;TZID=America/Chicago:20191029T000000
DTEND;TZID=America/Chicago:20191102T000000
DTSTAMP:20260423T113042
CREATED:20250612T025017Z
LAST-MODIFIED:20250612T025017Z
UID:10010110-1572307200-1572652800@essft.com
SUMMARY:2019 Cocker National Open Championship
DESCRIPTION:Entries\, Banquet  and Bird orders will be handled through Hunt Secretary. \n  \nUPDATED TIMELINE:\nTraining Day – Monday \nTuesday starts the field trial \nCLICK HERE TO SEE 2019 NCC PROMO VIDEO \n  \n  \n  \nHotel: Lakeside Hotel & Casino \nhttps://www.lakesidehotelcasino.com/ \n 
URL:https://essft.com/event/2019-cocker-national-open-championship/
CATEGORIES:Cocker Trial
END:VEVENT
BEGIN:VEVENT
DTSTART;TZID=America/Chicago:20191026T000000
DTEND;TZID=America/Chicago:20191027T000000
DTSTAMP:20260423T113042
CREATED:20250612T025017Z
LAST-MODIFIED:20250612T025017Z
UID:10010107-1572048000-1572134400@essft.com
SUMMARY:Minnesota English Springer Spaniel Club
DESCRIPTION:Entries Close: Tuesday\, October 15\, 2019 11:59:59 PM Eastern Time(ET) on Hunt Secretary \nJudges:  Justin Smith and Chuck Nelson\n 
URL:https://essft.com/event/minnesota-english-springer-spaniel-club-5/
CATEGORIES:Field Trials - Mid West
END:VEVENT
BEGIN:VEVENT
DTSTART;TZID=America/Chicago:20191026T000000
DTEND;TZID=America/Chicago:20191027T000000
DTSTAMP:20260423T113042
CREATED:20250612T025017Z
LAST-MODIFIED:20250612T025017Z
UID:10010108-1572048000-1572134400@essft.com
SUMMARY:Inland Empire English Springer Spaniel Club
DESCRIPTION:Entries Close: Tuesday\, October 15\, 2019 11:59:59 PM Eastern Time(ET) on Hunt Secretary \nJudges: Ken Hanson and Rob Barlow
URL:https://essft.com/event/inland-empire-english-springer-spaniel-club-3/
CATEGORIES:Field Trials - West
END:VEVENT
BEGIN:VEVENT
DTSTART;TZID=America/Chicago:20191026T000000
DTEND;TZID=America/Chicago:20191027T000000
DTSTAMP:20260423T113042
CREATED:20250612T025017Z
LAST-MODIFIED:20250612T025017Z
UID:10010109-1572048000-1572134400@essft.com
SUMMARY:Ohio Valley ESS Club
DESCRIPTION:Per FTS:  Plan on a one day trial.\n\n		\n			\n			\n		\n\n		\n  \nEntries Close: October 19th 2019 @ 5:00 pm  \nEntries made in advance are to be sent to:\nMark A Gebert\nOVESS Secretary\n1104 W Liberty Ann Arbor\, MI 48103 \nJudges:  Skip Smith and Kathy Sleavin\n\n		\n			\n			\n		\n\n		\n  \n\n		\n			\n			\n		\n\n		\n 
URL:https://essft.com/event/ohio-valley-ess-club-4/
LOCATION:Elk Ridge Game Farm\, 5146 OH-96\, Bucyrus\, OH 44820\, USA\, Bucyrus\, Ohio\, 44820\, United States
CATEGORIES:Field Trials - Mid East
END:VEVENT
BEGIN:VEVENT
DTSTART;TZID=America/Chicago:20191026T000000
DTEND;TZID=America/Chicago:20191027T000000
DTSTAMP:20260423T113042
CREATED:20250612T025016Z
LAST-MODIFIED:20250612T025016Z
UID:10010106-1572048000-1572134400@essft.com
SUMMARY:ESS Club of Central States
DESCRIPTION:  \n\n		\n			\n			\n		\n\n		\n  \nEntries will close with the Field Trial Secretary on Tuesday\, October 16\, 2019 at 8:00 pm \nMake checks payable to Central States ESS Club and  send entries with payment to: \nLisa Schmeling\, Field Trial Secretary \n5348 N Dexter Ave Milwaukee\, WI 53209 \n  \nJudges: Gary Breitbarth & Don Brunn\n\n		\n			\n			\n		\n\n		\n  \n\n		\n			\n			\n		\n\n		\n  \nCLICK HERE FOR THE CENTRAL STATES FILLABLE ENTRY FORM IN MS WORD \n  \n\n		\n			\n			\n		\n\n		\n 
URL:https://essft.com/event/ess-club-of-central-states/
LOCATION:Fox Ridge Farm\, 4640 S Madison Rd\, Elizabeth\, IL 61028\, USA\, Elizabeth\, Illinois\, 61028\, United States
CATEGORIES:Field Trials - Mid West
GEO:42.306416;-90.217998
X-APPLE-STRUCTURED-LOCATION;VALUE=URI;X-ADDRESS=Fox Ridge Farm 4640 S Madison Rd Elizabeth IL 61028 USA Elizabeth Illinois 61028 United States;X-APPLE-RADIUS=500;X-TITLE=4640 S Madison Rd\, Elizabeth\, IL 61028\, USA:geo:-90.217998,42.306416
END:VEVENT
BEGIN:VEVENT
DTSTART;TZID=America/Chicago:20191026T000000
DTEND;TZID=America/Chicago:20191027T000000
DTSTAMP:20260423T113042
CREATED:20250612T024815Z
LAST-MODIFIED:20250612T024815Z
UID:10010103-1572048000-1572134400@essft.com
SUMMARY:AKC Week 43
DESCRIPTION:
URL:https://essft.com/event/akc-week-43-3/
END:VEVENT
BEGIN:VEVENT
DTSTART;TZID=America/Chicago:20191026T000000
DTEND;TZID=America/Chicago:20191027T000000
DTSTAMP:20260423T113042
CREATED:20250612T024815Z
LAST-MODIFIED:20250612T024815Z
UID:10010104-1572048000-1572134400@essft.com
SUMMARY:Scotia Springer Club
DESCRIPTION:https://www.dogshow.ca/en/2020?club=Scotia-Springer-Club
URL:https://essft.com/event/scotia-springer-club-2/
CATEGORIES:Canadian FT
END:VEVENT
BEGIN:VEVENT
DTSTART;TZID=America/Chicago:20191026T000000
DTEND;TZID=America/Chicago:20191027T000000
DTSTAMP:20260423T113042
CREATED:20250612T024815Z
LAST-MODIFIED:20250612T024815Z
UID:10010105-1572048000-1572134400@essft.com
SUMMARY:Springer Spaniel Club of Central Kansas
DESCRIPTION:Entries Close: Tuesday\, October 15\, 2019 11:59:59 PM Eastern Time(ET) on Hunt Secretary \nJudges:  Dana Poray and Gary Davis    Danelle Oliver is apprenticing\n 
URL:https://essft.com/event/springer-spaniel-club-of-central-kansas-5/
LOCATION:Bramwell Residence\, 12826 SW 77 Ave\, Zenda\, KS 67159\, USA\, Zenda\, Kansas\, 67159\, United States
CATEGORIES:Field Trials - Rocky Mountain
GEO:37.460004;-98.259078
X-APPLE-STRUCTURED-LOCATION;VALUE=URI;X-ADDRESS=Bramwell Residence 12826 SW 77 Ave Zenda KS 67159 USA Zenda Kansas 67159 United States;X-APPLE-RADIUS=500;X-TITLE=12826 SW 77 Ave\, Zenda\, KS 67159\, USA:geo:-98.259078,37.460004
END:VEVENT
BEGIN:VEVENT
DTSTART;TZID=America/Chicago:20191025T000000
DTEND;TZID=America/Chicago:20191027T000000
DTSTAMP:20260423T113042
CREATED:20250612T024814Z
LAST-MODIFIED:20250612T024814Z
UID:10010102-1571961600-1572134400@essft.com
SUMMARY:English Springer Spaniel Field Trial Association (Parent Club)
DESCRIPTION:Entries Close: Monday\, October 14\, 2019 11:59:59 PM Eastern Time(ET) on Hunt Secretary \nJudges:  Dean Reinke and Cathy Lewis
URL:https://essft.com/event/english-springer-spaniel-field-trial-association-parent-club/
LOCATION:Botti Farm\, Southport\, NY\, USA\, New York\, United States
CATEGORIES:Field Trials - East
ORGANIZER;CN="Deborah Olszewski":MAILTO:dmoski@aol.com
GEO:42.052371;-76.895155
X-APPLE-STRUCTURED-LOCATION;VALUE=URI;X-ADDRESS=Botti Farm Southport NY USA New York United States;X-APPLE-RADIUS=500;X-TITLE=Southport\, NY\, USA:geo:-76.895155,42.052371
END:VEVENT
BEGIN:VEVENT
DTSTART;TZID=America/Chicago:20191024T000000
DTEND;TZID=America/Chicago:20191025T000000
DTSTAMP:20260423T113042
CREATED:20250612T024814Z
LAST-MODIFIED:20250612T024814Z
UID:10010101-1571875200-1571961600@essft.com
SUMMARY:Central Wisconsin Sporting Spaniel Club
DESCRIPTION:Entries Close: Monday\, October 14\, 2019 11:59:59 PM Eastern Time(ET) on Hunt Secretary \nJudges: Mahri Peschel and Terry Sworsky\n 
URL:https://essft.com/event/central-wisconsin-sporting-spaniel-club-4/
LOCATION:Oasis Game Farm\, New Glarus\, WI 53574\, USA\, New Glarus\, Wisconsin\, 53574\, United States
CATEGORIES:Field Trials - Mid West
GEO:42.837895;-89.729012
X-APPLE-STRUCTURED-LOCATION;VALUE=URI;X-ADDRESS=Oasis Game Farm New Glarus WI 53574 USA New Glarus Wisconsin 53574 United States;X-APPLE-RADIUS=500;X-TITLE=New Glarus\, WI 53574\, USA:geo:-89.729012,42.837895
END:VEVENT
BEGIN:VEVENT
DTSTART;TZID=America/Chicago:20191021T000000
DTEND;TZID=America/Chicago:20191022T000000
DTSTAMP:20260423T113042
CREATED:20250612T024613Z
LAST-MODIFIED:20250612T024613Z
UID:10010100-1571616000-1571702400@essft.com
SUMMARY:Euclid Field Trial Assoc. ESS
DESCRIPTION:Entries Close: Tuesday\, October 8\, 2019 at 11:59 P.M. Eastern Time(ET) on Hunt Secretary \nJudges: Pat Gilligan and Mike Ludwig\n 
URL:https://essft.com/event/euclid-field-trial-assoc-ess/
CATEGORIES:Field Trials - Mid East
END:VEVENT
BEGIN:VEVENT
DTSTART;TZID=America/Chicago:20191019T000000
DTEND;TZID=America/Chicago:20191022T000000
DTSTAMP:20260423T113042
CREATED:20250612T024413Z
LAST-MODIFIED:20250612T024413Z
UID:10010095-1571443200-1571702400@essft.com
SUMMARY:Canadian Amateur National by Central Ontario Spaniel Club
DESCRIPTION:https://www.dogshow.ca/en/1923?club=Central-Ontario-Spaniel-Club-%5BAMATEUR-NATIONAL%5D
URL:https://essft.com/event/canadian-amateur-national-by-central-ontario-spaniel-club/
CATEGORIES:Canadian FT
END:VEVENT
BEGIN:VEVENT
DTSTART;TZID=America/Chicago:20191019T000000
DTEND;TZID=America/Chicago:20191020T000000
DTSTAMP:20260423T113042
CREATED:20250612T024613Z
LAST-MODIFIED:20250612T024613Z
UID:10010099-1571443200-1571529600@essft.com
SUMMARY:Cocker: Euclid Field Trial Assoc.
DESCRIPTION:Entries Close: Tuesday\, October 8\, 2019 11:59:59 PM Eastern Time(ET) on Hunt Secretary \nJudges: Mike Wallace and George Kittle
URL:https://essft.com/event/cocker-euclid-field-trial-assoc/
CATEGORIES:Cocker Trial
END:VEVENT
BEGIN:VEVENT
DTSTART;TZID=America/Chicago:20191019T000000
DTEND;TZID=America/Chicago:20191020T000000
DTSTAMP:20260423T113042
CREATED:20250612T024613Z
LAST-MODIFIED:20250612T024613Z
UID:10010096-1571443200-1571529600@essft.com
SUMMARY:Sportsmen's Spaniel Club of Calumet
DESCRIPTION:Entries Close: Tuesday\, October 8\, 2019 11:59:59 PM Eastern Time(ET) on Hunt Secretary \nJudges: Robert Clayton and Katie Gorecki\n\n		\n			\n			\n		\n\n		\n 
URL:https://essft.com/event/sportsmens-spaniel-club-of-calumet-5/
CATEGORIES:Field Trials - Mid West
END:VEVENT
BEGIN:VEVENT
DTSTART;TZID=America/Chicago:20191019T000000
DTEND;TZID=America/Chicago:20191020T000000
DTSTAMP:20260423T113042
CREATED:20250612T024613Z
LAST-MODIFIED:20250612T024613Z
UID:10010097-1571443200-1571529600@essft.com
SUMMARY:Platte River English Springer Spaniel Club
DESCRIPTION:Entries Close: Tuesday\, October 8\, 2019 11:59:59 PM Eastern Time(ET) on Hunt Secretary \nJudges: Tom Ness and Don Mock\n\n		\n			\n			\n		\n\n		\n 
URL:https://essft.com/event/platte-river-english-springer-spaniel-club-2/
CATEGORIES:Field Trials - Rocky Mountain
END:VEVENT
BEGIN:VEVENT
DTSTART;TZID=America/Chicago:20191019T000000
DTEND;TZID=America/Chicago:20191020T000000
DTSTAMP:20260423T113042
CREATED:20250612T024613Z
LAST-MODIFIED:20250612T024613Z
UID:10010098-1571443200-1571529600@essft.com
SUMMARY:Ravenna Field Trial Club
DESCRIPTION:Entries Close: Tuesday\, October 8\, 2019 11:59:59 PM Eastern Time(ET) on Hunt Secretary \nJudges: Mark Gebert and Ken Hanson
URL:https://essft.com/event/ravenna-field-trial-club-4/
CATEGORIES:Field Trials - Mid East
END:VEVENT
BEGIN:VEVENT
DTSTART;TZID=America/Chicago:20191019T000000
DTEND;TZID=America/Chicago:20191020T000000
DTSTAMP:20260423T113042
CREATED:20250612T024413Z
LAST-MODIFIED:20250612T024413Z
UID:10010094-1571443200-1571529600@essft.com
SUMMARY:New Jersey Spaniel Field Trial Club
DESCRIPTION:Entries Close: Tuesday\, October 8\, 2019 11:59:59 PM Eastern Time(ET) on Hunt Secretary \nJudges:  Frank Mackinson and Tom Motley
URL:https://essft.com/event/new-jersey-spaniel-field-trial-club-4/
LOCATION:Flint Hill Preserve\, 31 Flint Hill Rd\, Califon\, NJ 07830\, USA\, Califon\, New Jersey\, 7830\, United States
CATEGORIES:Field Trials - East
ORGANIZER;CN="Connie Soper":MAILTO:constancesoper@hotmail.com
GEO:40.699561;-74.734026
X-APPLE-STRUCTURED-LOCATION;VALUE=URI;X-ADDRESS=Flint Hill Preserve 31 Flint Hill Rd Califon NJ 07830 USA Califon New Jersey 7830 United States;X-APPLE-RADIUS=500;X-TITLE=31 Flint Hill Rd\, Califon\, NJ 07830\, USA:geo:-74.734026,40.699561
END:VEVENT
BEGIN:VEVENT
DTSTART;TZID=America/Chicago:20191019T000000
DTEND;TZID=America/Chicago:20191020T000000
DTSTAMP:20260423T113042
CREATED:20250612T024412Z
LAST-MODIFIED:20250612T024412Z
UID:10010093-1571443200-1571529600@essft.com
SUMMARY:AKC Week 42
DESCRIPTION:
URL:https://essft.com/event/akc-week-42-3/
END:VEVENT
BEGIN:VEVENT
DTSTART;TZID=America/Chicago:20191018T000000
DTEND;TZID=America/Chicago:20191019T000000
DTSTAMP:20260423T113042
CREATED:20250612T024412Z
LAST-MODIFIED:20250612T024412Z
UID:10010092-1571356800-1571443200@essft.com
SUMMARY:Utah Springer Spaniel Club
DESCRIPTION:Entries Close:  Noon MDT\, Wednesday\, October 9\, 2019 at the FTS Address. \nJudges: Lynn Miller and Mhari Peschel\n\n		\n			\n			\n		\n\n		\n  \n\n		\n			\n			\n		\n\n		\n  \n\n		\n			\n			\n		\n\n		\n  \n  \n 
URL:https://essft.com/event/utah-springer-spaniel-club-9/
CATEGORIES:Field Trials - West
END:VEVENT
BEGIN:VEVENT
DTSTART;TZID=America/Chicago:20191017T000000
DTEND;TZID=America/Chicago:20191018T000000
DTSTAMP:20260423T113042
CREATED:20250612T024412Z
LAST-MODIFIED:20250612T024412Z
UID:10010091-1571270400-1571356800@essft.com
SUMMARY:ESSC of Eastern Nebraska
DESCRIPTION:Entries Close:  Monday\, October 7\, 2019 11:59:59 PM Eastern Time(ET) on Hunt Secretary \nJudges:  Trent Bosse and Rick Shively\n  \nThe English Springer Spaniel Club of Eastern Nebraska engaged the services of the extension agency in the Gage County area of Nebraska for our trial grounds. We were fortunate enough to have the individual who retired from the position\, the individual in office who will be retiring in a year\, and the individual who is being trained for the future. We had them walk with our club representatives to identify Grasses On the fields we use and perimeter areas. The group identified two small areas of Canada Wildrye (Elymus canadensis L.) that we are able to hand pull and dispose of before the trial. We are proud to say that our trial fields are clear and we have a very low exposure to any risks with grass awns and mean seeds. \nOur Club continues to be advocates to minimize the risk to our dogs and maintaining good stewardship of the land. We are working with Landowners to understand the issues and plant appropriate foliage in the future. We look forward to our fellow Dog Trialer’s attending and enjoying the beautiful grasslands of Nebraska. \nThe Fall 2019 trial marks our 50 year milestone. See you in October!
URL:https://essft.com/event/essc-of-eastern-nebraska-4/
LOCATION:Claybaugh Farm\, Liberty\, NE 68381\, USA\, Liberty\, Nebraska\, 68381\, United States
CATEGORIES:Field Trials - Rocky Mountain
GEO:40.084723;-96.482796
X-APPLE-STRUCTURED-LOCATION;VALUE=URI;X-ADDRESS=Claybaugh Farm Liberty NE 68381 USA Liberty Nebraska 68381 United States;X-APPLE-RADIUS=500;X-TITLE=Liberty\, NE 68381\, USA:geo:-96.482796,40.084723
END:VEVENT
BEGIN:VEVENT
DTSTART;TZID=America/Chicago:20191017T000000
DTEND;TZID=America/Chicago:20191018T000000
DTSTAMP:20260423T113043
CREATED:20250612T024212Z
LAST-MODIFIED:20250612T024212Z
UID:10010089-1571270400-1571356800@essft.com
SUMMARY:Mid-Penn
DESCRIPTION:Entries Close: Monday\, October 7\, 2019 at 11:59 PM on Entry Express \nJudges:  Brent Blundell and Aaron Wendel
URL:https://essft.com/event/mid-penn-3/
LOCATION:Sinking Valley\, Tyrone\, PA 16686\, USA\, Tyrone\, Pennsylvania\, 16686\, United States
CATEGORIES:Field Trials - Mid East
GEO:40.670618;-78.238624
X-APPLE-STRUCTURED-LOCATION;VALUE=URI;X-ADDRESS=Sinking Valley Tyrone PA 16686 USA Tyrone Pennsylvania 16686 United States;X-APPLE-RADIUS=500;X-TITLE=Tyrone\, PA 16686\, USA:geo:-78.238624,40.670618
END:VEVENT
BEGIN:VEVENT
DTSTART;TZID=America/Chicago:20191017T000000
DTEND;TZID=America/Chicago:20191018T000000
DTSTAMP:20260423T113043
CREATED:20250612T024212Z
LAST-MODIFIED:20250612T024212Z
UID:10010090-1571270400-1571356800@essft.com
SUMMARY:East Central Iowa English Springer Spaniel Club
DESCRIPTION:Entries Close: Monday\, October 7\, 2019 11:59:59 PM Eastern Time(ET) on Hunt Secretary     \nJudges:  Richard Paquin and Jack Markowski\n\n		\n			\n			\n		\n\n		\n 
URL:https://essft.com/event/east-central-iowa-english-springer-spaniel-club-3/
CATEGORIES:Field Trials - Mid West
END:VEVENT
BEGIN:VEVENT
DTSTART;TZID=America/Chicago:20191012T000000
DTEND;TZID=America/Chicago:20191013T000000
DTSTAMP:20260423T113043
CREATED:20250612T024211Z
LAST-MODIFIED:20250612T024211Z
UID:10010086-1570838400-1570924800@essft.com
SUMMARY:Cocker: Mid-Atlantic Hunting Spaniel Club
DESCRIPTION:Entries Close: Tuesday\, October 1\, 2019 11:59:59 PM Eastern Time(ET) on Hunt Secretary \nJudges: Joe DeMarkis\, Mike Ludwig\, Bill Pierson
URL:https://essft.com/event/cocker-mid-atlantic-hunting-spaniel-club/
CATEGORIES:Cocker Trial
END:VEVENT
BEGIN:VEVENT
DTSTART;TZID=America/Chicago:20191012T000000
DTEND;TZID=America/Chicago:20191013T000000
DTSTAMP:20260423T113043
CREATED:20250612T024211Z
LAST-MODIFIED:20250612T024211Z
UID:10010087-1570838400-1570924800@essft.com
SUMMARY:Cincinnati English Springer Spaniel Field Trial Club
DESCRIPTION:Entries Close: Tuesday\, October 1\, 2019 at 11:59 P.M. Eastern Time(ET) on Hunt Secretary \nJudges: Bill McCaffrey and Dominique Savoie
URL:https://essft.com/event/cincinnati-english-springer-spaniel-field-trial-club-4/
LOCATION:Cunningham Farm\, 24330 Sandusky Rd\, Marysville\, OH 43040\, USA\, Marysville\, Ohio\, 43040\, United States
CATEGORIES:Field Trials - Mid East
ORGANIZER;CN="Amy Haering":MAILTO:cessftc@yahoo.com
GEO:40.358621;-83.328942
X-APPLE-STRUCTURED-LOCATION;VALUE=URI;X-ADDRESS=Cunningham Farm 24330 Sandusky Rd Marysville OH 43040 USA Marysville Ohio 43040 United States;X-APPLE-RADIUS=500;X-TITLE=24330 Sandusky Rd\, Marysville\, OH 43040\, USA:geo:-83.328942,40.358621
END:VEVENT
BEGIN:VEVENT
DTSTART;TZID=America/Chicago:20191012T000000
DTEND;TZID=America/Chicago:20191013T000000
DTSTAMP:20260423T113043
CREATED:20250612T024011Z
LAST-MODIFIED:20250612T024011Z
UID:10010085-1570838400-1570924800@essft.com
SUMMARY:Cocker: Minnesota Hunting Spaniel Association
DESCRIPTION:Entries Close: Tuesday\, October 1\, 2019 11:59:59 PM Eastern Time(ET) on Hunt Secretary \nJudges:  Pat Gilligan and Thomas Calabrese   Apprentice: Brett Edstrom
URL:https://essft.com/event/cocker-minnesota-hunting-spaniel-association/
LOCATION:Long Pond Elk Farm\, 10940 293rd Ave NW\, Princeton\, MN 55371\, USA\, Princeton\, Minnesota\, 55371\, United States
CATEGORIES:Cocker Trial
GEO:45.510557;-93.554875
X-APPLE-STRUCTURED-LOCATION;VALUE=URI;X-ADDRESS=Long Pond Elk Farm 10940 293rd Ave NW Princeton MN 55371 USA Princeton Minnesota 55371 United States;X-APPLE-RADIUS=500;X-TITLE=10940 293rd Ave NW\, Princeton\, MN 55371\, USA:geo:-93.554875,45.510557
END:VEVENT
BEGIN:VEVENT
DTSTART;TZID=America/Chicago:20191012T000000
DTEND;TZID=America/Chicago:20191013T000000
DTSTAMP:20260423T113043
CREATED:20250612T024010Z
LAST-MODIFIED:20250612T024010Z
UID:10010083-1570838400-1570924800@essft.com
SUMMARY:Cocker: Arrowhead Fall Field Trial
DESCRIPTION:Entries Close: 8:00 PM (PST) Wednesday\, October 2nd\, 2019 with the FTS via US MAIL \nJudges:  Tim Lindsey and Kevin Rutherford\n  \nSaturday\n\n		\n			\n			\n		\n\n		\n\n		\n			\n			\n		\n\n		\n  \n  \nSunday
URL:https://essft.com/event/cocker-arrowhead-fall-field-trial/
CATEGORIES:Cocker Trial
END:VEVENT
BEGIN:VEVENT
DTSTART;TZID=America/Chicago:20191012T000000
DTEND;TZID=America/Chicago:20191013T000000
DTSTAMP:20260423T113043
CREATED:20250612T024010Z
LAST-MODIFIED:20250612T024010Z
UID:10010084-1570838400-1570924800@essft.com
SUMMARY:St. Croix Valley Spaniel Club Trial #2
DESCRIPTION:10/7/2019  NOTE FROM FTS:  There is a running order change for our October 12 amateur. Number 24 Tru will be running 2nd\, & #2 Rigley will be running in the 24th spot. Basically flip flopping 2 & 24.\n  \n  \nEntries Close: Monday\, September 30\, 2019 11:59:59 PM Eastern Time(ET) on Hunt Secretary \nJudges:  Elaine Vanderslice  and Jim O’Keefe\n\n		\n			\n			\n		\n\n		\n 
URL:https://essft.com/event/st-croix-valley-spaniel-club-trial-2/
LOCATION:Leslie Bjerketvedt Farm\, Co Hwy 5\, Clitherall\, MN 56524\, USA\, Clitherall\, Minnesota\, 56524\, United States
CATEGORIES:Field Trials - Mid West
GEO:46.275682;-95.633964
X-APPLE-STRUCTURED-LOCATION;VALUE=URI;X-ADDRESS=Leslie Bjerketvedt Farm Co Hwy 5 Clitherall MN 56524 USA Clitherall Minnesota 56524 United States;X-APPLE-RADIUS=500;X-TITLE=Co Hwy 5\, Clitherall\, MN 56524\, USA:geo:-95.633964,46.275682
END:VEVENT
BEGIN:VEVENT
DTSTART;TZID=America/Chicago:20191012T000000
DTEND;TZID=America/Chicago:20191013T000000
DTSTAMP:20260423T113043
CREATED:20250612T024010Z
LAST-MODIFIED:20250612T024010Z
UID:10010081-1570838400-1570924800@essft.com
SUMMARY:Rocky Mountain Springer Spaniel Assoc
DESCRIPTION:Entries Close: Tuesday\, October 1\, 2019 11:59:59 PM Eastern Time(ET) on Hunt Secretary \nJudges: Ray Jack and Robert Willis\n\n		\n			\n			\n		\n\n		\n  \n 
URL:https://essft.com/event/rocky-mountain-springer-spaniel-assoc-2/
CATEGORIES:Field Trials - Rocky Mountain
END:VEVENT
BEGIN:VEVENT
DTSTART;TZID=America/Chicago:20191012T000000
DTEND;TZID=America/Chicago:20191013T000000
DTSTAMP:20260423T113043
CREATED:20250612T024010Z
LAST-MODIFIED:20250612T024010Z
UID:10010082-1570838400-1570924800@essft.com
SUMMARY:Arrowhead English Springer Spaniel Club
DESCRIPTION:Entries Close: Wednesday\, October 2\, 2019 with the Field Trial Secretary. \nJudges: Tim Lindsay & Kevin Rutherford\n  \n\n		\n			\n			\n		\n\n		\n  \n\n		\n			\n			\n		\n\n		\n  \n\n		\n			\n			\n		\n\n		\n \n  \n\n		\n			\n			\n		\n\n		\n  \n\n		\n			\n			\n		\n\n		\n 
URL:https://essft.com/event/arrowhead-english-springer-spaniel-club-3/
CATEGORIES:Field Trials - West
END:VEVENT
BEGIN:VEVENT
DTSTART;TZID=America/Chicago:20191012T000000
DTEND;TZID=America/Chicago:20191013T000000
DTSTAMP:20260423T113043
CREATED:20250612T023809Z
LAST-MODIFIED:20250612T023809Z
UID:10010079-1570838400-1570924800@essft.com
SUMMARY:AKC Week 41
DESCRIPTION:
URL:https://essft.com/event/akc-week-41-3/
END:VEVENT
END:VCALENDAR