BEGIN:VCALENDAR
VERSION:2.0
PRODID:-//English Springer Spaniel Field Trials - ECPv6.15.20//NONSGML v1.0//EN
CALSCALE:GREGORIAN
METHOD:PUBLISH
X-WR-CALNAME:English Springer Spaniel Field Trials
X-ORIGINAL-URL:https://essft.com
X-WR-CALDESC:Events for English Springer Spaniel Field Trials
REFRESH-INTERVAL;VALUE=DURATION:PT1H
X-Robots-Tag:noindex
X-PUBLISHED-TTL:PT1H
BEGIN:VTIMEZONE
TZID:America/Chicago
BEGIN:DAYLIGHT
TZOFFSETFROM:-0600
TZOFFSETTO:-0500
TZNAME:CDT
DTSTART:20240310T080000
END:DAYLIGHT
BEGIN:STANDARD
TZOFFSETFROM:-0500
TZOFFSETTO:-0600
TZNAME:CST
DTSTART:20241103T070000
END:STANDARD
BEGIN:DAYLIGHT
TZOFFSETFROM:-0600
TZOFFSETTO:-0500
TZNAME:CDT
DTSTART:20250309T080000
END:DAYLIGHT
BEGIN:STANDARD
TZOFFSETFROM:-0500
TZOFFSETTO:-0600
TZNAME:CST
DTSTART:20251102T070000
END:STANDARD
BEGIN:DAYLIGHT
TZOFFSETFROM:-0600
TZOFFSETTO:-0500
TZNAME:CDT
DTSTART:20260308T080000
END:DAYLIGHT
BEGIN:STANDARD
TZOFFSETFROM:-0500
TZOFFSETTO:-0600
TZNAME:CST
DTSTART:20261101T070000
END:STANDARD
BEGIN:DAYLIGHT
TZOFFSETFROM:-0600
TZOFFSETTO:-0500
TZNAME:CDT
DTSTART:20270314T080000
END:DAYLIGHT
BEGIN:STANDARD
TZOFFSETFROM:-0500
TZOFFSETTO:-0600
TZNAME:CST
DTSTART:20271107T070000
END:STANDARD
END:VTIMEZONE
BEGIN:VEVENT
DTSTART;VALUE=DATE:20260214
DTEND;VALUE=DATE:20260216
DTSTAMP:20260421T153255
CREATED:20251115T041337Z
LAST-MODIFIED:20260130T174053Z
UID:10011728-1771027200-1771199999@essft.com
SUMMARY:Houston ESSC Spaniel Hunt Test
DESCRIPTION:Entries Close: Tuesday\, February 3\, 2026 11:59:59 PM Eastern Time(ET) on Hunt Secretary.
URL:https://essft.com/event/houston-essc-spaniel-hunt-test-6/
LOCATION:Springer Creek Ranch Huntsville\, TX\, Springer Creek Ranch Huntsville\, TX
CATEGORIES:Hunt Tests
ORGANIZER;CN="Gigi Clayton":MAILTO:gigiclayton@gmail.com
END:VEVENT
BEGIN:VEVENT
DTSTART;VALUE=DATE:20260214
DTEND;VALUE=DATE:20260215
DTSTAMP:20260421T153255
CREATED:20250614T194445Z
LAST-MODIFIED:20250823T204225Z
UID:10011571-1771027200-1771113599@essft.com
SUMMARY:Valentine's Day
DESCRIPTION:
URL:https://essft.com/event/valentines-day-2/
CATEGORIES:Holidays
END:VEVENT
BEGIN:VEVENT
DTSTART;VALUE=DATE:20260213
DTEND;VALUE=DATE:20260216
DTSTAMP:20260421T153255
CREATED:20251211T183726Z
LAST-MODIFIED:20251211T183726Z
UID:10011755-1770940800-1771199999@essft.com
SUMMARY:Platte River English Springer Spaniel Club SPRINGER Field Trial & Water Test
DESCRIPTION:Entries Close: Monday\, February 2\, 2026 11:59:59 PM Eastern Time(ET) on Hunt Secretary.
URL:https://essft.com/event/platte-river-english-springer-spaniel-club-springer-field-trial-water-test/
LOCATION:McNew Rd and NE 60 St Pretty Prairie\, KS\, McNew Rd and NE 60 St Pretty Prairie\, KS
CATEGORIES:Field Trials - Rocky Mountain
ORGANIZER;CN="Jeanne Nabity":MAILTO:tsnabity@charter.net
END:VEVENT
BEGIN:VEVENT
DTSTART;VALUE=DATE:20260208
DTEND;VALUE=DATE:20260209
DTSTAMP:20260421T153255
CREATED:20250614T194445Z
LAST-MODIFIED:20250711T021639Z
UID:10011570-1770508800-1770595199@essft.com
SUMMARY:Super Bowl Game
DESCRIPTION:
URL:https://essft.com/event/super-bowl-game-2/
CATEGORIES:Holidays
END:VEVENT
BEGIN:VEVENT
DTSTART;VALUE=DATE:20260206
DTEND;VALUE=DATE:20260207
DTSTAMP:20260421T153255
CREATED:20260109T014350Z
LAST-MODIFIED:20260129T022629Z
UID:10011794-1770336000-1770422399@essft.com
SUMMARY:Hall of Fame II
DESCRIPTION:***Cancelled due to grounds***\n  \nEntries Close: Monday\, January 26\, 2026 11:59:59 PM Eastern Time(ET) on Hunt Secretary.
URL:https://essft.com/event/hall-of-fame-ii/
LOCATION:Shearon Farm Grand Junction\, TN\, Shearon Farm Grand Junction\, TN
CATEGORIES:Field Trials - Mid East
ORGANIZER;CN="Ginger Crenshaw":MAILTO:volunteeressclub@gmail.com
END:VEVENT
BEGIN:VEVENT
DTSTART;VALUE=DATE:20260204
DTEND;VALUE=DATE:20260206
DTSTAMP:20260421T153255
CREATED:20260109T013302Z
LAST-MODIFIED:20260129T023209Z
UID:10011793-1770163200-1770335999@essft.com
SUMMARY:Hall of Fame I
DESCRIPTION:**Cancelled due to grounds** \n  \n  \nEntries Close: Monday\, January 26\, 2026 11:59:59 PM Eastern Time(ET) on Hunt Secretary.
URL:https://essft.com/event/hall-of-fame-i/
LOCATION:Shearon Farm Grand Junction\, TN\, Shearon Farm Grand Junction\, TN
CATEGORIES:Field Trials - Mid East
ORGANIZER;CN="Ginger Crenshaw":MAILTO:volunteeressclub@gmail.com
END:VEVENT
BEGIN:VEVENT
DTSTART;VALUE=DATE:20260131
DTEND;VALUE=DATE:20260202
DTSTAMP:20260421T153255
CREATED:20251211T020402Z
LAST-MODIFIED:20251211T020402Z
UID:10011753-1769817600-1769990399@essft.com
SUMMARY:Rogue Valley Sporting Spaniel Club COCKER Field Trial
DESCRIPTION:Entries Close: Monday\, January 19\, 2026 11:59:59 PM Eastern Time(ET) on Hunt Secretary.
URL:https://essft.com/event/rogue-valley-sporting-spaniel-club-cocker-field-trial-2/
LOCATION:Denman Wildlife Area Central Point\, OR\, Denman Wildlife Area Central Point\, OR
CATEGORIES:Cocker Trial
ORGANIZER;CN="Cindy Williams":MAILTO:cdwill656@gmail.com
END:VEVENT
BEGIN:VEVENT
DTSTART;VALUE=DATE:20260130
DTEND;VALUE=DATE:20260202
DTSTAMP:20260421T153255
CREATED:20251013T021139Z
LAST-MODIFIED:20251013T021317Z
UID:10011720-1769731200-1769990399@essft.com
SUMMARY:Heart of Texas Spaniel Club - Springer Spaniel Field Trial & Water Test
DESCRIPTION:Entries Close: Monday\, January 19\, 2026 11:59:59 PM Eastern Time(ET) on Hunt Secretary.
URL:https://essft.com/event/heart-of-texas-spaniel-club-springer-spaniel-field-trial-water-test/
LOCATION:Chris George Property 12205 San Marcos Hwy Martindale\, TX\, United States
CATEGORIES:Field Trials - Rocky Mountain,Water Test
ORGANIZER;CN="Sarah Penrod":MAILTO:heartoftexasspanielclub@gmail.com
END:VEVENT
BEGIN:VEVENT
DTSTART;VALUE=DATE:20260130
DTEND;VALUE=DATE:20260201
DTSTAMP:20260421T153255
CREATED:20251115T035739Z
LAST-MODIFIED:20260130T032619Z
UID:10011727-1769731200-1769903999@essft.com
SUMMARY:Rogue Valley Sporting Spaniel Club SPRINGER Field Trial
DESCRIPTION:Entries Close: Monday\, January 19\, 2026 11:59:59 PM Eastern Time(ET) on Hunt Secretary.
URL:https://essft.com/event/rogue-valley-sporting-spaniel-club-springer-field-trial-2/
LOCATION:Denman Wildlife Area Central Point\, OR\, Denman Wildlife Area Central Point\, OR\, United States
CATEGORIES:Field Trials - West
ORGANIZER;CN="Cindy Williams":MAILTO:cdwill656@gmail.com
END:VEVENT
BEGIN:VEVENT
DTSTART;VALUE=DATE:20260130
DTEND;VALUE=DATE:20260131
DTSTAMP:20260421T153255
CREATED:20251013T021819Z
LAST-MODIFIED:20251013T021819Z
UID:10011721-1769731200-1769817599@essft.com
SUMMARY:Heart of Texas Spaniel Club - Cocker Spaniel Field Trial & Water Test
DESCRIPTION:Entries Close: Monday\, January 19\, 2026 11:59:59 PM Eastern Time(ET) on Hunt Secretary.
URL:https://essft.com/event/heart-of-texas-spaniel-club-cocker-spaniel-field-trial-water-test/
LOCATION:Chris George Property 12205 San Marcos Hwy Martindale\, TX\, United States
CATEGORIES:Cocker Trial
ORGANIZER;CN="Sarah Penrod":MAILTO:heartoftexasspanielclub@gmail.com
END:VEVENT
BEGIN:VEVENT
DTSTART;VALUE=DATE:20260124
DTEND;VALUE=DATE:20260126
DTSTAMP:20260421T153255
CREATED:20251115T034515Z
LAST-MODIFIED:20251115T034515Z
UID:10011726-1769212800-1769385599@essft.com
SUMMARY:Wateree Spaniel Club COCKER Field Trial (Double Open/Amateur/Puppy)
DESCRIPTION:Entries Close: Monday\, January 12\, 2026 11:59:59 PM Eastern Time(ET) on Hunt Secretary.
URL:https://essft.com/event/wateree-spaniel-club-cocker-field-trial-double-open-amateur-puppy/
LOCATION:Twickenham Plantation Yemassee\, SC\, Twickenham Plantation Yemassee\, SC
CATEGORIES:Cocker Trial
ORGANIZER;CN="Angie Tschantz":MAILTO:maat4z@hotmail.com
END:VEVENT
BEGIN:VEVENT
DTSTART;VALUE=DATE:20260124
DTEND;VALUE=DATE:20260126
DTSTAMP:20260421T153256
CREATED:20251104T204009Z
LAST-MODIFIED:20260109T004820Z
UID:10011722-1769212800-1769385599@essft.com
SUMMARY:English Springer Spaniel Club of Southern California ESS Field Trial
DESCRIPTION:Entries Close: Tuesday\, January 13\, 2026 11:59:59 PM Eastern Time(ET) on Hunt Secretary.
URL:https://essft.com/event/english-springer-spaniel-club-of-southern-california-ess-field-trial/
LOCATION:Kincade Wildlife Management Area\, Lake Success Porterville\, CA\, Kincade Wildlife Management Area\, Lake Success Porterville\, CA
CATEGORIES:Field Trials - West
ORGANIZER;CN="Jennifer Darcy":MAILTO:darcyjenniferl@gmail.com
END:VEVENT
BEGIN:VEVENT
DTSTART;VALUE=DATE:20260123
DTEND;VALUE=DATE:20260124
DTSTAMP:20260421T153256
CREATED:20251115T033947Z
LAST-MODIFIED:20251115T033947Z
UID:10011725-1769126400-1769212799@essft.com
SUMMARY:Wateree Spaniel Club SPRINGER Spaniel Field Trial
DESCRIPTION:Entries Close: Monday\, January 12\, 2026 11:59:59 PM Eastern Time(ET) on Hunt Secretary.
URL:https://essft.com/event/wateree-spaniel-club-springer-spaniel-field-trial-3/
LOCATION:Twickenham Plantation Yemassee\, SC\, Twickenham Plantation Yemassee\, SC
CATEGORIES:Field Trials - East
ORGANIZER;CN="Angie Tschantz":MAILTO:maat4z@hotmail.com
END:VEVENT
BEGIN:VEVENT
DTSTART;VALUE=DATE:20260122
DTEND;VALUE=DATE:20260126
DTSTAMP:20260421T153256
CREATED:20250830T040038Z
LAST-MODIFIED:20250928T030557Z
UID:10011705-1769040000-1769385599@essft.com
SUMMARY:Houston ESS Club SPRINGER Field Trial
DESCRIPTION:Entries Close: Monday\, January 12\, 2026 11:59:59 PM Eastern Time(ET) on Hunt Secretary.
URL:https://essft.com/event/houston-ess-club-springer-1-field-trial/
LOCATION:Springer Creek Ranch Huntsville\, TX\, Springer Creek Ranch Huntsville\, TX
CATEGORIES:Field Trials - Rocky Mountain
ORGANIZER;CN="Gigi Clayton":MAILTO:gigiclayton@gmail.com
END:VEVENT
BEGIN:VEVENT
DTSTART;VALUE=DATE:20260122
DTEND;VALUE=DATE:20260124
DTSTAMP:20260421T153256
CREATED:20250830T035847Z
LAST-MODIFIED:20250928T030048Z
UID:10011704-1769040000-1769212799@essft.com
SUMMARY:Houston ESS Club COCKER Field Trial
DESCRIPTION:Entries Close: Monday\, January 12\, 2026 11:59:59 PM Eastern Time(ET) on Hunt Secretary.
URL:https://essft.com/event/houston-ess-club-cocker-1-field-trial/
LOCATION:Springer Creek Ranch Huntsville\, TX\, Springer Creek Ranch Huntsville\, TX
CATEGORIES:Cocker Trial
ORGANIZER;CN="Gigi Clayton":MAILTO:gigiclayton@gmail.com
END:VEVENT
BEGIN:VEVENT
DTSTART;VALUE=DATE:20260119
DTEND;VALUE=DATE:20260120
DTSTAMP:20260421T153256
CREATED:20250614T194445Z
LAST-MODIFIED:20250722T005924Z
UID:10011569-1768780800-1768867199@essft.com
SUMMARY:Martin Luther King Jr. Day
DESCRIPTION:
URL:https://essft.com/event/martin-luther-king-jr-day-7/
CATEGORIES:Holidays
END:VEVENT
BEGIN:VEVENT
DTSTART;VALUE=DATE:20260116
DTEND;VALUE=DATE:20260119
DTSTAMP:20260421T153256
CREATED:20260109T002816Z
LAST-MODIFIED:20260109T002816Z
UID:10011792-1768521600-1768780799@essft.com
SUMMARY:English Cocker Spaniel Club of America NC Spaniel Cocker Field Trial
DESCRIPTION:Entries Close: Monday\, January 5\, 2026 11:59:59 PM Eastern Time(ET) on Hunt Secretary.
URL:https://essft.com/event/english-cocker-spaniel-club-of-america-nc-spaniel-cocker-field-trial/
LOCATION:Lime Rock Preserve East Bend\, NC\, Lime Rock Preserve East Bend\, NC
CATEGORIES:Cocker Trial
END:VEVENT
BEGIN:VEVENT
DTSTART;VALUE=DATE:20260112
DTEND;VALUE=DATE:20260117
DTSTAMP:20260421T153256
CREATED:20250614T194254Z
LAST-MODIFIED:20251216T154658Z
UID:10011564-1768176000-1768607999@essft.com
SUMMARY:2025 National Open Championship - English Springer Spaniel
DESCRIPTION:Entries will close December 5\, 2025 at 11:59:59 Eastern Time on Hunt Secretary.
URL:https://essft.com/event/2025-national-open-championship/
LOCATION:Pretty Prairie\, KS\, Pretty Prairie\, KS
CATEGORIES:NATIONAL FIELD TRIALS
ORGANIZER;CN="Mhari Peschel":MAILTO:mharipeschel@yahoo.com
END:VEVENT
BEGIN:VEVENT
DTSTART;VALUE=DATE:20260111
DTEND;VALUE=DATE:20260112
DTSTAMP:20260421T153256
CREATED:20251216T153930Z
LAST-MODIFIED:20251216T154304Z
UID:10011756-1768089600-1768175999@essft.com
SUMMARY:NOC Delegates Meeting
DESCRIPTION:All events held at Inspired Dining:\nLocation: 19807 Kansas highway 14 Pretty Prairie KS\, 67570 \nSee map tab for location \n\n\nFor Banquet you will need to register in advance and choose your main course ( Contact Mhari after trial closing up to Jan 5/2026) \n\n\nDelegates meeting: \n\n\n01/11/2026\nStart time: 4 pm \nCocktail/ meet and greet: \n01/11/2026\nStart time 6 pm- 7:30 \n\n\nFinger foods\, Drinks and appetizers: \nIf you wish to have dinner at Inspired Dinning after the cocktail party they will have menu of a hamburger\, chicken\, or steak. Please contact Jerry Barrett in advance so we can work with dining room on numbers.
URL:https://essft.com/event/noc-delegates-meeting-3/
CATEGORIES:NATIONAL FIELD TRIALS
END:VEVENT
BEGIN:VEVENT
DTSTART;VALUE=DATE:20260110
DTEND;VALUE=DATE:20260112
DTSTAMP:20260421T153256
CREATED:20251121T231847Z
LAST-MODIFIED:20251121T231847Z
UID:10011731-1768003200-1768175999@essft.com
SUMMARY:SanFernando Valley Springer Spaniel Club
DESCRIPTION:Springers and Cockers \nMore information TBA.
URL:https://essft.com/event/sanfernando-valley-springer-spaniel-club-2/
CATEGORIES:Field Trials - West
END:VEVENT
BEGIN:VEVENT
DTSTART;VALUE=DATE:20260110
DTEND;VALUE=DATE:20260112
DTSTAMP:20260421T153256
CREATED:20250830T035620Z
LAST-MODIFIED:20251114T214856Z
UID:10011703-1768003200-1768175999@essft.com
SUMMARY:English Cocker Spaniel Club of America Georgia Cocker Trial
DESCRIPTION:Entries Close: Tuesday\, December 30\, 2025 11:59:59 PM Eastern Time(ET) on Hunt Secretary.
URL:https://essft.com/event/english-cocker-spaniel-club-of-america-georgia-cocker-trial-3/
LOCATION:Rock Moss Farms 2768 Hwy 56 South Waynesboro\, GA @ 2768 GA-56\, Waynesboro\, GA 30830\, USA\, United States
CATEGORIES:Cocker Trial
ORGANIZER;CN="Sue Myers":MAILTO:smyers@mia.net
END:VEVENT
BEGIN:VEVENT
DTSTART;VALUE=DATE:20260101
DTEND;VALUE=DATE:20260102
DTSTAMP:20260421T153256
CREATED:20250614T194445Z
LAST-MODIFIED:20250722T005751Z
UID:10011568-1767225600-1767311999@essft.com
SUMMARY:New Year's Day
DESCRIPTION:
URL:https://essft.com/event/new-years-day-8/
CATEGORIES:Holidays
END:VEVENT
BEGIN:VEVENT
DTSTART;VALUE=DATE:20251225
DTEND;VALUE=DATE:20251226
DTSTAMP:20260421T153256
CREATED:20250614T194309Z
LAST-MODIFIED:20250711T023130Z
UID:10011567-1766620800-1766707199@essft.com
SUMMARY:Christmas Day
DESCRIPTION:
URL:https://essft.com/event/christmas-day-2/
CATEGORIES:Holidays
END:VEVENT
BEGIN:VEVENT
DTSTART;VALUE=DATE:20251213
DTEND;VALUE=DATE:20251215
DTSTAMP:20260421T153256
CREATED:20250913T205833Z
LAST-MODIFIED:20250928T025448Z
UID:10011717-1765584000-1765756799@essft.com
SUMMARY:Southern California Sporting Spaniel Club Hunt Test
DESCRIPTION:Entries Close: Tuesday\, December 2\, 2025 11:59:59 PM Eastern Time(ET) on Hunt Secretary.
URL:https://essft.com/event/southern-california-sporting-spaniel-club-hunt-test-2/
LOCATION:Prado Recreation Dog Park Chino\, CA\, Prado Recreation Dog Park Chino\, CA
CATEGORIES:Hunt Tests
ORGANIZER;CN="Jana Cooley":MAILTO:janascooley@yahoo.com
END:VEVENT
BEGIN:VEVENT
DTSTART;VALUE=DATE:20251206
DTEND;VALUE=DATE:20251208
DTSTAMP:20260421T153256
CREATED:20251114T175119Z
LAST-MODIFIED:20251114T213843Z
UID:10011724-1764979200-1765151999@essft.com
SUMMARY:Cocker Spaniel Specialty Club of Georgia Winter Hunt Test
DESCRIPTION:Entries Close: Monday\, November 24\, 2025 11:59:59 PM Eastern Time(ET) on Hunt secretary.
URL:https://essft.com/event/cocker-spaniel-specialty-club-of-georgia-winter-hunt-test/
LOCATION:Bright Penny Acres Crawford\, GA @ Crawford\, GA 30630\, USA\, United States
CATEGORIES:Field Trials - East
ORGANIZER;CN="Janis Epting":MAILTO:eptingjan@gmail.com
END:VEVENT
BEGIN:VEVENT
DTSTART;VALUE=DATE:20251203
DTEND;VALUE=DATE:20251208
DTSTAMP:20260421T153256
CREATED:20250614T194309Z
LAST-MODIFIED:20251024T023414Z
UID:10011566-1764720000-1765151999@essft.com
SUMMARY:2025 ESSFTA National Amateur Championship
DESCRIPTION:1st Entries Close: November 15\, 2025 11:59:59 PM Eastern Time(ET) on Huntsecretary.com.\n2nd Close November 22\, 2025 at Midnight Eastern Time (ET)
URL:https://essft.com/event/2025-national-amateur-championship/
LOCATION:Terre Haute\, IN\, Terre Haute\, IN
CATEGORIES:NATIONAL FIELD TRIALS
ORGANIZER;CN="Elaine O'Keefe":MAILTO:nacsecemv@gmail.com
END:VEVENT
BEGIN:VEVENT
DTSTART;VALUE=DATE:20251127
DTEND;VALUE=DATE:20251128
DTSTAMP:20260421T153256
CREATED:20250614T194309Z
LAST-MODIFIED:20250711T012600Z
UID:10011565-1764201600-1764287999@essft.com
SUMMARY:Thanksgiving Day
DESCRIPTION:
URL:https://essft.com/event/thanksgiving-day-3/
CATEGORIES:Holidays
END:VEVENT
BEGIN:VEVENT
DTSTART;VALUE=DATE:20251122
DTEND;VALUE=DATE:20251124
DTSTAMP:20260421T153256
CREATED:20250830T035119Z
LAST-MODIFIED:20250920T031206Z
UID:10011702-1763769600-1763942399@essft.com
SUMMARY:English Springer Spaniel Club of Southern California Hunt Test
DESCRIPTION:Entries Close: Tuesday\, November 11\, 2025 11:59:59 PM Eastern Time(ET) on Hunt Secretary.
URL:https://essft.com/event/english-springer-spaniel-club-of-southern-california-hunt-test-5/
LOCATION:Prado Recreation Dog Park Chino\, CA\, Prado Recreation Dog Park Chino\, CA
CATEGORIES:Hunt Tests
ORGANIZER;CN="Gary Darcy":MAILTO:darcy.garym@gmail.com
END:VEVENT
BEGIN:VEVENT
DTSTART;VALUE=DATE:20251117
DTEND;VALUE=DATE:20251122
DTSTAMP:20260421T153256
CREATED:20250711T030051Z
LAST-MODIFIED:20250920T033132Z
UID:10011645-1763337600-1763769599@essft.com
SUMMARY:2025 National Amateur Cocker Championship (Pinckneyville\, Illinois)
DESCRIPTION:
URL:https://essft.com/event/national-amateur-cocker-championship/
LOCATION:Pyramid State Park Pinckneyville\, IL\, Pyramid State Park Pinckneyville\, IL
CATEGORIES:NATIONAL FIELD TRIALS
ORGANIZER;CN="Joan Gaddie":MAILTO:kjgaddie@gmail.com
END:VEVENT
BEGIN:VEVENT
DTSTART;VALUE=DATE:20251115
DTEND;VALUE=DATE:20251117
DTSTAMP:20260421T153256
CREATED:20250928T031144Z
LAST-MODIFIED:20250928T031144Z
UID:10011718-1763164800-1763337599@essft.com
SUMMARY:English Cocker Spaniel Club of America NC Spaniel hunt test
DESCRIPTION:Entries Close: Tuesday\, November 4\, 2025 11:59:59 PM Eastern Time(ET) on Hunt Secretary.
URL:https://essft.com/event/english-cocker-spaniel-club-of-america-nc-spaniel-hunt-test/
LOCATION:Lime Rock Preserve East Bend\, NC\, Lime Rock Preserve East Bend\, NC
CATEGORIES:Hunt Tests
ORGANIZER;CN="Susan Hines-Worsham":MAILTO:Hines.sj@gmail.com
END:VEVENT
END:VCALENDAR