BEGIN:VCALENDAR
VERSION:2.0
PRODID:-//English Springer Spaniel Field Trials - ECPv6.15.20//NONSGML v1.0//EN
CALSCALE:GREGORIAN
METHOD:PUBLISH
X-WR-CALNAME:English Springer Spaniel Field Trials
X-ORIGINAL-URL:https://essft.com
X-WR-CALDESC:Events for English Springer Spaniel Field Trials
REFRESH-INTERVAL;VALUE=DURATION:PT1H
X-Robots-Tag:noindex
X-PUBLISHED-TTL:PT1H
BEGIN:VTIMEZONE
TZID:America/Chicago
BEGIN:DAYLIGHT
TZOFFSETFROM:-0600
TZOFFSETTO:-0500
TZNAME:CDT
DTSTART:20190310T080000
END:DAYLIGHT
BEGIN:STANDARD
TZOFFSETFROM:-0500
TZOFFSETTO:-0600
TZNAME:CST
DTSTART:20191103T070000
END:STANDARD
BEGIN:DAYLIGHT
TZOFFSETFROM:-0600
TZOFFSETTO:-0500
TZNAME:CDT
DTSTART:20200308T080000
END:DAYLIGHT
BEGIN:STANDARD
TZOFFSETFROM:-0500
TZOFFSETTO:-0600
TZNAME:CST
DTSTART:20201101T070000
END:STANDARD
BEGIN:DAYLIGHT
TZOFFSETFROM:-0600
TZOFFSETTO:-0500
TZNAME:CDT
DTSTART:20210314T080000
END:DAYLIGHT
BEGIN:STANDARD
TZOFFSETFROM:-0500
TZOFFSETTO:-0600
TZNAME:CST
DTSTART:20211107T070000
END:STANDARD
END:VTIMEZONE
BEGIN:VEVENT
DTSTART;TZID=America/Chicago:20200918T000000
DTEND;TZID=America/Chicago:20200920T000000
DTSTAMP:20260423T020838
CREATED:20250612T042029Z
LAST-MODIFIED:20250612T042029Z
UID:10010272-1600387200-1600560000@essft.com
SUMMARY:Cocker: Cocker Spaniel Hunting Enthusiast - Field Trial
DESCRIPTION:Entries Close: Monday\, September 7\, 2020 at 11:59 P.M. Eastern Time(ET) on Hunt Secretary \nJudges:  Terry Quinlan and Alex Cacchio
URL:https://essft.com/event/cocker-cocker-spaniel-hunting-enthusiast-field-trial/
LOCATION:Oasis Game Farm\, New Glarus\, WI 53574\, USA\, New Glarus\, Wisconsin\, 53574\, United States
CATEGORIES:Cocker Trial
GEO:42.837895;-89.729012
X-APPLE-STRUCTURED-LOCATION;VALUE=URI;X-ADDRESS=Oasis Game Farm New Glarus WI 53574 USA New Glarus Wisconsin 53574 United States;X-APPLE-RADIUS=500;X-TITLE=New Glarus\, WI 53574\, USA:geo:-89.729012,42.837895
END:VEVENT
BEGIN:VEVENT
DTSTART;TZID=America/Chicago:20200918T000000
DTEND;TZID=America/Chicago:20200920T000000
DTSTAMP:20260423T020838
CREATED:20250612T042028Z
LAST-MODIFIED:20250612T042028Z
UID:10010271-1600387200-1600560000@essft.com
SUMMARY:North Dakota Sporting Spaniel Club
DESCRIPTION:Entries Close: Monday\, September 7\, 2020 11:59:59 PM Eastern Time(ET) on Hunt Secretary \nJudges:   Friday Open:  Aaron Wendel and Katie Gorecki\nSaturday/Sunday: Mark Matthiesen and Pat Gilligan
URL:https://essft.com/event/north-dakota-sporting-spaniel-club-7/
CATEGORIES:Field Trials - Rocky Mountain
END:VEVENT
BEGIN:VEVENT
DTSTART;TZID=America/Chicago:20200912T000000
DTEND;TZID=America/Chicago:20200913T000000
DTSTAMP:20260423T020838
CREATED:20250612T042022Z
LAST-MODIFIED:20250612T042022Z
UID:10010270-1599868800-1599955200@essft.com
SUMMARY:Cocker: Cocker Spaniel Field Trial Club of America Cocker Field Trial Fall 2020 (Double Open)
DESCRIPTION:Entries Close: Tuesday\, September 1\, 2020 11:59:59 PM Eastern Time(ET) on Hunt Secretary \nJudges: Albert Viotto and Patrick Keliher\n\n		\n			\n			\n		\n\n		\n 
URL:https://essft.com/event/cocker-cocker-spaniel-field-trial-club-of-america-cocker-field-trial-fall-2020-double-open/
CATEGORIES:Cocker Trial
END:VEVENT
BEGIN:VEVENT
DTSTART;TZID=America/Chicago:20200912T000000
DTEND;TZID=America/Chicago:20200913T000000
DTSTAMP:20260423T020838
CREATED:20250612T042022Z
LAST-MODIFIED:20250612T042022Z
UID:10010266-1599868800-1599955200@essft.com
SUMMARY:Nova Scotia Duck Tolling Retriever Club (USA) 2020 Second Annual Spaniel Hunt Test
DESCRIPTION:Entries Close: Tuesday\, September 1\, 2020 11:59:59 PM Eastern Time(ET) on Hunt Secretary \n 
URL:https://essft.com/event/nova-scotia-duck-tolling-retriever-club-usa-2020-second-annual-spaniel-hunt-test/
CATEGORIES:Hunt Tests
END:VEVENT
BEGIN:VEVENT
DTSTART;TZID=America/Chicago:20200912T000000
DTEND;TZID=America/Chicago:20200913T000000
DTSTAMP:20260423T020838
CREATED:20250612T042022Z
LAST-MODIFIED:20250612T042022Z
UID:10010267-1599868800-1599955200@essft.com
SUMMARY:Cocker: Central Wisconsin Cocker Spaniel Field Trial
DESCRIPTION:Entries Close: Tuesday\, September 1\, 2020 11:59:59 PM Eastern Time(ET) on Hunt Secretary \nJudges:  Pete Rizzo and John Hall\n 
URL:https://essft.com/event/cocker-central-wisconsin-cocker-spaniel-field-trial/
LOCATION:Oasis Game Farm\, New Glarus\, WI 53574\, USA\, New Glarus\, Wisconsin\, 53574\, United States
CATEGORIES:Cocker Trial
GEO:42.837895;-89.729012
X-APPLE-STRUCTURED-LOCATION;VALUE=URI;X-ADDRESS=Oasis Game Farm New Glarus WI 53574 USA New Glarus Wisconsin 53574 United States;X-APPLE-RADIUS=500;X-TITLE=New Glarus\, WI 53574\, USA:geo:-89.729012,42.837895
END:VEVENT
BEGIN:VEVENT
DTSTART;TZID=America/Chicago:20200912T000000
DTEND;TZID=America/Chicago:20200913T000000
DTSTAMP:20260423T020838
CREATED:20250612T042022Z
LAST-MODIFIED:20250612T042022Z
UID:10010268-1599868800-1599955200@essft.com
SUMMARY:Susquehanna Valley ESS Club
DESCRIPTION:Entries Close: Entries Close: Monday\, August 31\, 2020 11:59:59 PM CT on Entry Express \nJudges:\nOpen and Puppy judges: Justin Smith and Greg Wharton\nAmateur judges: Justin Smith and Mike Wallace\n\nSusquehanna Valley… \nWe will be providing box lunches each day for competitors and guests. \nWe’ll need to know how many we need. \nIf you could put that out there with my contact info and have them email or text me and I’ll let them know their options. \nBkephart@leeind.com \n(814) 592-8367 mobile \n\n  \n\n		\n			\n			\n		\n\n		\n  \n  \n 
URL:https://essft.com/event/susquehanna-valley-ess-club-3/
LOCATION:Marymont Farms\, Tyrone\, PA 16686\, USA\, Tyrone\, Pennsylvania\, 16686\, United States
CATEGORIES:Field Trials - Mid East
GEO:40.670618;-78.238624
X-APPLE-STRUCTURED-LOCATION;VALUE=URI;X-ADDRESS=Marymont Farms Tyrone PA 16686 USA Tyrone Pennsylvania 16686 United States;X-APPLE-RADIUS=500;X-TITLE=Tyrone\, PA 16686\, USA:geo:-78.238624,40.670618
END:VEVENT
BEGIN:VEVENT
DTSTART;TZID=America/Chicago:20200912T000000
DTEND;TZID=America/Chicago:20200913T000000
DTSTAMP:20260423T020838
CREATED:20250612T042022Z
LAST-MODIFIED:20250612T042022Z
UID:10010269-1599868800-1599955200@essft.com
SUMMARY:Cocker: Cascade English Cocker Spaniel Fanciers
DESCRIPTION:Entries Close: Tuesday\, September 1\, 2020 11:59:59 PM Eastern Time(ET) on Hunt Secretary \n 
URL:https://essft.com/event/cocker-cascade-english-cocker-spaniel-fanciers-2/
LOCATION:Joint Base Lewis McChord\, Tacoma\, WA\, USA\, Tacoma\, Washington\, United States
CATEGORIES:Cocker Trial
ORGANIZER;CN="Melissa Knapp":MAILTO:melissa.s.knapp@gmail.com
GEO:47.549217;-122.099665
X-APPLE-STRUCTURED-LOCATION;VALUE=URI;X-ADDRESS=Joint Base Lewis McChord Tacoma WA USA Tacoma Washington United States;X-APPLE-RADIUS=500;X-TITLE=Tacoma\, WA\, USA:geo:-122.099665,47.549217
END:VEVENT
BEGIN:VEVENT
DTSTART;TZID=America/Chicago:20200912T000000
DTEND;TZID=America/Chicago:20200913T000000
DTSTAMP:20260423T020838
CREATED:20250612T042018Z
LAST-MODIFIED:20250612T042018Z
UID:10010265-1599868800-1599955200@essft.com
SUMMARY:Patriot Sporting Spaniel Club
DESCRIPTION:Entries close with the Field Trial Secretary at 6:00 PM EST\,\nSunday Sept. 6\, 2020. \nJudges:  Paul Hanscom and George Kittle
URL:https://essft.com/event/patriot-sporting-spaniel-club-5/
CATEGORIES:Field Trials - East
END:VEVENT
BEGIN:VEVENT
DTSTART;TZID=America/Chicago:20200912T000000
DTEND;TZID=America/Chicago:20200913T000000
DTSTAMP:20260423T020838
CREATED:20250612T042017Z
LAST-MODIFIED:20250612T042017Z
UID:10010263-1599868800-1599955200@essft.com
SUMMARY:Calgary English Springer Spaniel Club Inc
DESCRIPTION:https://www.dogshow.ca/en/2434?club=Calgary-English-Springer-Spaniel-Club-Inc.
URL:https://essft.com/event/calgary-english-springer-spaniel-club-inc-5/
CATEGORIES:Canadian FT
END:VEVENT
BEGIN:VEVENT
DTSTART;TZID=America/Chicago:20200912T000000
DTEND;TZID=America/Chicago:20200913T000000
DTSTAMP:20260423T020838
CREATED:20250612T042017Z
LAST-MODIFIED:20250612T042017Z
UID:10010264-1599868800-1599955200@essft.com
SUMMARY:Northern Minnesota ESS Club
DESCRIPTION:Entries Close: Monday\, August 31\, 2020 11:59:59 PM Eastern Time(ET) on Hunt Secretary \nJudges:  Mahri Peschel and Mark Hairfield
URL:https://essft.com/event/northern-minnesota-ess-club-5/
CATEGORIES:Field Trials - Mid West
ORGANIZER;CN="Sophie Haglin":MAILTO:mark@pineshadows.com
END:VEVENT
BEGIN:VEVENT
DTSTART;TZID=America/Chicago:20200911T000000
DTEND;TZID=America/Chicago:20200912T000000
DTSTAMP:20260423T020838
CREATED:20250612T042017Z
LAST-MODIFIED:20250612T042017Z
UID:10010262-1599782400-1599868800@essft.com
SUMMARY:Timpanogos Hunting Spaniel Club
DESCRIPTION:Entries Due: Entries will close with the Field Trial Secretary at 11 p.m. MDT\, Wednesday\, September 2nd\, 2020 \nMail entries with check (US funds only) to:\n“THSC”\nc/o Kurt Price\, Field Trial Secretary\n2399 West 900 North\, Layton\, UT 84041\nPhone: (801) 510-6416 – bowmanrx@xmission.com \n  \nJudges: Katie Gorecki and Joe Stallman\n 
URL:https://essft.com/event/timpanogos-hunting-spaniel-club-11/
CATEGORIES:Field Trials - West
END:VEVENT
BEGIN:VEVENT
DTSTART;TZID=America/Chicago:20200910T000000
DTEND;TZID=America/Chicago:20200911T000000
DTSTAMP:20260423T020838
CREATED:20250612T042017Z
LAST-MODIFIED:20250612T042017Z
UID:10010261-1599696000-1599782400@essft.com
SUMMARY:Cocker: Northern Minnesota ESS Club
DESCRIPTION:Entries Close: Monday\, August 31\, 2020 11:59:59 PM Eastern Time(ET) on Hunt Secretary \nJudges: Jim O’Keefe and Mike McGinty
URL:https://essft.com/event/cocker-northern-minnesota-ess-club-2/
CATEGORIES:Cocker Trial
ORGANIZER;CN="Sophie Haglin":MAILTO:mark@pineshadows.com
END:VEVENT
BEGIN:VEVENT
DTSTART;TZID=America/Chicago:20200910T000000
DTEND;TZID=America/Chicago:20200911T000000
DTSTAMP:20260423T020838
CREATED:20250612T034030Z
LAST-MODIFIED:20250612T034030Z
UID:10010260-1599696000-1599782400@essft.com
SUMMARY:Central Wisconsin Sporting Spaniel Club
DESCRIPTION:Entries Close: Monday\, August 31\, 2020 11:59:59 PM Eastern Time(ET) on Hunt Secretary \nJudges: Randy Bartsch and Don Maue\n\n		\n			\n			\n		\n\n		\n  \n 
URL:https://essft.com/event/central-wisconsin-sporting-spaniel-club-6/
CATEGORIES:Field Trials - Mid West
END:VEVENT
BEGIN:VEVENT
DTSTART;TZID=America/Chicago:20200907T000000
DTEND;TZID=America/Chicago:20200907T000000
DTSTAMP:20260423T020838
CREATED:20250612T034030Z
LAST-MODIFIED:20250612T034030Z
UID:10010258-1599436800-1599436800@essft.com
SUMMARY:Labor Day
DESCRIPTION:
URL:https://essft.com/event/labor-day-2/
CATEGORIES:Holidays
END:VEVENT
BEGIN:VEVENT
DTSTART;TZID=America/Chicago:20200907T000000
DTEND;TZID=America/Chicago:20200907T000000
DTSTAMP:20260423T020838
CREATED:20250612T034030Z
LAST-MODIFIED:20250612T034030Z
UID:10010259-1599436800-1599436800@essft.com
SUMMARY:Western Washington English Springer Spaniel Club Hunt Test Sept. 7\, 2020
DESCRIPTION:Entries Close: Tuesday\, August 25\, 2020 11:59:59 PM Eastern Time(ET) on Hunt Secretary \n 
URL:https://essft.com/event/western-washington-english-springer-spaniel-club-hunt-test-sept-7-2020/
LOCATION:Scatter Creek Wildlife Area\, Rochester\, WA 98579\, USA\, Rochester\, Washington\, 98579\, United States
CATEGORIES:Hunt Tests
ORGANIZER;CN="Kathy Stermolle":MAILTO:stermolle@yahoo.com
GEO:47.071189;-124.165336
X-APPLE-STRUCTURED-LOCATION;VALUE=URI;X-ADDRESS=Scatter Creek Wildlife Area Rochester WA 98579 USA Rochester Washington 98579 United States;X-APPLE-RADIUS=500;X-TITLE=Rochester\, WA 98579\, USA:geo:-124.165336,47.071189
END:VEVENT
BEGIN:VEVENT
DTSTART;TZID=America/Chicago:20200905T000000
DTEND;TZID=America/Chicago:20200906T000000
DTSTAMP:20260423T020838
CREATED:20250612T034030Z
LAST-MODIFIED:20250612T034030Z
UID:10010256-1599264000-1599350400@essft.com
SUMMARY:Wisconsin English Springer Spaniel Assn Hunt Tests 2020
DESCRIPTION:Entries Close: Tuesday\, August 25\, 2020 11:59:59 PM Eastern Time(ET) on Hunt Secretary
URL:https://essft.com/event/wisconsin-english-springer-spaniel-assn-hunt-tests-2020/
CATEGORIES:Hunt Tests
END:VEVENT
BEGIN:VEVENT
DTSTART;TZID=America/Chicago:20200905T000000
DTEND;TZID=America/Chicago:20200906T000000
DTSTAMP:20260423T020838
CREATED:20250612T033830Z
LAST-MODIFIED:20250612T033830Z
UID:10010254-1599264000-1599350400@essft.com
SUMMARY:Minnesota Hunting Spaniel Association - Hunt Test
DESCRIPTION:
URL:https://essft.com/event/minnesota-hunting-spaniel-association-hunt-test-2/
CATEGORIES:Hunt Tests
END:VEVENT
BEGIN:VEVENT
DTSTART;TZID=America/Chicago:20200905T000000
DTEND;TZID=America/Chicago:20200906T000000
DTSTAMP:20260423T020838
CREATED:20250612T033830Z
LAST-MODIFIED:20250612T033830Z
UID:10010255-1599264000-1599350400@essft.com
SUMMARY:Maine Spaniel Field Trial Club
DESCRIPTION:7/5/2020: The Maine Spaniel Field Trial Club regrets to inform you that we will NOT be holding a fall field trial. We will see everyone in 2021.
URL:https://essft.com/event/maine-spaniel-field-trial-club-5/
CATEGORIES:Field Trials - East
END:VEVENT
BEGIN:VEVENT
DTSTART;TZID=America/Chicago:20200905T000000
DTEND;TZID=America/Chicago:20200905T000000
DTSTAMP:20260423T020838
CREATED:20250612T034030Z
LAST-MODIFIED:20250612T034030Z
UID:10010257-1599264000-1599264000@essft.com
SUMMARY:Puget Sound English Springer Spaniel Assoc. AKC Hunt Test for Spaniels
DESCRIPTION:Entries Close: Tuesday\, August 25\, 2020 11:59:59 PM Eastern Time(ET) on Hunt Secretary \nThis is a 4 day hunt test put on by 4 clubs. \nAll have location changes.  Puget and WW have added a set of judges in Junior only. \nPuget \nhttps://www.huntsecretary.com/premiumakc.asp?mhuntid=1004029 \nCSCA \nhttps://www.huntsecretary.com/premiumakc.asp?mhuntid=1004027 \nWWESSC \nhttps://www.huntsecretary.com/premiumakc.asp?mhuntid=1004032
URL:https://essft.com/event/puget-sound-english-springer-spaniel-assoc-akc-hunt-test-for-spaniels/
CATEGORIES:Hunt Tests
ORGANIZER;CN="Kathy Stermolle":MAILTO:stermolle@yahoo.com
END:VEVENT
BEGIN:VEVENT
DTSTART;TZID=America/Chicago:20200903T000000
DTEND;TZID=America/Chicago:20200905T000000
DTSTAMP:20260423T020838
CREATED:20250612T033830Z
LAST-MODIFIED:20250612T033830Z
UID:10010253-1599091200-1599264000@essft.com
SUMMARY:Prairie Spaniel Club
DESCRIPTION:https://www.dogshow.ca/en/2433?club=Prairie-Spaniel-Club
URL:https://essft.com/event/prairie-spaniel-club-3/
CATEGORIES:Canadian FT
END:VEVENT
BEGIN:VEVENT
DTSTART;TZID=America/Chicago:20200829T000000
DTEND;TZID=America/Chicago:20200830T000000
DTSTAMP:20260423T020838
CREATED:20250612T033830Z
LAST-MODIFIED:20250612T033830Z
UID:10010252-1598659200-1598745600@essft.com
SUMMARY:Cocker: North Dakota Sporting Spaniel Club
DESCRIPTION:Entries Close: Tuesday\, August 18\, 2020 11:59:59 PM Eastern Time(ET) on Hunt Secretary \nJudges: Larry Hansen and Kevin Martineau
URL:https://essft.com/event/cocker-north-dakota-sporting-spaniel-club-4/
CATEGORIES:Cocker Trial
END:VEVENT
BEGIN:VEVENT
DTSTART;TZID=America/Chicago:20200822T000000
DTEND;TZID=America/Chicago:20200823T000000
DTSTAMP:20260423T020838
CREATED:20250612T033830Z
LAST-MODIFIED:20250612T033830Z
UID:10010251-1598054400-1598140800@essft.com
SUMMARY:Northwest English Springer Spaniel Club Hunt Tests
DESCRIPTION:
URL:https://essft.com/event/northwest-english-springer-spaniel-club-hunt-tests/
LOCATION:Luckiamute Valley Pheasants\, Monmouth\, OR\, USA\, Monmouth\, Oregon\, United States
CATEGORIES:Hunt Tests
GEO:44.848452;-123.233989
X-APPLE-STRUCTURED-LOCATION;VALUE=URI;X-ADDRESS=Luckiamute Valley Pheasants Monmouth OR USA Monmouth Oregon United States;X-APPLE-RADIUS=500;X-TITLE=Monmouth\, OR\, USA:geo:-123.233989,44.848452
END:VEVENT
BEGIN:VEVENT
DTSTART;TZID=America/Chicago:20200808T000000
DTEND;TZID=America/Chicago:20200809T000000
DTSTAMP:20260423T020839
CREATED:20250612T033630Z
LAST-MODIFIED:20250612T033630Z
UID:10010250-1596844800-1596931200@essft.com
SUMMARY:Southern Tier Field Trial Association\, Inc.  Hunt Tests
DESCRIPTION:Entries Close:  Tuesday\, July 28\, 2020 11:59:59 PM Eastern Time(ET) on Hunt Secretary \n7/20/20 – No Lunch available.  See new premium. \n 
URL:https://essft.com/event/southern-tier-field-trial-association-inc-hunt-tests/
LOCATION:Sunrise Kennels\, 6600 Co Rd 69\, Canisteo\, NY 14823\, USA\, Canisteo\, New York\, 14823\, United States
CATEGORIES:Hunt Tests
GEO:42.321777;-77.460261
X-APPLE-STRUCTURED-LOCATION;VALUE=URI;X-ADDRESS=Sunrise Kennels 6600 Co Rd 69 Canisteo NY 14823 USA Canisteo New York 14823 United States;X-APPLE-RADIUS=500;X-TITLE=6600 Co Rd 69\, Canisteo\, NY 14823\, USA:geo:-77.460261,42.321777
END:VEVENT
BEGIN:VEVENT
DTSTART;TZID=America/Chicago:20200808T000000
DTEND;TZID=America/Chicago:20200808T000000
DTSTAMP:20260423T020839
CREATED:20250612T033630Z
LAST-MODIFIED:20250612T033630Z
UID:10010248-1596844800-1596844800@essft.com
SUMMARY:Central States ESS Club - Water Test
DESCRIPTION:Dear Fellow Trialers: \nThe ESS Club of the Central States invites you to a springer spaniel water test and training session.  \nSaturday August 8\, 2020  at DANSMIRTH KENNELS\, 17109 Lincoln Rd Harvard\, IL 60033 \nTraining to start at 8AM \, Water test to start not before 12:00 Noon. \nTraining birds will be available for purchase (pheasants) \nFood: **Change of Plans: Please provide your own lunch. \n                                       We will have water and Gatorade.  \n\n  \nHotels: \nHeritage Inn and Suites 1701 S Division St\, Harvard\, IL 60033 \n815-943-0700  Pet-Friendly (2nd Floor Only) \n  \nSuper 8   1220 Davis Road\, Woodstock\, IL 60098 \n815-337-8808 \n  \nSuper 8  11200 N US Rte 12\, Richmond\, IL 60071 \n815-678-4711 \nBoth Super 8 Motels are pet-friendly. \n  \nWe look forward to seeing you there!  If you have questions email or call. \nLisa Schmeling                                    Kurt Gerlach \nField Trial Secretary                           Chairman \nlmschmeling@gmail.com          kurt.gerlach@hoffmanestates.org \n414-510-9800                                      224-281-8891 \n  \n\n		\n			\n			\n		\n\n		\n  \nCentralStates 2020 WaterTest Fillable Entry in MS WORD \n\n		\n			\n			\n		\n\n		\n 
URL:https://essft.com/event/central-states-ess-club-water-test/
LOCATION:Dansmirth Kennels\, 17109 Lincoln Rd\, Harvard\, IL 60033\, USA\, Harvard\, Illinois\, 60033\, United States
CATEGORIES:Water Test
END:VEVENT
BEGIN:VEVENT
DTSTART;TZID=America/Chicago:20200808T000000
DTEND;TZID=America/Chicago:20200808T000000
DTSTAMP:20260423T020839
CREATED:20250612T033630Z
LAST-MODIFIED:20250612T033630Z
UID:10010249-1596844800-1596844800@essft.com
SUMMARY:Gunning Seminar for Springers and Cockers Sponsored by Northern MN ESS Club
DESCRIPTION:Seminar is August 8\, 2020 start time 8:30 am. Completion time late afternoon \nCost:  $75  Mail check made out to NMESSC or bring with on day of registration.  Includes seminar and lunch \nChecks can be mailed to: Pine Shadows\, 14752 Three Mile Road Brainerd\, MN 56401 \nOr bring check or cash on the day of the seminar. \nPlease let me know if you plan on coming. You can email this information to mark@pineshadows.com \n 
URL:https://essft.com/event/gunning-seminar-for-springers-and-cockers-sponsored-by-northern-mn-ess-club/
CATEGORIES:Gunning Seminars
END:VEVENT
BEGIN:VEVENT
DTSTART;TZID=America/Chicago:20200725T000000
DTEND;TZID=America/Chicago:20200725T000000
DTSTAMP:20260423T020839
CREATED:20250612T033630Z
LAST-MODIFIED:20250612T033630Z
UID:10010247-1595635200-1595635200@essft.com
SUMMARY:ESS & Cocker Water Tests - Northwest English Springer Spaniel Club
DESCRIPTION:Dear Fellow Field Trialers\, \nThe Northwest English Springer Spaniel Club is pleased to invite you to an AKC Licensed Springer Spaniel and Cocker Water Test and training session to be held on July 25\, 2020 in North Plains\, OR. We are very pleased to have Jerry Light and Bob Willis\, both from Oregon\, as our judges. \nTraining to start at 8am at Janet Christensen’s Farm\, 33940 NW Mountaindale Rd\, North Plains\, OR. Training birds (pheasants) will be available for purchase for $8.00. You are free to air dogs at the training grounds. \nWater Test to start not before 1pm at Krueger’s Pond\, 21001 NW Dairy Creek Rd\, North Plains\, OR. Ducks will be used for the water test. All non-Springer Spaniel breeds may also use the water test as training but are not eligible for a water test completion certificate. They will run after the official water test. Cost is $25 and payable the day of the test. Please let the FT Secretary know in advance that you wish to participate so we can plan accordingly. Dogs are NOT allowed to run freely at the water test grounds and must be kept on a leash at all times unless under judgement during the water test. \nNo food will be served at training or water test. \nWe will be following AKC’s COVID-19 Suggested Best Practices for Spaniel Field Trials. \nDirections to training from OR US-26:\nTake exit 55 and head north on NW Dersham Rd. Continue approximately 1 mile to 33940 NW Mountaindale Rd on left (Dersham turns into Mountaindale). \nDirections to water test from training:\nHead north on Mountaindale Rd approximately 1.1 miles to Dairycreek Rd. Turn right and continue approximately 3.5 miles to 21001 NW Dairy Creek Rd on left. \nWe look forward to seeing you there! \nPaula Mazurek\nFT Secretary\nmtmyst@cablespeed.com \n 
URL:https://essft.com/event/ess-cocker-water-tests-northwest-english-springer-spaniel-club/
CATEGORIES:Water Test
END:VEVENT
BEGIN:VEVENT
DTSTART;TZID=America/Chicago:20200725T000000
DTEND;TZID=America/Chicago:20200725T000000
DTSTAMP:20260423T020839
CREATED:20250612T033629Z
LAST-MODIFIED:20250612T033629Z
UID:10010246-1595635200-1595635200@essft.com
SUMMARY:Field Trial Judging Seminar - Northern MN ESS Club & Pine Shadows
DESCRIPTION:Seminar is July 25\, 2020 start time 8:30 am.  Completion time late afternoon \nCost:  $75  Mail check made out to NMESSC or bring with on day of registration.  Includes seminar and lunch \nChecks can be mailed to: \nPine Shadows\, 14752 Three Mile Road Brainerd\, MN 56401 \nOr bring check or cash on the day of the seminar. \nPlease let me know if you plan on coming. You can email this information to mark@pineshadows.com
URL:https://essft.com/event/field-trial-judging-seminar-northern-mn-ess-club-pine-shadows/
CATEGORIES:Judging Seminar
END:VEVENT
BEGIN:VEVENT
DTSTART;TZID=America/Chicago:20200724T000000
DTEND;TZID=America/Chicago:20200726T000000
DTSTAMP:20260423T020839
CREATED:20250612T033430Z
LAST-MODIFIED:20250612T033430Z
UID:10010245-1595548800-1595721600@essft.com
SUMMARY:Calgary English Springer Spaniel Club Inc
DESCRIPTION:https://www.dogshow.ca/en/2432?club=Calgary-English-Springer-Spaniel-Club-Inc. \n  \nTHE FOLLOWING COVID 19 PROTOCOLS WILL BE IN PLACE\nThe Calgary English Springer Spaniel Club will be initiating the following protocols for the\nCOVID-19 virus to be followed for their July 24th\, 25th and 26th field trial which include the\nfollowing:\n1) Spectators for the gallery limited to family or a few friends of the dog on the line.\n2) The gallery of spectators to social distance and stay single file.\n3) Limit the number of volunteer workers in the field to as few as possible (i.e. one\nmarshal\, 2 handlers\, 4 gunners\, 2 judges\, with no shaggers being used). Handlers will\nbe required to carry their own birds to the bird storage area.\n4) Requiring participants/handlers to stay in or near their vehicle or trailers until they are\ninvited to compete at the line to minimize the gallery size.\n5) Requiring participants/handlers to stay single file with a safe social distance between\neach other.\n6) Not allowing more than two (2) people to congregate in close physical proximity to\nenclosed side by side vehicles or trailers.\n7) No awards ceremony – placements and call backs to be broadcast via radio\n8) No lunch is provided. Attendees are required to arrange their own meals & requested\nto eat at your own trailer/vehicle.\n9) Hand sanitizer and cleaning wipes will be provided \nAll participants must sign in at the field trial tent\, and record their temperature and\nanswer the following questionnaire each day of the trial. This is to address condition of\nnew arrivals and any overnight symptom changes.\n1. Fever or cough in the last 3 weeks that has prevented them from working per their\ncorporate occupational health requirements.\n2. Quarantined by a health care provider in the 21 days.\n3. Current cough of fever or any other symptoms of a viral infection per Alberta\ngovernment guidelines for COVID-19 symptoms.\nAny participant that meets the following criteria will not be allowed to participate or be\npresent at the field trial.
URL:https://essft.com/event/calgary-english-springer-spaniel-club-inc-4/
CATEGORIES:Canadian FT
END:VEVENT
BEGIN:VEVENT
DTSTART;TZID=America/Chicago:20200704T000000
DTEND;TZID=America/Chicago:20200704T000000
DTSTAMP:20260423T020839
CREATED:20250612T033430Z
LAST-MODIFIED:20250612T033430Z
UID:10010244-1593820800-1593820800@essft.com
SUMMARY:Independence Day
DESCRIPTION:
URL:https://essft.com/event/independence-day-2/
CATEGORIES:Holidays
END:VEVENT
BEGIN:VEVENT
DTSTART;TZID=America/Chicago:20200626T000000
DTEND;TZID=America/Chicago:20200628T000000
DTSTAMP:20260423T020839
CREATED:20250612T033430Z
LAST-MODIFIED:20250612T033430Z
UID:10010243-1593129600-1593302400@essft.com
SUMMARY:Central Virginia English Springer Spaniel Club 2 Trials!
DESCRIPTION:Entries Close: Monday\, June 15\, 2020 11:59:59 PM Eastern Time(ET) on Hunt Secretary \nJudges: Brent LeMaster and Richard Whalen  NEW JUDGE:  CHUCK URLAND
URL:https://essft.com/event/central-virginia-english-springer-spaniel-club-2-trials/
CATEGORIES:Field Trials - East
END:VEVENT
END:VCALENDAR