BEGIN:VCALENDAR
VERSION:2.0
PRODID:-//English Springer Spaniel Field Trials - ECPv6.15.20//NONSGML v1.0//EN
CALSCALE:GREGORIAN
METHOD:PUBLISH
X-WR-CALNAME:English Springer Spaniel Field Trials
X-ORIGINAL-URL:https://essft.com
X-WR-CALDESC:Events for English Springer Spaniel Field Trials
REFRESH-INTERVAL;VALUE=DURATION:PT1H
X-Robots-Tag:noindex
X-PUBLISHED-TTL:PT1H
BEGIN:VTIMEZONE
TZID:America/Chicago
BEGIN:DAYLIGHT
TZOFFSETFROM:-0600
TZOFFSETTO:-0500
TZNAME:CDT
DTSTART:20180311T080000
END:DAYLIGHT
BEGIN:STANDARD
TZOFFSETFROM:-0500
TZOFFSETTO:-0600
TZNAME:CST
DTSTART:20181104T070000
END:STANDARD
BEGIN:DAYLIGHT
TZOFFSETFROM:-0600
TZOFFSETTO:-0500
TZNAME:CDT
DTSTART:20190310T080000
END:DAYLIGHT
BEGIN:STANDARD
TZOFFSETFROM:-0500
TZOFFSETTO:-0600
TZNAME:CST
DTSTART:20191103T070000
END:STANDARD
BEGIN:DAYLIGHT
TZOFFSETFROM:-0600
TZOFFSETTO:-0500
TZNAME:CDT
DTSTART:20200308T080000
END:DAYLIGHT
BEGIN:STANDARD
TZOFFSETFROM:-0500
TZOFFSETTO:-0600
TZNAME:CST
DTSTART:20201101T070000
END:STANDARD
BEGIN:DAYLIGHT
TZOFFSETFROM:-0600
TZOFFSETTO:-0500
TZNAME:CDT
DTSTART:20210314T080000
END:DAYLIGHT
BEGIN:STANDARD
TZOFFSETFROM:-0500
TZOFFSETTO:-0600
TZNAME:CST
DTSTART:20211107T070000
END:STANDARD
END:VTIMEZONE
BEGIN:VEVENT
DTSTART;TZID=America/Chicago:20200222T000000
DTEND;TZID=America/Chicago:20200223T000000
DTSTAMP:20260423T015110
CREATED:20250612T031529Z
LAST-MODIFIED:20250612T031529Z
UID:10010166-1582329600-1582416000@essft.com
SUMMARY:COCKER: Wateree Spaniel Club
DESCRIPTION:
URL:https://essft.com/event/cocker-wateree-spaniel-club-2/
CATEGORIES:Cocker Trial
END:VEVENT
BEGIN:VEVENT
DTSTART;TZID=America/Chicago:20200222T000000
DTEND;TZID=America/Chicago:20200223T000000
DTSTAMP:20260423T015110
CREATED:20250612T031529Z
LAST-MODIFIED:20250612T031529Z
UID:10010167-1582329600-1582416000@essft.com
SUMMARY:Central Maine Springer Spaniel Club Trial #1
DESCRIPTION:Entries Close: Tuesday\, February 11\, 2020 11:59:59 PM Eastern Time(ET) on  Hunt Secretary \nJudges: Kathy Nestor and Richard Paquin
URL:https://essft.com/event/central-maine-springer-spaniel-club-trial-1/
CATEGORIES:Field Trials - East
END:VEVENT
BEGIN:VEVENT
DTSTART;TZID=America/Chicago:20200222T000000
DTEND;TZID=America/Chicago:20200223T000000
DTSTAMP:20260423T015110
CREATED:20250612T031529Z
LAST-MODIFIED:20250612T031529Z
UID:10010168-1582329600-1582416000@essft.com
SUMMARY:Chattahoochee English Springer Spaniel Club of Greater Atlanta\, Inc.
DESCRIPTION:Entries Close: Tuesday\, February 11\, 2020 11:59:59 PM Eastern Time(ET) on Hunt Secretary
URL:https://essft.com/event/chattahoochee-english-springer-spaniel-club-of-greater-atlanta-inc/
LOCATION:Louter Creek\, 387 Hines Rd\, Moreland\, GA 30259\, USA\, Moreland\, Georgia\, 30259\, United States
CATEGORIES:Hunt Tests
GEO:33.235352;-84.723612
X-APPLE-STRUCTURED-LOCATION;VALUE=URI;X-ADDRESS=Louter Creek 387 Hines Rd Moreland GA 30259 USA Moreland Georgia 30259 United States;X-APPLE-RADIUS=500;X-TITLE=387 Hines Rd\, Moreland\, GA 30259\, USA:geo:-84.723612,33.235352
END:VEVENT
BEGIN:VEVENT
DTSTART;TZID=America/Chicago:20200222T000000
DTEND;TZID=America/Chicago:20200223T000000
DTSTAMP:20260423T015110
CREATED:20250612T031328Z
LAST-MODIFIED:20250612T031328Z
UID:10010164-1582329600-1582416000@essft.com
SUMMARY:Southern California Sporting Spaniel Club
DESCRIPTION:Entries Close: Tuesday\, February 11\, 2020 11:59:59 PM Eastern Time(ET) on Hunt Secretary \nJudges: Mhari Peschel and Lynn Miller\n 
URL:https://essft.com/event/southern-california-sporting-spaniel-club-5/
CATEGORIES:Field Trials - West
END:VEVENT
BEGIN:VEVENT
DTSTART;TZID=America/Chicago:20200222T000000
DTEND;TZID=America/Chicago:20200223T000000
DTSTAMP:20260423T015110
CREATED:20250612T031328Z
LAST-MODIFIED:20250612T031328Z
UID:10010165-1582329600-1582416000@essft.com
SUMMARY:COCKER: Southern California ESS Club
DESCRIPTION:
URL:https://essft.com/event/cocker-southern-california-ess-club/
CATEGORIES:Cocker Trial
END:VEVENT
BEGIN:VEVENT
DTSTART;TZID=America/Chicago:20200222T000000
DTEND;TZID=America/Chicago:20200223T000000
DTSTAMP:20260423T015110
CREATED:20250612T031328Z
LAST-MODIFIED:20250612T031328Z
UID:10010163-1582329600-1582416000@essft.com
SUMMARY:Missouri Hunting Spaniel Club
DESCRIPTION:Entries Close: Tuesday\, February 11\, 2020 11:59:59 PM Eastern Time(ET) on Hunt Secretary \nJudges: Brian Bilotta and Jim O’Keefe
URL:https://essft.com/event/missouri-hunting-spaniel-club-13/
CATEGORIES:Field Trials - Rocky Mountain
END:VEVENT
BEGIN:VEVENT
DTSTART;TZID=America/Chicago:20200222T000000
DTEND;TZID=America/Chicago:20200222T000000
DTSTAMP:20260423T015110
CREATED:20250612T031529Z
LAST-MODIFIED:20250612T031529Z
UID:10010169-1582329600-1582329600@essft.com
SUMMARY:Gunning Seminar for Spaniel Field Trials and Hunt Tests
DESCRIPTION:Sponsored by the Cocker Spaniel Field Trial Club of America \nInstructed by Morgan Haglin\, Safety Chairman and George Akkouris\, Eastern Safety Chair \n  \nThe morning will consist of classroom orientation and overview of the gunner’s duties\, functions and gun safety. \nThe afternoon will give everyone the opportunity to see this information applied to actual field situations utilizing Spaniels running in braces. \nPlease wear appropriate field clothing and footwear\, including an item of Blaze Orange clothing!!! \nAll interested individuals are welcome to attend\, even if they do not intend to gun trials or tests.  The information will provide an insight in to the nuances of gunning an event. \n  \nReserve your spot by mailing advance payment  and registration form to:\nCSFTCA\, Mary Lackey \n262 Davis Road \nSalt Point\, NY  12578
URL:https://essft.com/event/gunning-seminar-for-spaniel-field-trials-and-hunt-tests/
LOCATION:Mid County Rod and Gun Club\, 650 Waterbury Hill Rd\, Lagrangeville\, NY 12540\, USA\, Lagrangeville\, New York\, 12540\, United States
CATEGORIES:Gunning Seminars
GEO:41.69856;-73.706758
X-APPLE-STRUCTURED-LOCATION;VALUE=URI;X-ADDRESS=Mid County Rod and Gun Club 650 Waterbury Hill Rd Lagrangeville NY 12540 USA Lagrangeville New York 12540 United States;X-APPLE-RADIUS=500;X-TITLE=650 Waterbury Hill Rd\, Lagrangeville\, NY 12540\, USA:geo:-73.706758,41.69856
END:VEVENT
BEGIN:VEVENT
DTSTART;TZID=America/Chicago:20200217T000000
DTEND;TZID=America/Chicago:20200217T000000
DTSTAMP:20260423T015110
CREATED:20250612T031327Z
LAST-MODIFIED:20250612T031327Z
UID:10010161-1581897600-1581897600@essft.com
SUMMARY:President's Day
DESCRIPTION:
URL:https://essft.com/event/presidents-day-2/
END:VEVENT
BEGIN:VEVENT
DTSTART;TZID=America/Chicago:20200217T000000
DTEND;TZID=America/Chicago:20200217T000000
DTSTAMP:20260423T015110
CREATED:20250612T031327Z
LAST-MODIFIED:20250612T031327Z
UID:10010162-1581897600-1581897600@essft.com
SUMMARY:San Fernando Valley Springer Spaniel Club
DESCRIPTION:Entries Close: Wednesday\, February 5\, 2020 with the FTS.  Email entries will be accepted but entry fees must be paid prior to the trial.  \nNicoal Quinn\, FTS \n3001 Bridgeway 193 \nSausalito\, CA94965 \nemail: Quinn.npq@gmail.com \n  \nJudges:  Nick Campanelli and Greg Royer
URL:https://essft.com/event/san-fernando-valley-springer-spaniel-club-3/
LOCATION:Kincade Wildlife Management Area\, Porterville\, CA 93257\, USA\, Porterville\, California\, 93257\, United States
CATEGORIES:Field Trials - West
GEO:36.057532;-118.99131
X-APPLE-STRUCTURED-LOCATION;VALUE=URI;X-ADDRESS=Kincade Wildlife Management Area Porterville CA 93257 USA Porterville California 93257 United States;X-APPLE-RADIUS=500;X-TITLE=Porterville\, CA 93257\, USA:geo:-118.99131,36.057532
END:VEVENT
BEGIN:VEVENT
DTSTART;TZID=America/Chicago:20200215T000000
DTEND;TZID=America/Chicago:20200216T000000
DTSTAMP:20260423T015110
CREATED:20250612T031128Z
LAST-MODIFIED:20250612T031128Z
UID:10010157-1581724800-1581811200@essft.com
SUMMARY:Arrowhead ESS Club
DESCRIPTION:Entries Close: Wednesday\, February 5\, 2020 with the FTS.  Email entries will be accepted but entry fees must be paid prior to the trial.  \nNicoal Quinn\, FTS \n3001 Bridgeway 193 \nSausalito\, CA94965 \nemail: Quinn.npq@gmail.com \n  \nJudges:  Tom Nabity and Mike Wallace\n\n		\n			\n			\n		\n\n		\n 
URL:https://essft.com/event/arrowhead-ess-club-4/
LOCATION:Kincade Wildlife Management Area\, Porterville\, CA 93257\, USA\, Porterville\, California\, 93257\, United States
CATEGORIES:Field Trials - West
GEO:36.057532;-118.99131
X-APPLE-STRUCTURED-LOCATION;VALUE=URI;X-ADDRESS=Kincade Wildlife Management Area Porterville CA 93257 USA Porterville California 93257 United States;X-APPLE-RADIUS=500;X-TITLE=Porterville\, CA 93257\, USA:geo:-118.99131,36.057532
END:VEVENT
BEGIN:VEVENT
DTSTART;TZID=America/Chicago:20200215T000000
DTEND;TZID=America/Chicago:20200216T000000
DTSTAMP:20260423T015110
CREATED:20250612T031128Z
LAST-MODIFIED:20250612T031128Z
UID:10010158-1581724800-1581811200@essft.com
SUMMARY:Stillwater Valley ESSC 2020 Spring ESS Field Trial
DESCRIPTION:Entries Close: Tuesday\, February 4\, 2020 11:59:59 PM Eastern Time(ET) on Hunt Secretary \nJudges: Chad Betts and Rumi Schroeder
URL:https://essft.com/event/stillwater-valley-essc-2020-spring-ess-field-trial/
LOCATION:Beelman Farm\, 2192 Co Rd 21\, De Graff\, OH 43318\, USA\, De Graff\, Ohio\, 43318\, United States
CATEGORIES:Field Trials - Mid East
GEO:40.36598;-83.944001
X-APPLE-STRUCTURED-LOCATION;VALUE=URI;X-ADDRESS=Beelman Farm 2192 Co Rd 21 De Graff OH 43318 USA De Graff Ohio 43318 United States;X-APPLE-RADIUS=500;X-TITLE=2192 Co Rd 21\, De Graff\, OH 43318\, USA:geo:-83.944001,40.36598
END:VEVENT
BEGIN:VEVENT
DTSTART;TZID=America/Chicago:20200215T000000
DTEND;TZID=America/Chicago:20200216T000000
DTSTAMP:20260423T015110
CREATED:20250612T031128Z
LAST-MODIFIED:20250612T031128Z
UID:10010159-1581724800-1581811200@essft.com
SUMMARY:Houston ESSC Spaniel Hunt Test Feb 2020
DESCRIPTION:Entries Close: Tuesday\, February 4\, 2020 11:59:59 PM Eastern Time(ET) on Hunt Secretary \n 
URL:https://essft.com/event/houston-essc-spaniel-hunt-test-feb-2020/
LOCATION:Springer Creek Ranch\, 4918 FM1374\, Huntsville\, TX 77340\, USA\, Huntsville\, Texas\, 77340\, United States
CATEGORIES:Hunt Tests
GEO:30.613039;-95.621861
X-APPLE-STRUCTURED-LOCATION;VALUE=URI;X-ADDRESS=Springer Creek Ranch 4918 FM1374 Huntsville TX 77340 USA Huntsville Texas 77340 United States;X-APPLE-RADIUS=500;X-TITLE=4918 FM1374\, Huntsville\, TX 77340\, USA:geo:-95.621861,30.613039
END:VEVENT
BEGIN:VEVENT
DTSTART;TZID=America/Chicago:20200215T000000
DTEND;TZID=America/Chicago:20200216T000000
DTSTAMP:20260423T015110
CREATED:20250612T031128Z
LAST-MODIFIED:20250612T031128Z
UID:10010160-1581724800-1581811200@essft.com
SUMMARY:COCKER: Stillwater Valley ESSC 2020 Spring COCKER Trial
DESCRIPTION:Entries Close: Tuesday\, February 4\, 2020 11:59:59 PM Eastern Time(ET) on Hunt Secretary \nJudges:  George Kittle and Chad Betts
URL:https://essft.com/event/cocker-stillwater-valley-essc-2020-spring-cocker-trial/
LOCATION:Beelman Farm\, 2192 Co Rd 21\, De Graff\, OH 43318\, USA\, De Graff\, Ohio\, 43318\, United States
CATEGORIES:Cocker Trial
GEO:40.36598;-83.944001
X-APPLE-STRUCTURED-LOCATION;VALUE=URI;X-ADDRESS=Beelman Farm 2192 Co Rd 21 De Graff OH 43318 USA De Graff Ohio 43318 United States;X-APPLE-RADIUS=500;X-TITLE=2192 Co Rd 21\, De Graff\, OH 43318\, USA:geo:-83.944001,40.36598
END:VEVENT
BEGIN:VEVENT
DTSTART;TZID=America/Chicago:20200208T000000
DTEND;TZID=America/Chicago:20200209T000000
DTSTAMP:20260423T015110
CREATED:20250612T031127Z
LAST-MODIFIED:20250612T031127Z
UID:10010156-1581120000-1581206400@essft.com
SUMMARY:COCKER:  Stockton ESSTC
DESCRIPTION:Fellow Field Trial Competitors and Enthusiasts\, \nThe Stockton English Springer Spaniel Training Club (SESSTC) is pleased to invite you to our  Field Triald to be held on Feb 8th and 9th\, 2020 at Clear Creek Ranch in Corning\, CA 96021. The Cocker Open FT will be held on Feb 8th\, 2020 and another Cocker Open FT will be held on Feb 9th\, 2020. In addition\, the Club will be hosting the English Springer Spaniel FTs (Open and Amateur) concurrently both days\, alternating Cockers and then ESS. The Puppy portion of the Cocker and ESS field trials will be held on Feb 8th\, 2020. \nThe Cocker FT premium  https://www.huntsecretary.com/eventinfo_A.asp?mhuntid=1003666 \nThe ESS FT premium      https://www.huntsecretary.com/eventinfo_A.asp?mhuntid=1003667 \nOpen/Amateur Judges: Dominique Savoie and David Anderson\nPuppy Judges: Gordon Johnson and Renee Shannon \nWe hope to see you there. \nJackie Lovette: Cocker Field Trial Secretary\nPhone: (206) 799-1174\njacquelinelovette@gmail.com \n  \nSuzanne Woll: ESS Field Trial Secretary \nPhone: (860) 462-1791 \nirishcreamwss@gmail.com
URL:https://essft.com/event/cocker-stockton-esstc/
CATEGORIES:Cocker Trial
END:VEVENT
BEGIN:VEVENT
DTSTART;TZID=America/Chicago:20200208T000000
DTEND;TZID=America/Chicago:20200209T000000
DTSTAMP:20260423T015110
CREATED:20250612T030928Z
LAST-MODIFIED:20250612T030928Z
UID:10010155-1581120000-1581206400@essft.com
SUMMARY:Stockton ESS Training Club
DESCRIPTION:Entries Close: Tuesday\, January 28\, 2020 11:59:59 PM Eastern Time(ET) on Hunt Secretary \nJudges:  David Anderson and Dominique Savoie
URL:https://essft.com/event/stockton-ess-training-club-4/
LOCATION:Clear Creek Ranch
CATEGORIES:Field Trials - West
END:VEVENT
BEGIN:VEVENT
DTSTART;TZID=America/Chicago:20200207T000000
DTEND;TZID=America/Chicago:20200208T000000
DTSTAMP:20260423T015111
CREATED:20250612T030928Z
LAST-MODIFIED:20250612T030928Z
UID:10010154-1581033600-1581120000@essft.com
SUMMARY:Hall of Fame Trial #2  (Volunteer English Springer Spaniel Club)
DESCRIPTION:Entries Close: Monday\, January 27\, 2020 11:59:59 PM Eastern Time(ET)  Hunt Secretary \nJudges: David Sandford and Dean Koehler\nNote:  You may order your banquet meal and training birds online when you enter the event.
URL:https://essft.com/event/hall-of-fame-trial-2-volunteer-english-springer-spaniel-club-2/
CATEGORIES:Field Trials - Rocky Mountain
END:VEVENT
BEGIN:VEVENT
DTSTART;TZID=America/Chicago:20200205T000000
DTEND;TZID=America/Chicago:20200206T000000
DTSTAMP:20260423T015111
CREATED:20250612T030927Z
LAST-MODIFIED:20250612T030927Z
UID:10010153-1580860800-1580947200@essft.com
SUMMARY:Hall of Fame #1 (Volunteer English Springer Spaniel Club)
DESCRIPTION:Entries Close: Monday\, January 27\, 2020 11:59:59 PM Eastern Time(ET) on Hunt Secretary \nJudges: Jason Givens and Tom Motley\nNote:  You may order your banquet meal and training birds online when you enter the event.
URL:https://essft.com/event/hall-of-fame-1-volunteer-english-springer-spaniel-club/
CATEGORIES:Field Trials - Rocky Mountain
END:VEVENT
BEGIN:VEVENT
DTSTART;TZID=America/Chicago:20200125T000000
DTEND;TZID=America/Chicago:20200126T000000
DTSTAMP:20260423T015111
CREATED:20250612T030927Z
LAST-MODIFIED:20250612T030927Z
UID:10010151-1579910400-1579996800@essft.com
SUMMARY:English Springer Spaniel Club of Southern California - ESS Trial
DESCRIPTION:Entries Close: Tuesday\, January 14\, 2020 11:59:59 PM Eastern Time(ET) on Hunt Secretary \nJudges:  Brent Blundell and Dan Murray
URL:https://essft.com/event/english-springer-spaniel-club-of-southern-california-ess-trial/
CATEGORIES:Field Trials - West
END:VEVENT
BEGIN:VEVENT
DTSTART;TZID=America/Chicago:20200125T000000
DTEND;TZID=America/Chicago:20200126T000000
DTSTAMP:20260423T015111
CREATED:20250612T030927Z
LAST-MODIFIED:20250612T030927Z
UID:10010152-1579910400-1579996800@essft.com
SUMMARY:COCKER: English Springer Spaniel Club of Southern California
DESCRIPTION:Entries Close: Tuesday\, January 14\, 2020 11:59:59 PM Eastern Time(ET) on Hunt Secretary \n\n		\n			\n			\n		\n\n		\n 
URL:https://essft.com/event/cocker-english-springer-spaniel-club-of-southern-california/
LOCATION:Kincade Wildlife Management Area\, Porterville\, CA 93257\, USA\, Porterville\, California\, 93257\, United States
CATEGORIES:Cocker Trial
GEO:36.057532;-118.99131
X-APPLE-STRUCTURED-LOCATION;VALUE=URI;X-ADDRESS=Kincade Wildlife Management Area Porterville CA 93257 USA Porterville California 93257 United States;X-APPLE-RADIUS=500;X-TITLE=Porterville\, CA 93257\, USA:geo:-118.99131,36.057532
END:VEVENT
BEGIN:VEVENT
DTSTART;TZID=America/Chicago:20200125T000000
DTEND;TZID=America/Chicago:20200126T000000
DTSTAMP:20260423T015111
CREATED:20250612T030912Z
LAST-MODIFIED:20250612T030913Z
UID:10010150-1579910400-1579996800@essft.com
SUMMARY:Houston English Springer Spaniel Club
DESCRIPTION:Entries Close: Tuesday\, January 14\, 2020 at 11:59 P.M. Eastern Time(ET) on Hunt Secretary \nJudges:  John Wright and Joe Coady\n  \n\n		\n			\n			\n		\n\n		\n 
URL:https://essft.com/event/houston-english-springer-spaniel-club-7-2/
LOCATION:Springer Creek Ranch\, 4918 FM1374\, Huntsville\, TX 77340\, USA\, Huntsville\, Texas\, 77340\, United States
CATEGORIES:Field Trials - Rocky Mountain
GEO:30.613039;-95.621861
X-APPLE-STRUCTURED-LOCATION;VALUE=URI;X-ADDRESS=Springer Creek Ranch 4918 FM1374 Huntsville TX 77340 USA Huntsville Texas 77340 United States;X-APPLE-RADIUS=500;X-TITLE=4918 FM1374\, Huntsville\, TX 77340\, USA:geo:-95.621861,30.613039
END:VEVENT
BEGIN:VEVENT
DTSTART;TZID=America/Chicago:20200123T000000
DTEND;TZID=America/Chicago:20200124T000000
DTSTAMP:20260423T015111
CREATED:20250612T030912Z
LAST-MODIFIED:20250612T030913Z
UID:10010149-1579737600-1579824000@essft.com
SUMMARY:Southeast Texas English Springer Spaniel Club
DESCRIPTION:Entries Close: Tuesday\, January 14\, 2020 11:59:59 PM Eastern Time(ET) on Hunt Secretary \nJudges: Jeff Johanns\, MN\, and Ryan Lamberg\, MN\n  \n\n		\n			\n			\n		\n\n		\n 
URL:https://essft.com/event/southeast-texas-english-springer-spaniel-club-3-2/
LOCATION:Springer Creek Ranch\, 4918 FM1374\, Huntsville\, TX 77340\, USA\, Huntsville\, Texas\, 77340\, United States
CATEGORIES:Field Trials - Rocky Mountain
GEO:30.613039;-95.621861
X-APPLE-STRUCTURED-LOCATION;VALUE=URI;X-ADDRESS=Springer Creek Ranch 4918 FM1374 Huntsville TX 77340 USA Huntsville Texas 77340 United States;X-APPLE-RADIUS=500;X-TITLE=4918 FM1374\, Huntsville\, TX 77340\, USA:geo:-95.621861,30.613039
END:VEVENT
BEGIN:VEVENT
DTSTART;TZID=America/Chicago:20200120T000000
DTEND;TZID=America/Chicago:20200120T000000
DTSTAMP:20260423T015111
CREATED:20250612T030912Z
LAST-MODIFIED:20250612T030912Z
UID:10010148-1579478400-1579478400@essft.com
SUMMARY:Martin Luther King Day
DESCRIPTION:
URL:https://essft.com/event/martin-luther-king-day/
CATEGORIES:Holidays
END:VEVENT
BEGIN:VEVENT
DTSTART;TZID=America/Chicago:20200118T000000
DTEND;TZID=America/Chicago:20200119T000000
DTSTAMP:20260423T015111
CREATED:20250612T030912Z
LAST-MODIFIED:20250612T030912Z
UID:10010146-1579305600-1579392000@essft.com
SUMMARY:North Texas Sporting Spaniel Club
DESCRIPTION:Entries Close: Tuesday\, January 7\, 2020 11:59:59 PM Eastern Time(ET) on Hunt Secretary \nJudges: Kathy Nestor and Michael Pollack
URL:https://essft.com/event/north-texas-sporting-spaniel-club-4/
CATEGORIES:Field Trials - Rocky Mountain
END:VEVENT
BEGIN:VEVENT
DTSTART;TZID=America/Chicago:20200118T000000
DTEND;TZID=America/Chicago:20200119T000000
DTSTAMP:20260423T015111
CREATED:20250612T030912Z
LAST-MODIFIED:20250612T030912Z
UID:10010147-1579305600-1579392000@essft.com
SUMMARY:COCKER: English Cocker Spaniel Club of America Field Trial
DESCRIPTION:Entries Close: Tuesday\, January 7\, 2020 11:59:59 PM Eastern Time(ET) on Hunt Secretary \n\n		\n			\n			\n		\n\n		\n 
URL:https://essft.com/event/cocker-english-cocker-spaniel-club-of-america-field-trial-2/
LOCATION:Lime Rock Cockers Preserve\, East Bend\, NC 27018\, USA\, East Bend\, North Carolina\, 27018\, United States
CATEGORIES:Cocker Trial
GEO:36.216528;-80.512558
X-APPLE-STRUCTURED-LOCATION;VALUE=URI;X-ADDRESS=Lime Rock Cockers Preserve East Bend NC 27018 USA East Bend North Carolina 27018 United States;X-APPLE-RADIUS=500;X-TITLE=East Bend\, NC 27018\, USA:geo:-80.512558,36.216528
END:VEVENT
BEGIN:VEVENT
DTSTART;TZID=America/Chicago:20200111T000000
DTEND;TZID=America/Chicago:20200112T000000
DTSTAMP:20260423T015111
CREATED:20250612T030909Z
LAST-MODIFIED:20250612T030909Z
UID:10010144-1578700800-1578787200@essft.com
SUMMARY:Oklahoma Springer Spaniel Club  Trial #2
DESCRIPTION:Entries Close: Monday\, December 30\, 2019 11:59:59 PM Eastern Time(ET) on Hunt Secretary \nJudges:  Alex Cacchio and Raymond Cacchio
URL:https://essft.com/event/oklahoma-springer-spaniel-club-trial-2/
CATEGORIES:Field Trials - Rocky Mountain
END:VEVENT
BEGIN:VEVENT
DTSTART;TZID=America/Chicago:20200111T000000
DTEND;TZID=America/Chicago:20200112T000000
DTSTAMP:20260423T015111
CREATED:20250612T030909Z
LAST-MODIFIED:20250612T030909Z
UID:10010145-1578700800-1578787200@essft.com
SUMMARY:Ravenna/MidEast Memorial Trial
DESCRIPTION:Entries Close:  January 4\, 2020 with the FTS \nJudges: Bob Merrill and Todd Stelzer  Mark Gebert\n  \n1/8/2020  Updated Running Order \n\n		\n			\n			\n		\n\n		\n\n		\n			\n			\n		\n\n		\n  \nSpring 2020 Ravenna Mid-East Memorial Entry Form MS WORD \n 
URL:https://essft.com/event/ravenna-mideast-memorial-trial/
LOCATION:Beelman Farm\, 2192 Co Rd 21\, De Graff\, OH 43318\, USA\, De Graff\, Ohio\, 43318\, United States
CATEGORIES:Field Trials - Mid East
GEO:40.36598;-83.944001
X-APPLE-STRUCTURED-LOCATION;VALUE=URI;X-ADDRESS=Beelman Farm 2192 Co Rd 21 De Graff OH 43318 USA De Graff Ohio 43318 United States;X-APPLE-RADIUS=500;X-TITLE=2192 Co Rd 21\, De Graff\, OH 43318\, USA:geo:-83.944001,40.36598
END:VEVENT
BEGIN:VEVENT
DTSTART;TZID=America/Chicago:20200109T000000
DTEND;TZID=America/Chicago:20200110T000000
DTSTAMP:20260423T015111
CREATED:20250612T030909Z
LAST-MODIFIED:20250612T030909Z
UID:10010143-1578528000-1578614400@essft.com
SUMMARY:Oklahoma Springer Spaniel Club  Trial #1
DESCRIPTION:Entries Close: Monday\, December 30\, 2019 11:59:59 PM Eastern Time(ET) on Hunt Secretary \nJudges: Jeff Cubitt and Kevin Martineau\n 
URL:https://essft.com/event/oklahoma-springer-spaniel-club-trial-1/
CATEGORIES:Field Trials - Rocky Mountain
END:VEVENT
BEGIN:VEVENT
DTSTART;TZID=America/Chicago:20200104T000000
DTEND;TZID=America/Chicago:20200105T000000
DTSTAMP:20260423T015111
CREATED:20250612T030908Z
LAST-MODIFIED:20250612T030908Z
UID:10010142-1578096000-1578182400@essft.com
SUMMARY:Wateree Spaniel Club Hunt Test
DESCRIPTION:Entries Close: Tuesday\, December 24\, 2019 11:59:59 PM Eastern Time(ET) on Hunt Secretary
URL:https://essft.com/event/wateree-spaniel-club-hunt-test-2/
LOCATION:H. Cooper Black Jr. Memorial Field Trial & Recreation Area\, Cheraw\, SC 29520\, USA\, Cheraw\, South Carolina\, 29520\, United States
CATEGORIES:Hunt Tests
GEO:34.697656;-79.883397
X-APPLE-STRUCTURED-LOCATION;VALUE=URI;X-ADDRESS=H. Cooper Black Jr. Memorial Field Trial & Recreation Area Cheraw SC 29520 USA Cheraw South Carolina 29520 United States;X-APPLE-RADIUS=500;X-TITLE=Cheraw\, SC 29520\, USA:geo:-79.883397,34.697656
END:VEVENT
BEGIN:VEVENT
DTSTART;TZID=America/Chicago:20200101T000000
DTEND;TZID=America/Chicago:20200101T000000
DTSTAMP:20260423T015111
CREATED:20250612T030908Z
LAST-MODIFIED:20250612T030908Z
UID:10010141-1577836800-1577836800@essft.com
SUMMARY:New Year's Day
DESCRIPTION:
URL:https://essft.com/event/new-years-day-2/
CATEGORIES:Holidays
END:VEVENT
BEGIN:VEVENT
DTSTART;TZID=America/Chicago:20191214T000000
DTEND;TZID=America/Chicago:20191215T000000
DTSTAMP:20260423T015111
CREATED:20250612T025901Z
LAST-MODIFIED:20250612T025901Z
UID:10010140-1576281600-1576368000@essft.com
SUMMARY:Stockton ESS Training Club Spaniel Hunt Test
DESCRIPTION:Entries Close: Tuesday\, December 3\, 2019 11:59:59 PM Eastern Time(ET) on Hunt Secretary \n  \n\n		\n			\n			\n		\n\n		 \n  \n 
URL:https://essft.com/event/stockton-ess-training-club-spaniel-hunt-test/
LOCATION:Clear Creek Ranch
CATEGORIES:Hunt Tests
END:VEVENT
END:VCALENDAR