BEGIN:VCALENDAR
VERSION:2.0
PRODID:-//English Springer Spaniel Field Trials - ECPv6.15.20//NONSGML v1.0//EN
CALSCALE:GREGORIAN
METHOD:PUBLISH
X-WR-CALNAME:English Springer Spaniel Field Trials
X-ORIGINAL-URL:https://essft.com
X-WR-CALDESC:Events for English Springer Spaniel Field Trials
REFRESH-INTERVAL;VALUE=DURATION:PT1H
X-Robots-Tag:noindex
X-PUBLISHED-TTL:PT1H
BEGIN:VTIMEZONE
TZID:America/Chicago
BEGIN:DAYLIGHT
TZOFFSETFROM:-0600
TZOFFSETTO:-0500
TZNAME:CDT
DTSTART:20190310T080000
END:DAYLIGHT
BEGIN:STANDARD
TZOFFSETFROM:-0500
TZOFFSETTO:-0600
TZNAME:CST
DTSTART:20191103T070000
END:STANDARD
BEGIN:DAYLIGHT
TZOFFSETFROM:-0600
TZOFFSETTO:-0500
TZNAME:CDT
DTSTART:20200308T080000
END:DAYLIGHT
BEGIN:STANDARD
TZOFFSETFROM:-0500
TZOFFSETTO:-0600
TZNAME:CST
DTSTART:20201101T070000
END:STANDARD
BEGIN:DAYLIGHT
TZOFFSETFROM:-0600
TZOFFSETTO:-0500
TZNAME:CDT
DTSTART:20210314T080000
END:DAYLIGHT
BEGIN:STANDARD
TZOFFSETFROM:-0500
TZOFFSETTO:-0600
TZNAME:CST
DTSTART:20211107T070000
END:STANDARD
END:VTIMEZONE
BEGIN:VEVENT
DTSTART;TZID=America/Chicago:20200725T000000
DTEND;TZID=America/Chicago:20200725T000000
DTSTAMP:20260423T050718
CREATED:20250612T033629Z
LAST-MODIFIED:20250612T033629Z
UID:10010246-1595635200-1595635200@essft.com
SUMMARY:Field Trial Judging Seminar - Northern MN ESS Club & Pine Shadows
DESCRIPTION:Seminar is July 25\, 2020 start time 8:30 am.  Completion time late afternoon \nCost:  $75  Mail check made out to NMESSC or bring with on day of registration.  Includes seminar and lunch \nChecks can be mailed to: \nPine Shadows\, 14752 Three Mile Road Brainerd\, MN 56401 \nOr bring check or cash on the day of the seminar. \nPlease let me know if you plan on coming. You can email this information to mark@pineshadows.com
URL:https://essft.com/event/field-trial-judging-seminar-northern-mn-ess-club-pine-shadows/
CATEGORIES:Judging Seminar
END:VEVENT
BEGIN:VEVENT
DTSTART;TZID=America/Chicago:20200724T000000
DTEND;TZID=America/Chicago:20200726T000000
DTSTAMP:20260423T050718
CREATED:20250612T033430Z
LAST-MODIFIED:20250612T033430Z
UID:10010245-1595548800-1595721600@essft.com
SUMMARY:Calgary English Springer Spaniel Club Inc
DESCRIPTION:https://www.dogshow.ca/en/2432?club=Calgary-English-Springer-Spaniel-Club-Inc. \n  \nTHE FOLLOWING COVID 19 PROTOCOLS WILL BE IN PLACE\nThe Calgary English Springer Spaniel Club will be initiating the following protocols for the\nCOVID-19 virus to be followed for their July 24th\, 25th and 26th field trial which include the\nfollowing:\n1) Spectators for the gallery limited to family or a few friends of the dog on the line.\n2) The gallery of spectators to social distance and stay single file.\n3) Limit the number of volunteer workers in the field to as few as possible (i.e. one\nmarshal\, 2 handlers\, 4 gunners\, 2 judges\, with no shaggers being used). Handlers will\nbe required to carry their own birds to the bird storage area.\n4) Requiring participants/handlers to stay in or near their vehicle or trailers until they are\ninvited to compete at the line to minimize the gallery size.\n5) Requiring participants/handlers to stay single file with a safe social distance between\neach other.\n6) Not allowing more than two (2) people to congregate in close physical proximity to\nenclosed side by side vehicles or trailers.\n7) No awards ceremony – placements and call backs to be broadcast via radio\n8) No lunch is provided. Attendees are required to arrange their own meals & requested\nto eat at your own trailer/vehicle.\n9) Hand sanitizer and cleaning wipes will be provided \nAll participants must sign in at the field trial tent\, and record their temperature and\nanswer the following questionnaire each day of the trial. This is to address condition of\nnew arrivals and any overnight symptom changes.\n1. Fever or cough in the last 3 weeks that has prevented them from working per their\ncorporate occupational health requirements.\n2. Quarantined by a health care provider in the 21 days.\n3. Current cough of fever or any other symptoms of a viral infection per Alberta\ngovernment guidelines for COVID-19 symptoms.\nAny participant that meets the following criteria will not be allowed to participate or be\npresent at the field trial.
URL:https://essft.com/event/calgary-english-springer-spaniel-club-inc-4/
CATEGORIES:Canadian FT
END:VEVENT
BEGIN:VEVENT
DTSTART;TZID=America/Chicago:20200704T000000
DTEND;TZID=America/Chicago:20200704T000000
DTSTAMP:20260423T050718
CREATED:20250612T033430Z
LAST-MODIFIED:20250612T033430Z
UID:10010244-1593820800-1593820800@essft.com
SUMMARY:Independence Day
DESCRIPTION:
URL:https://essft.com/event/independence-day-2/
CATEGORIES:Holidays
END:VEVENT
BEGIN:VEVENT
DTSTART;TZID=America/Chicago:20200626T000000
DTEND;TZID=America/Chicago:20200628T000000
DTSTAMP:20260423T050718
CREATED:20250612T033430Z
LAST-MODIFIED:20250612T033430Z
UID:10010243-1593129600-1593302400@essft.com
SUMMARY:Central Virginia English Springer Spaniel Club 2 Trials!
DESCRIPTION:Entries Close: Monday\, June 15\, 2020 11:59:59 PM Eastern Time(ET) on Hunt Secretary \nJudges: Brent LeMaster and Richard Whalen  NEW JUDGE:  CHUCK URLAND
URL:https://essft.com/event/central-virginia-english-springer-spaniel-club-2-trials/
CATEGORIES:Field Trials - East
END:VEVENT
BEGIN:VEVENT
DTSTART;TZID=America/Chicago:20200621T000000
DTEND;TZID=America/Chicago:20200621T000000
DTSTAMP:20260423T050718
CREATED:20250612T033430Z
LAST-MODIFIED:20250612T033430Z
UID:10010242-1592697600-1592697600@essft.com
SUMMARY:Father's Day
DESCRIPTION:
URL:https://essft.com/event/fathers-day-2/
CATEGORIES:Holidays
END:VEVENT
BEGIN:VEVENT
DTSTART;TZID=America/Chicago:20200620T000000
DTEND;TZID=America/Chicago:20200621T000000
DTSTAMP:20260423T050718
CREATED:20250612T033430Z
LAST-MODIFIED:20250612T033430Z
UID:10010241-1592611200-1592697600@essft.com
SUMMARY:Missouri Headwaters Gun Dog Club
DESCRIPTION: 
URL:https://essft.com/event/missouri-headwaters-gun-dog-club/
LOCATION:Zuelke Property\, Butte\, MT\, United States
CATEGORIES:Hunt Tests
GEO:45.984797;-112.488996
END:VEVENT
BEGIN:VEVENT
DTSTART;TZID=America/Chicago:20200612T000000
DTEND;TZID=America/Chicago:20200614T000000
DTSTAMP:20260423T050718
CREATED:20250612T033230Z
LAST-MODIFIED:20250612T033230Z
UID:10010240-1591920000-1592092800@essft.com
SUMMARY:Cocker:  North Dakota Sporting Spaniel Club
DESCRIPTION:Entries Close: Monday\, June 1\, 2020 11:59:59 PM Eastern Time(ET) on Hunt Secretary \nJudges:  John Staley and Randy Bartsch for Friday’s Trial      Randy Manore and Randy Bartsch for Saturday and Sunday. \n 
URL:https://essft.com/event/cocker-north-dakota-sporting-spaniel-club-3/
CATEGORIES:Cocker Trial
END:VEVENT
BEGIN:VEVENT
DTSTART;TZID=America/Chicago:20200606T000000
DTEND;TZID=America/Chicago:20200607T000000
DTSTAMP:20260423T050718
CREATED:20250612T033230Z
LAST-MODIFIED:20250612T033230Z
UID:10010239-1591401600-1591488000@essft.com
SUMMARY:North Dakota Sporting Spaniel Club
DESCRIPTION:Entries Close: Tuesday\, May 26\, 2020 11:59:59 PM Eastern Time(ET) \nJudges: Jim O’Shea and John Staley
URL:https://essft.com/event/north-dakota-sporting-spaniel-club-6/
CATEGORIES:Field Trials - Rocky Mountain
END:VEVENT
BEGIN:VEVENT
DTSTART;TZID=America/Chicago:20200605T000000
DTEND;TZID=America/Chicago:20200607T000000
DTSTAMP:20260423T050718
CREATED:20250612T033230Z
LAST-MODIFIED:20250612T033230Z
UID:10010238-1591315200-1591488000@essft.com
SUMMARY:Spaniel Training Seminar with Ray Cacchio
DESCRIPTION:
URL:https://essft.com/event/spaniel-training-seminar-with-ray-cacchio/
LOCATION:Windrift Kennels\, Cochranton\, PA\, USA\, Cochranton\, Pennsylvania\, United States
CATEGORIES:Training Seminar
GEO:41.520053;-80.048393
X-APPLE-STRUCTURED-LOCATION;VALUE=URI;X-ADDRESS=Windrift Kennels Cochranton PA USA Cochranton Pennsylvania United States;X-APPLE-RADIUS=500;X-TITLE=Cochranton\, PA\, USA:geo:-80.048393,41.520053
END:VEVENT
BEGIN:VEVENT
DTSTART;TZID=America/Chicago:20200530T000000
DTEND;TZID=America/Chicago:20200531T000000
DTSTAMP:20260423T050718
CREATED:20250612T033229Z
LAST-MODIFIED:20250628T013018Z
UID:10010237-1590796800-1590883200@essft.com
SUMMARY:Cocker Spaniel Field Trial Club of America - Water and Hunt Tests
DESCRIPTION:CANCELLED \n\n		\n			\n			\n		\n\n		\n 
URL:https://essft.com/event/cocker-spaniel-field-trial-club-of-america-water-and-hunt-tests/
CATEGORIES:Water Test
END:VEVENT
BEGIN:VEVENT
DTSTART;TZID=America/Chicago:20200525T000000
DTEND;TZID=America/Chicago:20200525T000000
DTSTAMP:20260423T050718
CREATED:20250612T033229Z
LAST-MODIFIED:20250612T033229Z
UID:10010236-1590364800-1590364800@essft.com
SUMMARY:Memorial Day
DESCRIPTION:
URL:https://essft.com/event/memorial-day-2/
CATEGORIES:Holidays
END:VEVENT
BEGIN:VEVENT
DTSTART;TZID=America/Chicago:20200523T000000
DTEND;TZID=America/Chicago:20200524T000000
DTSTAMP:20260423T050718
CREATED:20250612T033030Z
LAST-MODIFIED:20250612T033030Z
UID:10010233-1590192000-1590278400@essft.com
SUMMARY:Cocker: Maine Spaniel Field Trial Club
DESCRIPTION:CANCELLED
URL:https://essft.com/event/cocker-maine-spaniel-field-trial-club-2/
CATEGORIES:Cocker Trial
END:VEVENT
BEGIN:VEVENT
DTSTART;TZID=America/Chicago:20200523T000000
DTEND;TZID=America/Chicago:20200524T000000
DTSTAMP:20260423T050718
CREATED:20250612T033030Z
LAST-MODIFIED:20250612T033030Z
UID:10010234-1590192000-1590278400@essft.com
SUMMARY:Central Ontario Spaniel Club
DESCRIPTION:https://www.dogshow.ca/en/2425?club=Central-Ontario-Spaniel-Club
URL:https://essft.com/event/central-ontario-spaniel-club-5/
CATEGORIES:Canadian FT
END:VEVENT
BEGIN:VEVENT
DTSTART;TZID=America/Chicago:20200523T000000
DTEND;TZID=America/Chicago:20200524T000000
DTSTAMP:20260423T050718
CREATED:20250612T033030Z
LAST-MODIFIED:20250612T033030Z
UID:10010235-1590192000-1590278400@essft.com
SUMMARY:Northern Colorado SS Club Spaniel Hunt Test - May 2020
DESCRIPTION:Entries Close: Sunday\, May 17\, 2020 11:59:59 PM Eastern Time(ET) on Hunt Secretary
URL:https://essft.com/event/northern-colorado-ss-club-spaniel-hunt-test-may-2020/
CATEGORIES:Hunt Tests
END:VEVENT
BEGIN:VEVENT
DTSTART;TZID=America/Chicago:20200516T000000
DTEND;TZID=America/Chicago:20200518T000000
DTSTAMP:20260423T050718
CREATED:20250612T033030Z
LAST-MODIFIED:20250612T033030Z
UID:10010231-1589587200-1589760000@essft.com
SUMMARY:South Western Ontario Spaniel Club
DESCRIPTION:CANCELLED
URL:https://essft.com/event/south-western-ontario-spaniel-club-5/
CATEGORIES:Canadian FT
END:VEVENT
BEGIN:VEVENT
DTSTART;TZID=America/Chicago:20200516T000000
DTEND;TZID=America/Chicago:20200517T000000
DTSTAMP:20260423T050718
CREATED:20250612T033002Z
LAST-MODIFIED:20250612T033002Z
UID:10010229-1589587200-1589673600@essft.com
SUMMARY:Airedale Terrier Club of America Cooley Memorial Spaniel Hunt Test
DESCRIPTION:Entries Close: Sunday\, May 3\, 2020 11:59:59 PM Eastern Time(ET) pm on Hunt Secretary \n 
URL:https://essft.com/event/airedale-terrier-club-of-america-cooley-memorial-spaniel-hunt-test/
LOCATION:Rock River Kennels\, Beaver Dam\, WI 53916\, USA\, Beaver Dam\, Wisconsin\, 53916\, United States
CATEGORIES:Hunt Tests
GEO:43.457769;-88.837329
X-APPLE-STRUCTURED-LOCATION;VALUE=URI;X-ADDRESS=Rock River Kennels Beaver Dam WI 53916 USA Beaver Dam Wisconsin 53916 United States;X-APPLE-RADIUS=500;X-TITLE=Beaver Dam\, WI 53916\, USA:geo:-88.837329,43.457769
END:VEVENT
BEGIN:VEVENT
DTSTART;TZID=America/Chicago:20200516T000000
DTEND;TZID=America/Chicago:20200517T000000
DTSTAMP:20260423T050718
CREATED:20250612T033002Z
LAST-MODIFIED:20250612T033002Z
UID:10010230-1589587200-1589673600@essft.com
SUMMARY:Southern Michigan Springer Spaniel Training Club
DESCRIPTION:CANCELLED \n  \n\n		\n			\n			\n		\n\n		\n 
URL:https://essft.com/event/southern-michigan-springer-spaniel-training-club/
CATEGORIES:Hunt Tests
END:VEVENT
BEGIN:VEVENT
DTSTART;TZID=America/Chicago:20200516T000000
DTEND;TZID=America/Chicago:20200517T000000
DTSTAMP:20260423T050718
CREATED:20250612T033001Z
LAST-MODIFIED:20250612T033001Z
UID:10010228-1589587200-1589673600@essft.com
SUMMARY:ESS Club of Eastern Nebraska
DESCRIPTION:4/10/2020: Cancelled\n3/16/2020:  Rescheduled to May 16/17\, 2020\n  \n  \nEntries Close: Tuesday\, March 17\, 2020 11:59:59 PM Eastern Time(ET) on Hunt Secretary \nJudges: David Sandford    Steve Beyer and Mark Hairfield\n  \n\n		\n			\n			\n		\n\n		\n 
URL:https://essft.com/event/ess-club-of-eastern-nebraska-4/
LOCATION:Claybaugh Farm\, Liberty\, NE 68381\, USA\, Liberty\, Nebraska\, 68381\, United States
CATEGORIES:Field Trials - Rocky Mountain
GEO:40.084723;-96.482796
X-APPLE-STRUCTURED-LOCATION;VALUE=URI;X-ADDRESS=Claybaugh Farm Liberty NE 68381 USA Liberty Nebraska 68381 United States;X-APPLE-RADIUS=500;X-TITLE=Liberty\, NE 68381\, USA:geo:-96.482796,40.084723
END:VEVENT
BEGIN:VEVENT
DTSTART;TZID=America/Chicago:20200516T000000
DTEND;TZID=America/Chicago:20200516T000000
DTSTAMP:20260423T050718
CREATED:20250612T033030Z
LAST-MODIFIED:20250612T033030Z
UID:10010232-1589587200-1589587200@essft.com
SUMMARY:Cocker:  Minnesota Hunting Spaniel Assoc.
DESCRIPTION:CANCELLED \n  \n  \nhttps://www.huntsecretary.com/premiumakc.asp?mhuntid=1003903 \n  \n 
URL:https://essft.com/event/cocker-minnesota-hunting-spaniel-assoc/
CATEGORIES:Cocker Trial
END:VEVENT
BEGIN:VEVENT
DTSTART;TZID=America/Chicago:20200509T000000
DTEND;TZID=America/Chicago:20200510T000000
DTSTAMP:20260423T050718
CREATED:20250612T033001Z
LAST-MODIFIED:20250612T033001Z
UID:10010226-1588982400-1589068800@essft.com
SUMMARY:Eastern Slopes Spaniel Association
DESCRIPTION:https://www.dogshow.ca/en/2404?club=Eastern-Slopes-Spaniel-Association
URL:https://essft.com/event/eastern-slopes-spaniel-association-8/
CATEGORIES:Canadian FT
END:VEVENT
BEGIN:VEVENT
DTSTART;TZID=America/Chicago:20200509T000000
DTEND;TZID=America/Chicago:20200510T000000
DTSTAMP:20260423T050718
CREATED:20250612T033001Z
LAST-MODIFIED:20250612T033001Z
UID:10010227-1588982400-1589068800@essft.com
SUMMARY:Minnesota Hunting Spaniel Assoc.  Hunt Test
DESCRIPTION:Cancelled
URL:https://essft.com/event/minnesota-hunting-spaniel-assoc-hunt-test/
CATEGORIES:Hunt Tests
END:VEVENT
BEGIN:VEVENT
DTSTART;TZID=America/Chicago:20200509T000000
DTEND;TZID=America/Chicago:20200510T000000
DTSTAMP:20260423T050718
CREATED:20250612T032801Z
LAST-MODIFIED:20250628T011725Z
UID:10010225-1588982400-1589068800@essft.com
SUMMARY:Cocker: ECSCA National Specialty - Hunt Test
DESCRIPTION:
URL:https://essft.com/event/cocker-ecsca-national-specialty-hunt-test/
CATEGORIES:Hunt Tests
END:VEVENT
BEGIN:VEVENT
DTSTART;TZID=America/Chicago:20200508T000000
DTEND;TZID=America/Chicago:20200510T000000
DTSTAMP:20260423T050718
CREATED:20250612T032801Z
LAST-MODIFIED:20250612T032801Z
UID:10010224-1588896000-1589068800@essft.com
SUMMARY:Scotia Springer Club
DESCRIPTION:https://www.dogshow.ca/en/2443?club=Scotia-Springer-Club
URL:https://essft.com/event/scotia-springer-club-3/
CATEGORIES:Canadian FT
END:VEVENT
BEGIN:VEVENT
DTSTART;TZID=America/Chicago:20200503T000000
DTEND;TZID=America/Chicago:20200504T000000
DTSTAMP:20260423T050718
CREATED:20250612T032801Z
LAST-MODIFIED:20250612T032801Z
UID:10010223-1588464000-1588550400@essft.com
SUMMARY:Central Wisconsin Sporting Spaniel Club
DESCRIPTION:4/24: Cancelled \nOur club regrets that we will not be able to host these trials with the current restrictions concerning the COVID-19 pandemic in our state. \nLooking forward to seeing everyone in the fall. \nConnie FTS and Mary FTS \n  \n\n\nJudges:  Ryan Lamberg & Chuck Nelson\nAmateur on Sunday.
URL:https://essft.com/event/central-wisconsin-sporting-spaniel-club-5/
LOCATION:Oasis Game Farm\, New Glarus\, WI 53574\, USA\, New Glarus\, Wisconsin\, 53574\, United States
CATEGORIES:Field Trials - Mid West
GEO:42.837895;-89.729012
X-APPLE-STRUCTURED-LOCATION;VALUE=URI;X-ADDRESS=Oasis Game Farm New Glarus WI 53574 USA New Glarus Wisconsin 53574 United States;X-APPLE-RADIUS=500;X-TITLE=New Glarus\, WI 53574\, USA:geo:-89.729012,42.837895
END:VEVENT
BEGIN:VEVENT
DTSTART;TZID=America/Chicago:20200502T000000
DTEND;TZID=America/Chicago:20200504T000000
DTSTAMP:20260423T050718
CREATED:20250612T032746Z
LAST-MODIFIED:20250612T032746Z
UID:10010220-1588377600-1588550400@essft.com
SUMMARY:Prince Edward Interprovincial Springer Spaniel Club
DESCRIPTION:https://www.dogshow.ca/en/2442?club=Prince-Edward-Interprovincial-Springer-Spaniel-Club
URL:https://essft.com/event/prince-edward-interprovincial-springer-spaniel-club-4/
CATEGORIES:Canadian FT
END:VEVENT
BEGIN:VEVENT
DTSTART;TZID=America/Chicago:20200502T000000
DTEND;TZID=America/Chicago:20200503T000000
DTSTAMP:20260423T050718
CREATED:20250612T032801Z
LAST-MODIFIED:20250612T032801Z
UID:10010221-1588377600-1588464000@essft.com
SUMMARY:Spaniel Training Seminar with "Jerry" Ray Cacchio & Maine Spaniel Field Trial Club
DESCRIPTION:Canceled
URL:https://essft.com/event/spaniel-training-seminar-with-jerry-ray-cacchio-maine-spaniel-field-trial-club/
LOCATION:Green Point WMA\, Dresden\, ME 04342\, USA\, Dresden\, Maine\, 4342\, United States
CATEGORIES:Training Seminar
GEO:44.107296;-69.724211
X-APPLE-STRUCTURED-LOCATION;VALUE=URI;X-ADDRESS=Green Point WMA Dresden ME 04342 USA Dresden Maine 4342 United States;X-APPLE-RADIUS=500;X-TITLE=Dresden\, ME 04342\, USA:geo:-69.724211,44.107296
END:VEVENT
BEGIN:VEVENT
DTSTART;TZID=America/Chicago:20200502T000000
DTEND;TZID=America/Chicago:20200503T000000
DTSTAMP:20260423T050718
CREATED:20250612T032801Z
LAST-MODIFIED:20250612T032801Z
UID:10010222-1588377600-1588464000@essft.com
SUMMARY:Southern Tier
DESCRIPTION:4/22/2020 – Canceled
URL:https://essft.com/event/southern-tier/
CATEGORIES:Field Trials - East
END:VEVENT
BEGIN:VEVENT
DTSTART;TZID=America/Chicago:20200502T000000
DTEND;TZID=America/Chicago:20200503T000000
DTSTAMP:20260423T050718
CREATED:20250612T032746Z
LAST-MODIFIED:20250612T032746Z
UID:10010219-1588377600-1588464000@essft.com
SUMMARY:Cocker: MN Hunting Spaniel Association
DESCRIPTION:
URL:https://essft.com/event/cocker-mn-hunting-spaniel-association/
CATEGORIES:Cocker Trial
END:VEVENT
BEGIN:VEVENT
DTSTART;TZID=America/Chicago:20200501T000000
DTEND;TZID=America/Chicago:20200503T000000
DTSTAMP:20260423T050718
CREATED:20250612T032746Z
LAST-MODIFIED:20250612T032746Z
UID:10010217-1588291200-1588464000@essft.com
SUMMARY:Lewis and Clark Spaniel Association
DESCRIPTION:Entries Close:  CANCELLED \nJudges:  Bob Child and Gary Fluckiger
URL:https://essft.com/event/lewis-and-clark-spaniel-association-2/
CATEGORIES:Field Trials - Rocky Mountain
END:VEVENT
BEGIN:VEVENT
DTSTART;TZID=America/Chicago:20200501T000000
DTEND;TZID=America/Chicago:20200503T000000
DTSTAMP:20260423T050718
CREATED:20250612T032746Z
LAST-MODIFIED:20250612T032746Z
UID:10010218-1588291200-1588464000@essft.com
SUMMARY:COCKER: Lewis & Clark Spaniel Association Field Trial
DESCRIPTION:Entries Close: Cancelled \nJudges:  Gary Fluckiger and Bob Child
URL:https://essft.com/event/cocker-lewis-clark-spaniel-association-field-trial/
CATEGORIES:Cocker Trial
END:VEVENT
END:VCALENDAR