BEGIN:VCALENDAR
VERSION:2.0
PRODID:-//English Springer Spaniel Field Trials - ECPv6.15.20//NONSGML v1.0//EN
CALSCALE:GREGORIAN
METHOD:PUBLISH
X-WR-CALNAME:English Springer Spaniel Field Trials
X-ORIGINAL-URL:https://essft.com
X-WR-CALDESC:Events for English Springer Spaniel Field Trials
REFRESH-INTERVAL;VALUE=DURATION:PT1H
X-Robots-Tag:noindex
X-PUBLISHED-TTL:PT1H
BEGIN:VTIMEZONE
TZID:America/Chicago
BEGIN:DAYLIGHT
TZOFFSETFROM:-0600
TZOFFSETTO:-0500
TZNAME:CDT
DTSTART:20180311T080000
END:DAYLIGHT
BEGIN:STANDARD
TZOFFSETFROM:-0500
TZOFFSETTO:-0600
TZNAME:CST
DTSTART:20181104T070000
END:STANDARD
BEGIN:DAYLIGHT
TZOFFSETFROM:-0600
TZOFFSETTO:-0500
TZNAME:CDT
DTSTART:20190310T080000
END:DAYLIGHT
BEGIN:STANDARD
TZOFFSETFROM:-0500
TZOFFSETTO:-0600
TZNAME:CST
DTSTART:20191103T070000
END:STANDARD
BEGIN:DAYLIGHT
TZOFFSETFROM:-0600
TZOFFSETTO:-0500
TZNAME:CDT
DTSTART:20200308T080000
END:DAYLIGHT
BEGIN:STANDARD
TZOFFSETFROM:-0500
TZOFFSETTO:-0600
TZNAME:CST
DTSTART:20201101T070000
END:STANDARD
END:VTIMEZONE
BEGIN:VEVENT
DTSTART;TZID=America/Chicago:20190524T000000
DTEND;TZID=America/Chicago:20190525T000000
DTSTAMP:20260423T154325
CREATED:20250611T204854Z
LAST-MODIFIED:20250611T204854Z
UID:10009960-1558656000-1558742400@essft.com
SUMMARY:Cascade English Cocker Spaniel Fanciers Hunt Test
DESCRIPTION:Entries Close: Monday\, May 13\, 2019 11:59:59 PM Eastern Time(ET) \nhttps://www.huntsecretary.com/eventinfo_A.asp?mhuntid=1003399
URL:https://essft.com/event/cascade-english-cocker-spaniel-fanciers-hunt-test/
LOCATION:Scatter Creek WDFW North Unit\, Rochester\, WA 98579\, USA\, Rochester\, Washington\, 98579\, United States
CATEGORIES:Hunt Tests
GEO:46.828064;-123.07553
X-APPLE-STRUCTURED-LOCATION;VALUE=URI;X-ADDRESS=Scatter Creek WDFW North Unit Rochester WA 98579 USA Rochester Washington 98579 United States;X-APPLE-RADIUS=500;X-TITLE=Rochester\, WA 98579\, USA:geo:-123.07553,46.828064
END:VEVENT
BEGIN:VEVENT
DTSTART;TZID=America/Chicago:20190518T000000
DTEND;TZID=America/Chicago:20190519T000000
DTSTAMP:20260423T154325
CREATED:20250611T204854Z
LAST-MODIFIED:20250611T204854Z
UID:10009959-1558137600-1558224000@essft.com
SUMMARY:Central Connecticut Spaniel Club - Hunt Tests
DESCRIPTION:
URL:https://essft.com/event/central-connecticut-spaniel-club-hunt-tests-2/
LOCATION:Oregon
CATEGORIES:Hunt Tests
ORGANIZER;CN="Deborah Olszewski":MAILTO:dmoski@aol.com
END:VEVENT
BEGIN:VEVENT
DTSTART;TZID=America/Chicago:20190518T000000
DTEND;TZID=America/Chicago:20190519T000000
DTSTAMP:20260423T154325
CREATED:20250611T204653Z
LAST-MODIFIED:20250611T204653Z
UID:10009953-1558137600-1558224000@essft.com
SUMMARY:AKC Week 20
DESCRIPTION:
URL:https://essft.com/event/akc-week-20-2/
LOCATION:Oregon
END:VEVENT
BEGIN:VEVENT
DTSTART;TZID=America/Chicago:20190518T000000
DTEND;TZID=America/Chicago:20190519T000000
DTSTAMP:20260423T154325
CREATED:20250611T204653Z
LAST-MODIFIED:20250611T204653Z
UID:10009954-1558137600-1558224000@essft.com
SUMMARY:Northern Minnesota English Springer Spaniel Club
DESCRIPTION:Entries Close:  Tuesday May 7\, 2019 on Hunt Secretary \nJudges: Chuck Petrmichl and Bill Cosgrove\nPuppy judges: Mark Mercie and Ryan Lamberg \nYouth judges: Katie Gorecki and Mark Mercie \n\n		\n			\n			\n		\n\n		\n  \n\n		\n			\n			\n		\n\n		\n  \n\n		\n			\n			\n		\n\n		\n  \n  \n 
URL:https://essft.com/event/northern-minnesota-english-springer-spaniel-club-2/
LOCATION:Major Ave Hunt Club\, 11721 Major Ave\, Glencoe\, MN 55336\, USA\, Glencoe\, Minnesota\, 55336\, United States
CATEGORIES:Field Trials - Mid West
ORGANIZER;CN="Sophie Haglin":MAILTO:mark@pineshadows.com
GEO:44.784868;-94.277116
X-APPLE-STRUCTURED-LOCATION;VALUE=URI;X-ADDRESS=Major Ave Hunt Club 11721 Major Ave Glencoe MN 55336 USA Glencoe Minnesota 55336 United States;X-APPLE-RADIUS=500;X-TITLE=11721 Major Ave\, Glencoe\, MN 55336\, USA:geo:-94.277116,44.784868
END:VEVENT
BEGIN:VEVENT
DTSTART;TZID=America/Chicago:20190518T000000
DTEND;TZID=America/Chicago:20190519T000000
DTSTAMP:20260423T154325
CREATED:20250611T204653Z
LAST-MODIFIED:20250611T204653Z
UID:10009955-1558137600-1558224000@essft.com
SUMMARY:South Western Ontario Spaniel Club
DESCRIPTION:For more information: \nhttps://www.dogshow.ca/en/1953?club=South-Western-Ontario-Spaniel-Club
URL:https://essft.com/event/south-western-ontario-spaniel-club-3/
LOCATION:Oregon
CATEGORIES:Canadian FT
END:VEVENT
BEGIN:VEVENT
DTSTART;TZID=America/Chicago:20190518T000000
DTEND;TZID=America/Chicago:20190519T000000
DTSTAMP:20260423T154325
CREATED:20250611T204653Z
LAST-MODIFIED:20250611T204653Z
UID:10009956-1558137600-1558224000@essft.com
SUMMARY:Calgary English Springer Spaniel Club Inc
DESCRIPTION:https://www.dogshow.ca/en/2022?club=Calgary-English-Springer-Spaniel-Club-Inc.
URL:https://essft.com/event/calgary-english-springer-spaniel-club-inc/
LOCATION:Oregon
CATEGORIES:Canadian FT
END:VEVENT
BEGIN:VEVENT
DTSTART;TZID=America/Chicago:20190518T000000
DTEND;TZID=America/Chicago:20190518T000000
DTSTAMP:20260423T154325
CREATED:20250611T204854Z
LAST-MODIFIED:20250611T204854Z
UID:10009958-1558137600-1558137600@essft.com
SUMMARY:Hunt Test Judging Seminar sponsored by NWESS
DESCRIPTION:
URL:https://essft.com/event/hunt-test-judging-seminar-sponsored-by-nwess/
LOCATION:Oregon
CATEGORIES:Judging Seminar
END:VEVENT
BEGIN:VEVENT
DTSTART;TZID=America/Chicago:20190518T000000
DTEND;TZID=America/Chicago:20190518T000000
DTSTAMP:20260423T154325
CREATED:20250611T204653Z
LAST-MODIFIED:20250611T204653Z
UID:10009957-1558137600-1558137600@essft.com
SUMMARY:Airedale Terrier Club HUNT TESTS
DESCRIPTION:Entries Close:  Sunday\, May 5\, 2019 11:59:59 PM Eastern Time(ET) on Hunt Secretary \nhttps://www.huntsecretary.com/eventinfo_A.asp?mhuntid=1003309
URL:https://essft.com/event/airedale-terrier-club-hunt-tests/
LOCATION:Oregon
CATEGORIES:Hunt Tests
END:VEVENT
BEGIN:VEVENT
DTSTART;TZID=America/Chicago:20190512T000000
DTEND;TZID=America/Chicago:20190512T000000
DTSTAMP:20260423T154325
CREATED:20250611T204453Z
LAST-MODIFIED:20250611T204453Z
UID:10009952-1557619200-1557619200@essft.com
SUMMARY:Mother's Day
DESCRIPTION:
URL:https://essft.com/event/mothers-day/
LOCATION:Oregon
CATEGORIES:Holidays
END:VEVENT
BEGIN:VEVENT
DTSTART;TZID=America/Chicago:20190511T000000
DTEND;TZID=America/Chicago:20190512T000000
DTSTAMP:20260423T154325
CREATED:20250611T204453Z
LAST-MODIFIED:20250611T204453Z
UID:10009948-1557532800-1557619200@essft.com
SUMMARY:AKC Week 19
DESCRIPTION:
URL:https://essft.com/event/akc-week-19-2/
LOCATION:Oregon
END:VEVENT
BEGIN:VEVENT
DTSTART;TZID=America/Chicago:20190511T000000
DTEND;TZID=America/Chicago:20190512T000000
DTSTAMP:20260423T154325
CREATED:20250611T204453Z
LAST-MODIFIED:20250611T204453Z
UID:10009949-1557532800-1557619200@essft.com
SUMMARY:Minnesota Hunting Spaniel Association Hunt Tests
DESCRIPTION:Entries Close on April 29\, 2019 on https://entryexpress.net
URL:https://essft.com/event/minnesota-hunting-spaniel-association-hunt-tests/
LOCATION:Major Ave Hunt Club\, 11721 Major Ave\, Glencoe\, MN 55336\, USA\, Glencoe\, Minnesota\, 55336\, United States
CATEGORIES:Hunt Tests
GEO:44.784868;-94.277116
X-APPLE-STRUCTURED-LOCATION;VALUE=URI;X-ADDRESS=Major Ave Hunt Club 11721 Major Ave Glencoe MN 55336 USA Glencoe Minnesota 55336 United States;X-APPLE-RADIUS=500;X-TITLE=11721 Major Ave\, Glencoe\, MN 55336\, USA:geo:-94.277116,44.784868
END:VEVENT
BEGIN:VEVENT
DTSTART;TZID=America/Chicago:20190511T000000
DTEND;TZID=America/Chicago:20190512T000000
DTSTAMP:20260423T154325
CREATED:20250611T204453Z
LAST-MODIFIED:20250611T204453Z
UID:10009950-1557532800-1557619200@essft.com
SUMMARY:North Dakota Sporting Spaniel Club
DESCRIPTION:Grounds for the NDSSC trial this weekend have been finalized.  We will be using the grounds at the Wobaum farm.\nTo preserve the cover\, no ATVs will be allowed. Club will be providing a shuttle for dogs and people.\n  \n\n		\n			\n			\n		\n\n		\n  \nEntries Close:  Tuesday\, April 30\, 2019 at 11:59 P.M. Eastern Time(ET) on Hunt Secretary \nJudges:  Nick Campanelli   Daryl Roth and Pete Zuleger\n  \n\n		\n			\n			\n		\n\n		\n 
URL:https://essft.com/event/north-dakota-sporting-spaniel-club-3/
LOCATION:Wobaum Farm\, See Map below\, Menoken\, North Dakota\, 58558\, United States
CATEGORIES:Field Trials - Rocky Mountain
GEO:46.747029;-100.536775
X-APPLE-STRUCTURED-LOCATION;VALUE=URI;X-ADDRESS=Wobaum Farm See Map below Menoken North Dakota 58558 United States;X-APPLE-RADIUS=500;X-TITLE=See Map below:geo:-100.536775,46.747029
END:VEVENT
BEGIN:VEVENT
DTSTART;TZID=America/Chicago:20190511T000000
DTEND;TZID=America/Chicago:20190512T000000
DTSTAMP:20260423T154325
CREATED:20250611T204453Z
LAST-MODIFIED:20250611T204453Z
UID:10009951-1557532800-1557619200@essft.com
SUMMARY:Valley Forge Field Trial Assoc. HUNT TEST
DESCRIPTION:Entries Close:  Tuesday\, May 7\, 2019 11:59:59 PM Eastern Time(ET) on Hunt Secretary \nJudges:  Theresa Schroeder and Susan Pierson
URL:https://essft.com/event/valley-forge-field-trial-assoc-hunt-test/
LOCATION:Oregon
CATEGORIES:Hunt Tests
END:VEVENT
BEGIN:VEVENT
DTSTART;TZID=America/Chicago:20190510T000000
DTEND;TZID=America/Chicago:20190512T000000
DTSTAMP:20260423T154325
CREATED:20250611T204435Z
LAST-MODIFIED:20250611T204435Z
UID:10009947-1557446400-1557619200@essft.com
SUMMARY:Scotia Springer Club
DESCRIPTION:For more information:\nhttps://www.dogshow.ca/en/1978?club=Scotia-Springer-Club
URL:https://essft.com/event/scotia-springer-club/
LOCATION:Oregon
CATEGORIES:Canadian FT
END:VEVENT
BEGIN:VEVENT
DTSTART;TZID=America/Chicago:20190508T000000
DTEND;TZID=America/Chicago:20190509T000000
DTSTAMP:20260423T154325
CREATED:20250611T204435Z
LAST-MODIFIED:20250611T204435Z
UID:10009946-1557273600-1557360000@essft.com
SUMMARY:Minnesota ESS Club
DESCRIPTION:Grounds change for MESSC Spring Trial\, May 8 & 9\, 2019\nThe new grounds are at 20401 300th St\, New Prague\, MN.\n  \n\n		\n			\n			\n		\n\n		\n  \nEntries Close: Monday\, April 29\, 2019 11:59:59 PM Eastern Time(ET) \nJudges:  Paul Haering  Ryan Lamberg and Bob Davis\n\n		\n			\n			\n		\n\n		\n  \n  \n 
URL:https://essft.com/event/minnesota-ess-club-4/
LOCATION:Steven Wesley Farm\, Waterville\, MN 56096\, USA\, Waterville\, Minnesota\, 56096\, United States
CATEGORIES:Field Trials - Mid West
GEO:44.218853;-93.568002
X-APPLE-STRUCTURED-LOCATION;VALUE=URI;X-ADDRESS=Steven Wesley Farm Waterville MN 56096 USA Waterville Minnesota 56096 United States;X-APPLE-RADIUS=500;X-TITLE=Waterville\, MN 56096\, USA:geo:-93.568002,44.218853
END:VEVENT
BEGIN:VEVENT
DTSTART;TZID=America/Chicago:20190504T000000
DTEND;TZID=America/Chicago:20190506T000000
DTSTAMP:20260423T154325
CREATED:20250611T204435Z
LAST-MODIFIED:20250611T204435Z
UID:10009943-1556928000-1557100800@essft.com
SUMMARY:Prince Edward Interprovincial Springer Spaniel Club
DESCRIPTION:For more information:\nhttp://Prince Edward Interprovincial Springer Spaniel Club
URL:https://essft.com/event/prince-edward-interprovincial-springer-spaniel-club-2/
LOCATION:Oregon
CATEGORIES:Canadian FT
END:VEVENT
BEGIN:VEVENT
DTSTART;TZID=America/Chicago:20190504T000000
DTEND;TZID=America/Chicago:20190505T000000
DTSTAMP:20260423T154325
CREATED:20250611T204435Z
LAST-MODIFIED:20250611T204435Z
UID:10009945-1556928000-1557014400@essft.com
SUMMARY:English Springer Spaniel Club of Eastern Nebraska
DESCRIPTION:Entries Close: Tuesday\, April 23\, 2019 11:59:59 PM Eastern Time(ET) on Hunt Secretary
URL:https://essft.com/event/english-springer-spaniel-club-of-eastern-nebraska-3/
LOCATION:Beyer\, 5505 N 230th St\, Elkhorn\, NE 68022\, USA\, Omaha\, Nebraska\, 68022\, United States
CATEGORIES:Hunt Tests
GEO:41.307179;-96.266813
X-APPLE-STRUCTURED-LOCATION;VALUE=URI;X-ADDRESS=Beyer 5505 N 230th St Elkhorn NE 68022 USA Omaha Nebraska 68022 United States;X-APPLE-RADIUS=500;X-TITLE=5505 N 230th St\, Elkhorn\, NE 68022\, USA:geo:-96.266813,41.307179
END:VEVENT
BEGIN:VEVENT
DTSTART;TZID=America/Chicago:20190504T000000
DTEND;TZID=America/Chicago:20190505T000000
DTSTAMP:20260423T154325
CREATED:20250611T204435Z
LAST-MODIFIED:20250611T204435Z
UID:10009944-1556928000-1557014400@essft.com
SUMMARY:Minnesota Heartland Springer Spaniel Club
DESCRIPTION:RESCHEDULED DUE TO SNOW!  NEW DATE  MAY 4-5\, 2019\nEntries Close:  Tuesday\, April 23\, 2019 11:59:59 PM Eastern Time(ET) on Hunt Secretary \nJudges:  Skip Smith and Kathy Sleavin\n(Joe Stallman is not available to Judge as originally planned.) \n  \n\n		\n			\n			\n		\n\n		\n  \nSame grounds just hopefully less snow! \n \n  \n  \n[wunderground location=”Waterville\, MN” numdays=”5″ showdata=”alert\,daynames\,pop\,icon\,highlow\,conditions\,date” layout=”table-horizontal”] \n 
URL:https://essft.com/event/minnesota-heartland-springer-spaniel-club-2/
LOCATION:Steven Wesley Farm\, Waterville\, MN 56096\, USA\, Waterville\, Minnesota\, 56096\, United States
CATEGORIES:Field Trials - Mid West
GEO:44.218853;-93.568002
X-APPLE-STRUCTURED-LOCATION;VALUE=URI;X-ADDRESS=Steven Wesley Farm Waterville MN 56096 USA Waterville Minnesota 56096 United States;X-APPLE-RADIUS=500;X-TITLE=Waterville\, MN 56096\, USA:geo:-93.568002,44.218853
END:VEVENT
BEGIN:VEVENT
DTSTART;TZID=America/Chicago:20190504T000000
DTEND;TZID=America/Chicago:20190505T000000
DTSTAMP:20260423T154326
CREATED:20250611T204414Z
LAST-MODIFIED:20250611T204414Z
UID:10009941-1556928000-1557014400@essft.com
SUMMARY:AKC Week 18
DESCRIPTION:
URL:https://essft.com/event/akc-week-18-2/
LOCATION:Oregon
END:VEVENT
BEGIN:VEVENT
DTSTART;TZID=America/Chicago:20190504T000000
DTEND;TZID=America/Chicago:20190505T000000
DTSTAMP:20260423T154326
CREATED:20250611T204414Z
LAST-MODIFIED:20250611T204414Z
UID:10009942-1556928000-1557014400@essft.com
SUMMARY:Southern Tier Field Trial Association
DESCRIPTION:Entries Close:  April 24\, 2019 on  Hunt Secretary \n  \nJudges: Kathy Nestor and Elaine VanderSlice\n\n		\n			\n			\n		\n\n		\n\n		\n			\n			\n		\n\n		\n  \n[wunderground location=”Caniesteo\, NY” numdays=”5″ showdata=”alert\,daynames\,pop\,icon\,highlow\,conditions\,date” layout=”table-horizontal”] \n 
URL:https://essft.com/event/southern-tier-field-trial-association-3/
LOCATION:David Ignatowski Farm\, 6225 Dublin Rd\, Canisteo\, NY 14823\, USA\, Canisteo\, New York\, 14823\, United States
CATEGORIES:Field Trials - East
GEO:42.302756;-77.486056
X-APPLE-STRUCTURED-LOCATION;VALUE=URI;X-ADDRESS=David Ignatowski Farm 6225 Dublin Rd Canisteo NY 14823 USA Canisteo New York 14823 United States;X-APPLE-RADIUS=500;X-TITLE=6225 Dublin Rd\, Canisteo\, NY 14823\, USA:geo:-77.486056,42.302756
END:VEVENT
BEGIN:VEVENT
DTSTART;TZID=America/Chicago:20190502T000000
DTEND;TZID=America/Chicago:20190503T000000
DTSTAMP:20260423T154326
CREATED:20250611T204414Z
LAST-MODIFIED:20250611T204414Z
UID:10009940-1556755200-1556841600@essft.com
SUMMARY:St. Croix Valley Spaniel Club
DESCRIPTION:DATE CHANGED FROM APRIL 11/12 to MAY 2/3.\nEntries Close:  Sunday\, April 21\, 2019 11:59:59 PM Eastern Time(ET) on Hunt Secretary \nJudges: Pete Zuleger and Tim DeGroff\n\n\n\n\n\n\n\n\n\n\n\nST. CROIX VALLEY SPANIEL CLUB\n\n\n\n\n\n\n\n\n\n\n\n\n2019 SPRING TRIAL\n\nDear Trialers\,\nThe St. Croix Valley Spaniel Club is having our spring field trial on Thursday\, May 2 for the Open and Friday\, May 3 for the Amateur & Puppy. We are using Hunt Secretary for entries.\n\nOnce again we will be holding our trial on the grounds of the Long Pond Elk Farm in Princeton.\n\nJudges for the Open & Amateur:\nPete Zuleger\, Appleton\, WI\nTim Degroff\, Carr\, CO\nPuppy judges are Greg Duren & Terry Sworsky\n\nBirds:\nPheasants for the Open & Amateur\nPigeons for the Puppy\n\nGrounds:\nLong Pond Elk Farm\n10940 293rd Ave.\nPrinceton\, MN 55371\n\nHeadquarters Motel:\nAmericanInn\n910 S Rum River Drive\nPrinceton\, MN  55371  763-389-9312\nThey have set aside a block of 10 rooms under St. Croix Valley’s name until April 1st at a rate of $112.99 plus tax. AmericInn does not allow pets in the rooms. They are located 7 miles from the grounds.\n\nOther Area Motels:\nSuper 8 – Milaca\, MN\, 320-983-2660\, $77 per nite\nNo pets allowed\, 17 miles from the grounds.\n\n\nCountry Inn & Suites – Elk River\, MN\, 763-241-6990\, $108 per nite\nNo pets allowed\, 21 miles from the grounds.\n\nAmericInn\n3430 Northdale Blvd NW\nCoon Rapids 763-323-0010\n 30 miles from grounds\, no pets\, call for rate as they change depending upon the day of the week\n\nATV/UTV Use: \nUse on centerline will be restricted to the bird planters & persons known to have a physical disability. Those using a motorized vehicle for physical disability purposes must keep their vehicle at least 1 flag behind the gallery & stop for trialers trying to get to & from the line. Use of these vehicles for all other trialers will be made on the morning of the trial while taking into consideration the condition of the field.\n\nClub Contacts:\nKevin Martineau\, Field Trial Chair\, 651-260-7108\, kmartineau51@gmail.com\nDeb Livingston Field Trial Secretary\, 763-422-8044\, gregdebliving@aol.com\nMike McGinty\, Gun Captain\, 612-272-6045\, lindamcgty@aol.com\n\nWe hope to see you at our trial. Please feel free to contact anyone listed above with any questions or concerns you may have.\n\nKevin Martineau\n\n\n\n\n\n\n\n\n\n\n\n\nField Trial Chairman\n\n\n\n\n\n\n\n\n\n\n\n\n\n\n\n\n\n\n\n\n\n\n\n\n\n\n\n\n		\n			\n			\n		\n\n		\n\n\n\n\n\n\n\n\n\n\n\n\n\n\n\n\n\n\n\n\n\n  \n 
URL:https://essft.com/event/st-croix-valley-spaniel-club-7/
LOCATION:Long Pond Elk Farm\, 10940 293rd Ave NW\, Princeton\, MN 55371\, USA\, Princeton\, Minnesota\, 55371\, United States
CATEGORIES:Field Trials - Mid West
GEO:45.510557;-93.554875
X-APPLE-STRUCTURED-LOCATION;VALUE=URI;X-ADDRESS=Long Pond Elk Farm 10940 293rd Ave NW Princeton MN 55371 USA Princeton Minnesota 55371 United States;X-APPLE-RADIUS=500;X-TITLE=10940 293rd Ave NW\, Princeton\, MN 55371\, USA:geo:-93.554875,45.510557
END:VEVENT
BEGIN:VEVENT
DTSTART;TZID=America/Chicago:20190501T000000
DTEND;TZID=America/Chicago:20190501T000000
DTSTAMP:20260423T154326
CREATED:20250611T204414Z
LAST-MODIFIED:20250611T204414Z
UID:10009939-1556668800-1556668800@essft.com
SUMMARY:WSSCA Spaniel Hunt Test
DESCRIPTION:Entries Close: Wednesday\, April 17\, 2019 11:59:59 PM Eastern Time(ET) on Hunt Secretary \n 
URL:https://essft.com/event/wssca-spaniel-hunt-test/
LOCATION:Milford Hills Hunt Club\, 5670 French Rd\, Watertown\, WI\, United States
CATEGORIES:Hunt Tests
GEO:43.132933;-88.812962
X-APPLE-STRUCTURED-LOCATION;VALUE=URI;X-ADDRESS=Milford Hills Hunt Club 5670 French Rd Watertown WI United States;X-APPLE-RADIUS=500;X-TITLE=5670 French Rd:geo:-88.812962,43.132933
END:VEVENT
BEGIN:VEVENT
DTSTART;TZID=America/Chicago:20190427T000000
DTEND;TZID=America/Chicago:20190428T000000
DTSTAMP:20260423T154326
CREATED:20250611T204413Z
LAST-MODIFIED:20250611T204413Z
UID:10009938-1556323200-1556409600@essft.com
SUMMARY:Missouri Hunting Spaniel Club 2019 Spring Hunt Test
DESCRIPTION:https://www.huntsecretary.com/eventinfo_A.asp?mhuntid=1003343 \n 
URL:https://essft.com/event/missouri-hunting-spaniel-club-2019-spring-hunt-test/
LOCATION:Horse Creek Ranch\, Galena\, MO 65656\, USA\, Galena\, Missouri\, 65656\, United States
CATEGORIES:Hunt Tests
GEO:36.805338;-93.466579
X-APPLE-STRUCTURED-LOCATION;VALUE=URI;X-ADDRESS=Horse Creek Ranch Galena MO 65656 USA Galena Missouri 65656 United States;X-APPLE-RADIUS=500;X-TITLE=Galena\, MO 65656\, USA:geo:-93.466579,36.805338
END:VEVENT
BEGIN:VEVENT
DTSTART;TZID=America/Chicago:20190427T000000
DTEND;TZID=America/Chicago:20190428T000000
DTSTAMP:20260423T154326
CREATED:20250611T204359Z
LAST-MODIFIED:20250611T204359Z
UID:10009937-1556323200-1556409600@essft.com
SUMMARY:COCKER: ECSCA/Parent Club Cocker Field Trail
DESCRIPTION:Entries Close: Tuesday\, April 16\, 2019 11:59:59 PM Eastern Time(ET) on Hunt Secretary. \n 
URL:https://essft.com/event/cocker-ecsca-parent-club-cocker-field-trail/
LOCATION:Oasis Game Farm\, New Glarus\, WI 53574\, USA\, New Glarus\, Wisconsin\, 53574\, United States
CATEGORIES:Cocker Trial
GEO:42.837895;-89.729012
X-APPLE-STRUCTURED-LOCATION;VALUE=URI;X-ADDRESS=Oasis Game Farm New Glarus WI 53574 USA New Glarus Wisconsin 53574 United States;X-APPLE-RADIUS=500;X-TITLE=New Glarus\, WI 53574\, USA:geo:-89.729012,42.837895
END:VEVENT
BEGIN:VEVENT
DTSTART;TZID=America/Chicago:20190427T000000
DTEND;TZID=America/Chicago:20190428T000000
DTSTAMP:20260423T154326
CREATED:20250611T204359Z
LAST-MODIFIED:20250611T204359Z
UID:10009934-1556323200-1556409600@essft.com
SUMMARY:AKC Week 17
DESCRIPTION:
URL:https://essft.com/event/akc-week-17-2/
LOCATION:Oregon
END:VEVENT
BEGIN:VEVENT
DTSTART;TZID=America/Chicago:20190427T000000
DTEND;TZID=America/Chicago:20190428T000000
DTSTAMP:20260423T154326
CREATED:20250611T204359Z
LAST-MODIFIED:20250611T204359Z
UID:10009935-1556323200-1556409600@essft.com
SUMMARY:Iowa Sporting Spaniel Club  Trial #2
DESCRIPTION:Open and Puppies on Saturday\, Amateur on Sunday. \nEntries Close: Tuesday\, April 16\, 2019 11:59:59 PM Eastern Time(ET)  on Hunt Secretary.\nJudges: Clay Earl and Bob Beauchamp\n  \n\n		\n			\n			\n		\n\n		\n  \n[wunderground location=”Monroe\, IA” numdays=”5″ showdata=”alert\,daynames\,pop\,icon\,highlow\,conditions\,date” layout=”table-horizontal”] \n 
URL:https://essft.com/event/iowa-sporting-spaniel-club-trial-2-2/
LOCATION:Mik Noland Farm\, 2941 Rosebud Ave\, Monroe\, IA 50170\, USA\, Monroe\, Iowa\, 50170\, United States
CATEGORIES:Field Trials - Mid West
GEO:41.531214;-93.086823
X-APPLE-STRUCTURED-LOCATION;VALUE=URI;X-ADDRESS=Mik Noland Farm 2941 Rosebud Ave Monroe IA 50170 USA Monroe Iowa 50170 United States;X-APPLE-RADIUS=500;X-TITLE=2941 Rosebud Ave\, Monroe\, IA 50170\, USA:geo:-93.086823,41.531214
END:VEVENT
BEGIN:VEVENT
DTSTART;TZID=America/Chicago:20190427T000000
DTEND;TZID=America/Chicago:20190428T000000
DTSTAMP:20260423T154326
CREATED:20250611T204359Z
LAST-MODIFIED:20250611T204359Z
UID:10009936-1556323200-1556409600@essft.com
SUMMARY:Central New England Sporting Spaniel Club
DESCRIPTION:Central New England Sporting Spaniel Club Field Trial being held this week-end  April 27 & 28\, 2019   The new location is 6225 Dublin Rd   Canisteo\, NY  14823\n? \nEntries Close: Tuesday\, April 16\, 2019 11:59:59 PM Eastern Time(ET) on HUNT SECRETARY \nJudges: Chuck Urland III and Chris Jensen\n  \n\n		\n			\n			\n		\n\n		\n  \n[wunderground location=”Howard\, NY” numdays=”5″ showdata=”alert\,daynames\,pop\,icon\,highlow\,conditions\,date” layout=”table-horizontal”] \n  \n  \n  \n  \n  \n 
URL:https://essft.com/event/central-new-england-sporting-spaniel-club-5/
LOCATION:Oregon
CATEGORIES:Field Trials - East
END:VEVENT
BEGIN:VEVENT
DTSTART;TZID=America/Chicago:20190426T000000
DTEND;TZID=America/Chicago:20190428T000000
DTSTAMP:20260423T154326
CREATED:20250611T204358Z
LAST-MODIFIED:20250611T204358Z
UID:10009933-1556236800-1556409600@essft.com
SUMMARY:COCKER:  North Dakota Sporting Spaniel Club
DESCRIPTION:Entries Close: Tuesday\, April 16\, 2019 11:59:59 PM Eastern Time(ET) on Hunt Secretary
URL:https://essft.com/event/cocker-north-dakota-sporting-spaniel-club/
LOCATION:Oregon
CATEGORIES:Cocker Trial
END:VEVENT
BEGIN:VEVENT
DTSTART;TZID=America/Chicago:20190426T000000
DTEND;TZID=America/Chicago:20190426T000000
DTSTAMP:20260423T154326
CREATED:20250611T204331Z
LAST-MODIFIED:20250611T204331Z
UID:10009932-1556236800-1556236800@essft.com
SUMMARY:Iowa Sporting Spaniel Club  Trial #1
DESCRIPTION:Entries Close:  Tuesday\, April 16\, 2019 11:59:59 PM Eastern Time(ET) on Hunt Secretary \nJudges: John Meyer and Jerry Barrett\n  \n\n		\n			\n			\n		\n\n		\n  \n[wunderground location=”Austin\, MN” numdays=”5″ showdata=”alert\,daynames\,pop\,icon\,highlow\,conditions\,date” layout=”table-horizontal”]
URL:https://essft.com/event/iowa-sporting-spaniel-club-trial-1-2/
LOCATION:Mike Noland Farm\, 2941 Rosebud Ave\, Monroe\, IA 50170\, USA\, Monroe\, Iowa\, 50170\, United States
CATEGORIES:Field Trials - Mid West
GEO:41.531214;-93.086823
X-APPLE-STRUCTURED-LOCATION;VALUE=URI;X-ADDRESS=Mike Noland Farm 2941 Rosebud Ave Monroe IA 50170 USA Monroe Iowa 50170 United States;X-APPLE-RADIUS=500;X-TITLE=2941 Rosebud Ave\, Monroe\, IA 50170\, USA:geo:-93.086823,41.531214
END:VEVENT
BEGIN:VEVENT
DTSTART;TZID=America/Chicago:20190421T000000
DTEND;TZID=America/Chicago:20190421T000000
DTSTAMP:20260423T154326
CREATED:20250611T204331Z
LAST-MODIFIED:20250611T204331Z
UID:10009930-1555804800-1555804800@essft.com
SUMMARY:Easter
DESCRIPTION:
URL:https://essft.com/event/easter/
LOCATION:Oregon
CATEGORIES:Holidays
END:VEVENT
END:VCALENDAR