BEGIN:VCALENDAR
VERSION:2.0
PRODID:-//English Springer Spaniel Field Trials - ECPv6.15.20//NONSGML v1.0//EN
CALSCALE:GREGORIAN
METHOD:PUBLISH
X-WR-CALNAME:English Springer Spaniel Field Trials
X-ORIGINAL-URL:https://essft.com
X-WR-CALDESC:Events for English Springer Spaniel Field Trials
REFRESH-INTERVAL;VALUE=DURATION:PT1H
X-Robots-Tag:noindex
X-PUBLISHED-TTL:PT1H
BEGIN:VTIMEZONE
TZID:America/Chicago
BEGIN:DAYLIGHT
TZOFFSETFROM:-0600
TZOFFSETTO:-0500
TZNAME:CDT
DTSTART:20190310T080000
END:DAYLIGHT
BEGIN:STANDARD
TZOFFSETFROM:-0500
TZOFFSETTO:-0600
TZNAME:CST
DTSTART:20191103T070000
END:STANDARD
BEGIN:DAYLIGHT
TZOFFSETFROM:-0600
TZOFFSETTO:-0500
TZNAME:CDT
DTSTART:20200308T080000
END:DAYLIGHT
BEGIN:STANDARD
TZOFFSETFROM:-0500
TZOFFSETTO:-0600
TZNAME:CST
DTSTART:20201101T070000
END:STANDARD
BEGIN:DAYLIGHT
TZOFFSETFROM:-0600
TZOFFSETTO:-0500
TZNAME:CDT
DTSTART:20210314T080000
END:DAYLIGHT
BEGIN:STANDARD
TZOFFSETFROM:-0500
TZOFFSETTO:-0600
TZNAME:CST
DTSTART:20211107T070000
END:STANDARD
END:VTIMEZONE
BEGIN:VEVENT
DTSTART;TZID=America/Chicago:20200328T000000
DTEND;TZID=America/Chicago:20200329T000000
DTSTAMP:20260423T062940
CREATED:20250612T032358Z
LAST-MODIFIED:20250612T032358Z
UID:10010196-1585353600-1585440000@essft.com
SUMMARY:Clumber Spaniel Club of America Hunt Test
DESCRIPTION:3/17/2020: Canceled\n  \nEntries Close: Tuesday\, March 17\, 2020 11:59:59 PM Eastern Time(ET) on Hunt Secretary
URL:https://essft.com/event/clumber-spaniel-club-of-america-hunt-test/
LOCATION:Oregon
CATEGORIES:Hunt Tests
END:VEVENT
BEGIN:VEVENT
DTSTART;TZID=America/Chicago:20200328T000000
DTEND;TZID=America/Chicago:20200329T000000
DTSTAMP:20260423T062940
CREATED:20250612T032344Z
LAST-MODIFIED:20250612T032344Z
UID:10010193-1585353600-1585440000@essft.com
SUMMARY:Western Washington ESS Club
DESCRIPTION:3/17/2020: Canceled\nEntries Close: Tuesday\, March 17\, 2020 11:59:59 PM Eastern Time(ET) on Hunt Secretary \nJudges: Scott Hoover and James O’Shea\nCocker trial – Open and Puppy Friday March 27\, Amateur Saturday March 28\nSpringer trial – Open and Puppy Sunday March 29\, Amateur Saturday March 28 \n\n		\n			\n			\n		\n\n		\nGreetings\, fellow fieldtrialers! \nAfter much discussion with members at today’s Western Washington English Springer Spaniel Club meeting\, and following the lead of the Utah Springer Spaniel Club it was decided to go ahead with our Springer and Cocker trials on March 26-28 at Scatter Creek Wildlife Area near Rochester\, WA. \nThe Corona Virus is a serious situation that our state\, nation and world are facing.  Washington was the first state to have cases of COVID-19\, however the majority of those cases were located near Seattle about 100 miles north of the trial location.  We believe the risks for transmission of the virus at the trial location and in the outdoor environment to be low at this time. \nWe are sending this message out to make sure everyone entered in the trial understands that if you choose to come it will be at your own risk and no responsibility will be placed upon the club. If you choose to cancel you will receive a full refund\, and we will understand. \nWe ask that if you are sick\, please stay home and recover. At the trial we ask you all to take every precaution possible. We will provide sanitizing wipes and liquid hand sanitizer. \nUnfortunately\, we will be unable to serve lunches at the trial so please come prepared with your own food and drinks.  There are stores and restaurants within a few miles of the trial location. \nWe hope to see you all on the weekend of the 26th-28th\, and we promise you a good time and a great trial!  We appreciate you all and are looking forward to seeing you at the trial. \nTravel safely\, if you have any questions\, concerns or comments\, please let me know.\nDave Sadler \nseacrete_56@yahoo.com \nWWESSC Field Trial Committee
URL:https://essft.com/event/western-washington-ess-club-2/
LOCATION:Oregon
CATEGORIES:Field Trials - West
ORGANIZER;CN="Melissa Knapp":MAILTO:melissa.s.knapp@gmail.com
END:VEVENT
BEGIN:VEVENT
DTSTART;TZID=America/Chicago:20200328T000000
DTEND;TZID=America/Chicago:20200329T000000
DTSTAMP:20260423T062940
CREATED:20250612T032344Z
LAST-MODIFIED:20250612T032344Z
UID:10010194-1585353600-1585440000@essft.com
SUMMARY:Minnesota Heartland Springer Spaniel Club
DESCRIPTION:3/16/2020:  Postponed indefinitely.   The club is looking at holding 2 trials this fall.\n  \nEntries Close: Tuesday\, March 17\, 2020 11:59:59 PM Eastern Time(ET) on Hunt Secretary \nJudges:  Joe Coady and Darrell Kurszewski  *Nelson “Buzz” Benson will be apprenticing.\n\n		\n			\n			\n		\n\n		\n 
URL:https://essft.com/event/minnesota-heartland-springer-spaniel-club-3/
LOCATION:Oregon
CATEGORIES:Field Trials - Mid West
END:VEVENT
BEGIN:VEVENT
DTSTART;TZID=America/Chicago:20200328T000000
DTEND;TZID=America/Chicago:20200328T000000
DTSTAMP:20260423T062940
CREATED:20250612T032344Z
LAST-MODIFIED:20250612T032344Z
UID:10010195-1585353600-1585353600@essft.com
SUMMARY:AKC Spaniel Hunt Test Judges and Handlers Seminar
DESCRIPTION:The Great Lakes American Water Spaniel Club and the Southern Michigan Springer Spaniel Training Club invite you to attend the seminar. \nAs the AKC wants us to meet a 20 person minimum attendance level\,  three weeks prior to the seminar\,  reservations are required and must be received by March 5\, 2020. \nPresenter:  Tom Meyer\, AKC Field Representative \nStart time: 9:00 AM \nCost is $30.00 and includes lunch and beverages for the day. \nWeather\, field conditions\, and time  These dogs will be chosen ahead of time and unless otherwise notified\, attendees are encouraged to leave their dogs at home. \n  \nMake your check payable to GLAWSC \nMail your payment to Paul Morrison\, 11450 Durand RD\, Howell\, MI  48855 \n  \n  \n 
URL:https://essft.com/event/akc-spaniel-hunt-test-judges-and-handlers-seminar/
LOCATION:Oregon
CATEGORIES:Judging Seminar
END:VEVENT
BEGIN:VEVENT
DTSTART;TZID=America/Chicago:20200327T000000
DTEND;TZID=America/Chicago:20200328T000000
DTSTAMP:20260423T062940
CREATED:20250612T032343Z
LAST-MODIFIED:20250612T032343Z
UID:10010192-1585267200-1585353600@essft.com
SUMMARY:COCKER: Western Washington ESS Club
DESCRIPTION:Entries Close: Monday\, March 16\, 2020 11:59:59 PM Eastern Time(ET) on Hunt Secretary \nJudges:  Scott Hoover and James O’Shea\nCocker trial – Open and Puppy Friday March 27\, Amateur Saturday March 28\nSpringer trial – Open and Puppy Sunday March 29\, Amateur Saturday March 28
URL:https://essft.com/event/cocker-western-washington-ess-club/
LOCATION:Oregon
CATEGORIES:Cocker Trial
ORGANIZER;CN="Melissa Knapp":MAILTO:melissa.s.knapp@gmail.com
END:VEVENT
BEGIN:VEVENT
DTSTART;TZID=America/Chicago:20200324T000000
DTEND;TZID=America/Chicago:20200324T000000
DTSTAMP:20260423T062940
CREATED:20250612T032343Z
LAST-MODIFIED:20250612T032343Z
UID:10010191-1585008000-1585008000@essft.com
SUMMARY:Sportsmen's Spaniel Club of Calumet
DESCRIPTION:Entries Close: TBD on Hun Secretary \nJudges:  Pat Gilligan & Pete Zuleger
URL:https://essft.com/event/sportsmens-spaniel-club-of-calumet-6/
LOCATION:Oregon
CATEGORIES:Field Trials - Mid West
END:VEVENT
BEGIN:VEVENT
DTSTART;TZID=America/Chicago:20200321T000000
DTEND;TZID=America/Chicago:20200322T000000
DTSTAMP:20260423T062940
CREATED:20250612T032328Z
LAST-MODIFIED:20250612T032328Z
UID:10010189-1584748800-1584835200@essft.com
SUMMARY:New Jersey Spaniel Field Trial Club
DESCRIPTION:CANCELLED! \nJudges: Dominique Savoie and Richard Whelan
URL:https://essft.com/event/new-jersey-spaniel-field-trial-club-5/
LOCATION:Flint Hill Preserve\, 31 Flint Hill Rd\, Califon\, NJ 07830\, USA\, Califon\, New Jersey\, 7830\, United States
CATEGORIES:Field Trials - East
GEO:40.699561;-74.734026
X-APPLE-STRUCTURED-LOCATION;VALUE=URI;X-ADDRESS=Flint Hill Preserve 31 Flint Hill Rd Califon NJ 07830 USA Califon New Jersey 7830 United States;X-APPLE-RADIUS=500;X-TITLE=31 Flint Hill Rd\, Califon\, NJ 07830\, USA:geo:-74.734026,40.699561
END:VEVENT
BEGIN:VEVENT
DTSTART;TZID=America/Chicago:20200321T000000
DTEND;TZID=America/Chicago:20200322T000000
DTSTAMP:20260423T062941
CREATED:20250612T032328Z
LAST-MODIFIED:20250612T032328Z
UID:10010190-1584748800-1584835200@essft.com
SUMMARY:Susquehanna Valley English Springer Spaniel Club
DESCRIPTION:Entries will close at 11:59 PM Central Time on 03/09/2020 on Entry Express. \nJudges: Kevin Battistoni & George Kittle
URL:https://essft.com/event/susquehanna-valley-english-springer-spaniel-club-3/
LOCATION:Sinking Valley\, Tyrone\, PA 16686\, USA\, Tyrone\, Pennsylvania\, 16686\, United States
CATEGORIES:Field Trials - Mid East
GEO:40.670618;-78.238624
X-APPLE-STRUCTURED-LOCATION;VALUE=URI;X-ADDRESS=Sinking Valley Tyrone PA 16686 USA Tyrone Pennsylvania 16686 United States;X-APPLE-RADIUS=500;X-TITLE=Tyrone\, PA 16686\, USA:geo:-78.238624,40.670618
END:VEVENT
BEGIN:VEVENT
DTSTART;TZID=America/Chicago:20200320T000000
DTEND;TZID=America/Chicago:20200321T000000
DTSTAMP:20260423T062941
CREATED:20250612T032328Z
LAST-MODIFIED:20250612T032328Z
UID:10010188-1584662400-1584748800@essft.com
SUMMARY:Utah Springer Spaniel Club
DESCRIPTION:Entries Close: Noon MDT\, Wednesday\, March 11\, 2020 with the FTS. \nMAIL ADVANCE ENTRIES WITH CHECKS TO:\nCharles Tatton\, Field Trial Secretary\n2385 East 3510 South\, Millcreek\, UT 84109\nPhone: 801-448-2466\nE-mail: ussc@brentblundell.com\nEmail and phone entries will be accepted. \nJudges:  Bob Fink and Pete Zuleger\n 
URL:https://essft.com/event/utah-springer-spaniel-club-11/
LOCATION:Lee Kay Wildlife Management Area\, 6000 2100 S\, Salt Lake City\, UT 84128\, USA\, Salt Lake City\, Utah\, 84128\, United States
CATEGORIES:Field Trials - West
ORGANIZER;CN="Charles Tatton%2C FTS":MAILTO:tatton@brentblundell.com
GEO:40.728588;-112.02523
X-APPLE-STRUCTURED-LOCATION;VALUE=URI;X-ADDRESS=Lee Kay Wildlife Management Area 6000 2100 S Salt Lake City UT 84128 USA Salt Lake City Utah 84128 United States;X-APPLE-RADIUS=500;X-TITLE=6000 2100 S\, Salt Lake City\, UT 84128\, USA:geo:-112.02523,40.728588
END:VEVENT
BEGIN:VEVENT
DTSTART;TZID=America/Chicago:20200314T000000
DTEND;TZID=America/Chicago:20200315T000000
DTSTAMP:20260423T062941
CREATED:20250612T032328Z
LAST-MODIFIED:20250612T032328Z
UID:10010187-1584144000-1584230400@essft.com
SUMMARY:Valley Forge Field Trial Association
DESCRIPTION:Entries Close: Tuesday\, March 3\, 2020 11:59:59 PM Eastern Time(ET) on Hunt Secretary \nJudges: Gary Soper and Todd Agnew
URL:https://essft.com/event/valley-forge-field-trial-association-6/
LOCATION:Oregon
CATEGORIES:Field Trials - East
ORGANIZER;CN="Bill Pierson":MAILTO:bill@Pierson.com
END:VEVENT
BEGIN:VEVENT
DTSTART;TZID=America/Chicago:20200314T000000
DTEND;TZID=America/Chicago:20200315T000000
DTSTAMP:20260423T062941
CREATED:20250612T032328Z
LAST-MODIFIED:20250612T032328Z
UID:10010186-1584144000-1584230400@essft.com
SUMMARY:ESSFT Club of Illinois
DESCRIPTION:Entries Close: Tuesday\, March 3\, 2020 11:59:59 PM Eastern Time(ET) on Hunt Secretary \nJudges:  Tom Menzel and Mike Pollack\n\n		\n			\n			\n		\n\n		\nFrom I55 please exit at River Road North and follow River Road through the park\, past the cook shack\, to the T at Blodget.  Turn left\, heading west\, on Blodget approximately 1 mile to area 10 on your left.  You should see flags and signs along the way. \nThis is an area we haven’t used in quite some time\, but I feel it provides the best cover for dog work.  The 3rd series location is still to be settled\, but will likely be closer to the cookshack. \nPlease note the parking area to this lot is smaller than I would like.  We’ll be managing that on-site as needed.  I think with proper management it does have to be an issue\, but please be mindful of it when you park. \nAlthough we will not be having an official “banquet”\, we will be gathering for dinner at Al’s Steak House in Joliet – the long standing traditional location.  Please feel free to join us for dinner\, and please just let me know you’re interested so I can adjust the head count as needed.
URL:https://essft.com/event/essft-club-of-illinois/
LOCATION:Oregon
CATEGORIES:Field Trials - Mid West
END:VEVENT
BEGIN:VEVENT
DTSTART;TZID=America/Chicago:20200314T000000
DTEND;TZID=America/Chicago:20200315T000000
DTSTAMP:20260423T062941
CREATED:20250612T032128Z
LAST-MODIFIED:20250612T032128Z
UID:10010185-1584144000-1584230400@essft.com
SUMMARY:Green Valley Spaniel Club
DESCRIPTION:Entries Close: Tuesday\, March 3\, 2020 11:59:59 PM Eastern Time(ET) on Hunt Secretary \nJudges:  Renee Shannon and Steve Bender
URL:https://essft.com/event/green-valley-spaniel-club-4/
LOCATION:Raahauges Pheasant Club\, Dunnigan\, CA\, USA\, Dunnigan\, California\, United States
CATEGORIES:Field Trials - West
GEO:38.885238;-121.96958
X-APPLE-STRUCTURED-LOCATION;VALUE=URI;X-ADDRESS=Raahauges Pheasant Club Dunnigan CA USA Dunnigan California United States;X-APPLE-RADIUS=500;X-TITLE=Dunnigan\, CA\, USA:geo:-121.96958,38.885238
END:VEVENT
BEGIN:VEVENT
DTSTART;TZID=America/Chicago:20200312T000000
DTEND;TZID=America/Chicago:20200315T000000
DTSTAMP:20260423T062941
CREATED:20250612T032128Z
LAST-MODIFIED:20250612T032128Z
UID:10010184-1583971200-1584230400@essft.com
SUMMARY:Springer Spaniel Club of Central Kansas - 2 Full Trials!
DESCRIPTION:Entries Close: Monday\, March 2\, 2020 11:59:59 PM Eastern Time(ET) on Hunt Secretary \nThursday/Friday Judges:   Jack Markowski and Tim Edwards    Harold Hiles\nSaturday/Sunday Judges:  Richard Paquin and James Naber\n 
URL:https://essft.com/event/springer-spaniel-club-of-central-kansas-2-full-trials/
LOCATION:Springer Hollow Farm\, 12826 SW 77 Ave\, Zenda\, KS 67159\, USA\, Zenda\, Kansas\, 67159\, United States
CATEGORIES:Field Trials - Rocky Mountain
GEO:37.460004;-98.259078
X-APPLE-STRUCTURED-LOCATION;VALUE=URI;X-ADDRESS=Springer Hollow Farm 12826 SW 77 Ave Zenda KS 67159 USA Zenda Kansas 67159 United States;X-APPLE-RADIUS=500;X-TITLE=12826 SW 77 Ave\, Zenda\, KS 67159\, USA:geo:-98.259078,37.460004
END:VEVENT
BEGIN:VEVENT
DTSTART;TZID=America/Chicago:20200308T000000
DTEND;TZID=America/Chicago:20200309T000000
DTSTAMP:20260423T062941
CREATED:20250612T032128Z
LAST-MODIFIED:20250612T032128Z
UID:10010182-1583625600-1583712000@essft.com
SUMMARY:Rocky Mountain Springer Spaniel Association Spring Field Trial
DESCRIPTION:Entries Close: Tuesday\, February 25\, 2020 11:59:59 PM Eastern Time(ET) on Hunt Secretary \nJudges: Bob Bullard and Daryl Roth   Chuck Petrmichl
URL:https://essft.com/event/rocky-mountain-springer-spaniel-association-spring-field-trial/
LOCATION:Miller Property\, Fort Lupton\, CO 80621\, USA\, Fort Lupton\, Colorado\, 80621\, United States
CATEGORIES:Field Trials - Rocky Mountain
GEO:40.119569;-104.715823
X-APPLE-STRUCTURED-LOCATION;VALUE=URI;X-ADDRESS=Miller Property Fort Lupton CO 80621 USA Fort Lupton Colorado 80621 United States;X-APPLE-RADIUS=500;X-TITLE=Fort Lupton\, CO 80621\, USA:geo:-104.715823,40.119569
END:VEVENT
BEGIN:VEVENT
DTSTART;TZID=America/Chicago:20200308T000000
DTEND;TZID=America/Chicago:20200308T000000
DTSTAMP:20260423T062941
CREATED:20250612T032128Z
LAST-MODIFIED:20250612T032128Z
UID:10010183-1583625600-1583625600@essft.com
SUMMARY:Daylight Saving (Start)
DESCRIPTION:
URL:https://essft.com/event/daylight-saving-start/
LOCATION:Oregon
CATEGORIES:Holidays
END:VEVENT
BEGIN:VEVENT
DTSTART;TZID=America/Chicago:20200307T000000
DTEND;TZID=America/Chicago:20200308T000000
DTSTAMP:20260423T062941
CREATED:20250612T032127Z
LAST-MODIFIED:20250612T032127Z
UID:10010181-1583539200-1583625600@essft.com
SUMMARY:Northern Colorado Springer Spaniel Club
DESCRIPTION:Entries Close: Monday\, February 24\, 2020 11:59:59 PM Eastern Time(ET) on Hunt Secretary \nJudges: Kathy Nestor and James O’Shea
URL:https://essft.com/event/northern-colorado-springer-spaniel-club-5-4/
LOCATION:Dipallo Farm\, Fort Lupton\, CO 80621\, USA\, Fort Lupton\, Colorado\, 80621\, United States
CATEGORIES:Field Trials - Rocky Mountain
GEO:40.084705;-104.813027
X-APPLE-STRUCTURED-LOCATION;VALUE=URI;X-ADDRESS=Dipallo Farm Fort Lupton CO 80621 USA Fort Lupton Colorado 80621 United States;X-APPLE-RADIUS=500;X-TITLE=Fort Lupton\, CO 80621\, USA:geo:-104.813027,40.084705
END:VEVENT
BEGIN:VEVENT
DTSTART;TZID=America/Chicago:20200307T000000
DTEND;TZID=America/Chicago:20200308T000000
DTSTAMP:20260423T062941
CREATED:20250612T031928Z
LAST-MODIFIED:20250612T031928Z
UID:10010179-1583539200-1583625600@essft.com
SUMMARY:COCKER: Mid-Atlantic Spaniel Club
DESCRIPTION:
URL:https://essft.com/event/cocker-mid-atlantic-spaniel-club/
LOCATION:Oregon
CATEGORIES:Cocker Trial
END:VEVENT
BEGIN:VEVENT
DTSTART;TZID=America/Chicago:20200307T000000
DTEND;TZID=America/Chicago:20200308T000000
DTSTAMP:20260423T062941
CREATED:20250612T031928Z
LAST-MODIFIED:20250612T031928Z
UID:10010180-1583539200-1583625600@essft.com
SUMMARY:Mid-Penn Field Trial
DESCRIPTION:  \nEntries will close at 11:59 PM Central Time on 02/24/2020 on Entry Express \nJudges: David Anderson & Raymond Nault\n 
URL:https://essft.com/event/mid-penn-field-trial/
LOCATION:Oregon
CATEGORIES:Field Trials - Mid East
END:VEVENT
BEGIN:VEVENT
DTSTART;TZID=America/Chicago:20200306T000000
DTEND;TZID=America/Chicago:20200308T000000
DTSTAMP:20260423T062941
CREATED:20250612T031928Z
LAST-MODIFIED:20250612T031928Z
UID:10010178-1583452800-1583625600@essft.com
SUMMARY:Gun Dog Seminar by Todd Agnew  March 6-8\, 2020 in Mitchell\, Georgia
DESCRIPTION:Dogs and participants will be limited so contact us to reserve your slot…it is likely that they will fill quickly. We will be covering our entire program from an 8-week old puppy to a finished gun dog with all the exposure\, shaping\, obedience training and field training that is required. This is for gun dogs\, hunt test participants and those with field trial aspirations. You can train your own dog\, you probably just need some guidance on how to get the job done. \nClick Here to Sign Up! \n\n\n\n\n\n\n\n\n\n\n\n\n\n\n\n\n\n\n\n\n\n 
URL:https://essft.com/event/gun-dog-seminar-by-todd-agnew-march-6-8-2020-in-mitchell-georgia/
LOCATION:Oregon
CATEGORIES:Training Seminar
END:VEVENT
BEGIN:VEVENT
DTSTART;TZID=America/Chicago:20200305T000000
DTEND;TZID=America/Chicago:20200306T000000
DTSTAMP:20260423T062941
CREATED:20250612T031928Z
LAST-MODIFIED:20250612T031928Z
UID:10010177-1583366400-1583452800@essft.com
SUMMARY:COCKER: Northern Colorado
DESCRIPTION:Entries Close: Monday\, February 24\, 2020 11:59:59 PM Eastern Time(ET) on Hunt Secretary \nJudges: Kathy Nestor and Jim O’Shea \n 
URL:https://essft.com/event/cocker-northern-colorado/
LOCATION:Dipallo Farm\, Fort Lupton\, CO 80621\, USA\, Fort Lupton\, Colorado\, 80621\, United States
CATEGORIES:Cocker Trial
GEO:40.084705;-104.813027
X-APPLE-STRUCTURED-LOCATION;VALUE=URI;X-ADDRESS=Dipallo Farm Fort Lupton CO 80621 USA Fort Lupton Colorado 80621 United States;X-APPLE-RADIUS=500;X-TITLE=Fort Lupton\, CO 80621\, USA:geo:-104.813027,40.084705
END:VEVENT
BEGIN:VEVENT
DTSTART;TZID=America/Chicago:20200229T000000
DTEND;TZID=America/Chicago:20200301T000000
DTSTAMP:20260423T062941
CREATED:20250612T031927Z
LAST-MODIFIED:20250612T031927Z
UID:10010176-1582934400-1583020800@essft.com
SUMMARY:North Texas Sporting Spaniel Club Hunt Test
DESCRIPTION:Entries Close: Wednesday\, February 19\, 2020 11:59:59 PM Eastern Time(ET) on Hunt Secretary \nJudges: Alan Young and Jennifer Sherman
URL:https://essft.com/event/north-texas-sporting-spaniel-club-hunt-test-4/
LOCATION:Oregon
CATEGORIES:Hunt Tests
END:VEVENT
BEGIN:VEVENT
DTSTART;TZID=America/Chicago:20200229T000000
DTEND;TZID=America/Chicago:20200301T000000
DTSTAMP:20260423T062941
CREATED:20250612T031728Z
LAST-MODIFIED:20250612T031728Z
UID:10010173-1582934400-1583020800@essft.com
SUMMARY:Keystone English Springer Spaniel Club
DESCRIPTION:Entries Close:  TBD \nJudges: TBD\nWe are waiting for additional information from the Field Trial Secretary/Committee.  Please be patient.
URL:https://essft.com/event/keystone-english-springer-spaniel-club-4/
LOCATION:Oregon
CATEGORIES:Field Trials - East
END:VEVENT
BEGIN:VEVENT
DTSTART;TZID=America/Chicago:20200229T000000
DTEND;TZID=America/Chicago:20200301T000000
DTSTAMP:20260423T062941
CREATED:20250612T031728Z
LAST-MODIFIED:20250612T031728Z
UID:10010174-1582934400-1583020800@essft.com
SUMMARY:COCKER: Tamarin Spaniel Field Trial Club- COCKER FT (Double Open)
DESCRIPTION:Entries Close: Tuesday\, February 18\, 2020 at 11:59 P.M. Eastern Time(ET) on Hunt Secretary \nJudges:  David Jones and Alex Cacchio\n 
URL:https://essft.com/event/cocker-tamarin-spaniel-field-trial-club-cocker-ft-double-open/
LOCATION:Oregon
CATEGORIES:Cocker Trial
END:VEVENT
BEGIN:VEVENT
DTSTART;TZID=America/Chicago:20200229T000000
DTEND;TZID=America/Chicago:20200301T000000
DTSTAMP:20260423T062941
CREATED:20250612T031728Z
LAST-MODIFIED:20250612T031728Z
UID:10010175-1582934400-1583020800@essft.com
SUMMARY:Cincinnati English Springer Spaniel Field Trial Club Spring 2020
DESCRIPTION:  \nThe Cincinnati fall trial is moving to: \nOhio Northern University Farm\n14628 OH-235\nBelleCenter\, Oh 43310 \nDisclaimer on hotels: Current Hotels in Marysville are an approximate 1/2 + hour drive to new grounds. \nThe following list of hotels are 15 – 20 minutes:\nHoliday Inn & Suites Lima\, 803 S. Leonard Ave. Lima\, OH 45804 (419)879-4000\nCountry Inn & Suites\, 804 S. Leonard Ave. Lima\, OH 45804 (419)999-9992\nRed Carpet Inn & Suites\, 1231 Neubrecht Rd. Lima\, OH 45801 (419)227-1101\nHoliday Inn Wapakoneta 1510 Saturn Dr. Wapakoneta\, OH 45895 (567)356-4151 \n  \n  \nEntries Close: Tuesday\, February 18\, 2020 at 11:59 P.M. Eastern Time(ET) on Hunt Secretary \nJudges: Jim Keller and Michael Pollack
URL:https://essft.com/event/cincinnati-english-springer-spaniel-field-trial-club-spring-2020/
LOCATION:Cunningham Farm\, 24330 Sandusky Rd\, Marysville\, OH 43040\, USA\, Marysville\, Ohio\, 43040\, United States
CATEGORIES:Field Trials - Mid East
ORGANIZER;CN="Amy Haering":MAILTO:cessftc@yahoo.com
GEO:40.358621;-83.328942
X-APPLE-STRUCTURED-LOCATION;VALUE=URI;X-ADDRESS=Cunningham Farm 24330 Sandusky Rd Marysville OH 43040 USA Marysville Ohio 43040 United States;X-APPLE-RADIUS=500;X-TITLE=24330 Sandusky Rd\, Marysville\, OH 43040\, USA:geo:-83.328942,40.358621
END:VEVENT
BEGIN:VEVENT
DTSTART;TZID=America/Chicago:20200229T000000
DTEND;TZID=America/Chicago:20200301T000000
DTSTAMP:20260423T062941
CREATED:20250612T031727Z
LAST-MODIFIED:20250612T031727Z
UID:10010172-1582934400-1583020800@essft.com
SUMMARY:Tamarin Spaniel Field Trial Club
DESCRIPTION:Entries Close: Tuesday\, February 18\, 2020 11:59:59 PM Eastern Time(ET) on Hunt Secretary. \nJudges: David Jones and Alex Cacchio\n\n		\n			\n			\n		\n\n		\n 
URL:https://essft.com/event/tamarin-spaniel-field-trial-club-3/
LOCATION:Oregon
CATEGORIES:Field Trials - West
END:VEVENT
BEGIN:VEVENT
DTSTART;TZID=America/Chicago:20200224T000000
DTEND;TZID=America/Chicago:20200225T000000
DTSTAMP:20260423T062941
CREATED:20250612T031727Z
LAST-MODIFIED:20250612T031727Z
UID:10010171-1582502400-1582588800@essft.com
SUMMARY:Central Maine Springer Spaniel Club Trial #2
DESCRIPTION:Entries Close: Tuesday\, February 11\, 2020 at 11:59 P.M. Eastern Time(ET) on Hunt Secretary \nJudges: Elaine VanderSlice and Drew Goldsmith\n\n		\n			\n			\n		\n\n		\n 
URL:https://essft.com/event/central-maine-springer-spaniel-club-trial-2/
LOCATION:Oregon
CATEGORIES:Field Trials - East
END:VEVENT
BEGIN:VEVENT
DTSTART;TZID=America/Chicago:20200224T000000
DTEND;TZID=America/Chicago:20200225T000000
DTSTAMP:20260423T062941
CREATED:20250612T031529Z
LAST-MODIFIED:20250612T031529Z
UID:10010170-1582502400-1582588800@essft.com
SUMMARY:Spaniel Training Seminar with Hall of Fame Trainer Ray Cacchio
DESCRIPTION:NOTE:  Entry Fees vary upon numbers of days and Handler vs Spectator status.
URL:https://essft.com/event/spaniel-training-seminar-with-hall-of-fame-trainer-ray-cacchio/
LOCATION:Oregon
CATEGORIES:Training Seminar
END:VEVENT
BEGIN:VEVENT
DTSTART;TZID=America/Chicago:20200222T000000
DTEND;TZID=America/Chicago:20200223T000000
DTSTAMP:20260423T062941
CREATED:20250612T031529Z
LAST-MODIFIED:20250612T031529Z
UID:10010166-1582329600-1582416000@essft.com
SUMMARY:COCKER: Wateree Spaniel Club
DESCRIPTION:
URL:https://essft.com/event/cocker-wateree-spaniel-club-2/
LOCATION:Oregon
CATEGORIES:Cocker Trial
END:VEVENT
BEGIN:VEVENT
DTSTART;TZID=America/Chicago:20200222T000000
DTEND;TZID=America/Chicago:20200223T000000
DTSTAMP:20260423T062941
CREATED:20250612T031529Z
LAST-MODIFIED:20250612T031529Z
UID:10010167-1582329600-1582416000@essft.com
SUMMARY:Central Maine Springer Spaniel Club Trial #1
DESCRIPTION:Entries Close: Tuesday\, February 11\, 2020 11:59:59 PM Eastern Time(ET) on  Hunt Secretary \nJudges: Kathy Nestor and Richard Paquin
URL:https://essft.com/event/central-maine-springer-spaniel-club-trial-1/
LOCATION:Oregon
CATEGORIES:Field Trials - East
END:VEVENT
BEGIN:VEVENT
DTSTART;TZID=America/Chicago:20200222T000000
DTEND;TZID=America/Chicago:20200223T000000
DTSTAMP:20260423T062941
CREATED:20250612T031529Z
LAST-MODIFIED:20250612T031529Z
UID:10010168-1582329600-1582416000@essft.com
SUMMARY:Chattahoochee English Springer Spaniel Club of Greater Atlanta\, Inc.
DESCRIPTION:Entries Close: Tuesday\, February 11\, 2020 11:59:59 PM Eastern Time(ET) on Hunt Secretary
URL:https://essft.com/event/chattahoochee-english-springer-spaniel-club-of-greater-atlanta-inc/
LOCATION:Louter Creek\, 387 Hines Rd\, Moreland\, GA 30259\, USA\, Moreland\, Georgia\, 30259\, United States
CATEGORIES:Hunt Tests
GEO:33.235352;-84.723612
X-APPLE-STRUCTURED-LOCATION;VALUE=URI;X-ADDRESS=Louter Creek 387 Hines Rd Moreland GA 30259 USA Moreland Georgia 30259 United States;X-APPLE-RADIUS=500;X-TITLE=387 Hines Rd\, Moreland\, GA 30259\, USA:geo:-84.723612,33.235352
END:VEVENT
END:VCALENDAR