BEGIN:VCALENDAR
VERSION:2.0
PRODID:-//English Springer Spaniel Field Trials - ECPv6.15.20//NONSGML v1.0//EN
CALSCALE:GREGORIAN
METHOD:PUBLISH
X-WR-CALNAME:English Springer Spaniel Field Trials
X-ORIGINAL-URL:https://essft.com
X-WR-CALDESC:Events for English Springer Spaniel Field Trials
REFRESH-INTERVAL;VALUE=DURATION:PT1H
X-Robots-Tag:noindex
X-PUBLISHED-TTL:PT1H
BEGIN:VTIMEZONE
TZID:America/Chicago
BEGIN:DAYLIGHT
TZOFFSETFROM:-0600
TZOFFSETTO:-0500
TZNAME:CDT
DTSTART:20180311T080000
END:DAYLIGHT
BEGIN:STANDARD
TZOFFSETFROM:-0500
TZOFFSETTO:-0600
TZNAME:CST
DTSTART:20181104T070000
END:STANDARD
BEGIN:DAYLIGHT
TZOFFSETFROM:-0600
TZOFFSETTO:-0500
TZNAME:CDT
DTSTART:20190310T080000
END:DAYLIGHT
BEGIN:STANDARD
TZOFFSETFROM:-0500
TZOFFSETTO:-0600
TZNAME:CST
DTSTART:20191103T070000
END:STANDARD
BEGIN:DAYLIGHT
TZOFFSETFROM:-0600
TZOFFSETTO:-0500
TZNAME:CDT
DTSTART:20200308T080000
END:DAYLIGHT
BEGIN:STANDARD
TZOFFSETFROM:-0500
TZOFFSETTO:-0600
TZNAME:CST
DTSTART:20201101T070000
END:STANDARD
BEGIN:DAYLIGHT
TZOFFSETFROM:-0600
TZOFFSETTO:-0500
TZNAME:CDT
DTSTART:20210314T080000
END:DAYLIGHT
BEGIN:STANDARD
TZOFFSETFROM:-0500
TZOFFSETTO:-0600
TZNAME:CST
DTSTART:20211107T070000
END:STANDARD
END:VTIMEZONE
BEGIN:VEVENT
DTSTART;TZID=America/Chicago:20200118T000000
DTEND;TZID=America/Chicago:20200119T000000
DTSTAMP:20260423T081108
CREATED:20250612T030912Z
LAST-MODIFIED:20250612T030912Z
UID:10010147-1579305600-1579392000@essft.com
SUMMARY:COCKER: English Cocker Spaniel Club of America Field Trial
DESCRIPTION:Entries Close: Tuesday\, January 7\, 2020 11:59:59 PM Eastern Time(ET) on Hunt Secretary \n\n		\n			\n			\n		\n\n		\n 
URL:https://essft.com/event/cocker-english-cocker-spaniel-club-of-america-field-trial-2/
LOCATION:Lime Rock Cockers Preserve\, East Bend\, NC 27018\, USA\, East Bend\, North Carolina\, 27018\, United States
CATEGORIES:Cocker Trial
GEO:36.216528;-80.512558
X-APPLE-STRUCTURED-LOCATION;VALUE=URI;X-ADDRESS=Lime Rock Cockers Preserve East Bend NC 27018 USA East Bend North Carolina 27018 United States;X-APPLE-RADIUS=500;X-TITLE=East Bend\, NC 27018\, USA:geo:-80.512558,36.216528
END:VEVENT
BEGIN:VEVENT
DTSTART;TZID=America/Chicago:20200111T000000
DTEND;TZID=America/Chicago:20200112T000000
DTSTAMP:20260423T081108
CREATED:20250612T030909Z
LAST-MODIFIED:20250612T030909Z
UID:10010144-1578700800-1578787200@essft.com
SUMMARY:Oklahoma Springer Spaniel Club  Trial #2
DESCRIPTION:Entries Close: Monday\, December 30\, 2019 11:59:59 PM Eastern Time(ET) on Hunt Secretary \nJudges:  Alex Cacchio and Raymond Cacchio
URL:https://essft.com/event/oklahoma-springer-spaniel-club-trial-2/
CATEGORIES:Field Trials - Rocky Mountain
END:VEVENT
BEGIN:VEVENT
DTSTART;TZID=America/Chicago:20200111T000000
DTEND;TZID=America/Chicago:20200112T000000
DTSTAMP:20260423T081108
CREATED:20250612T030909Z
LAST-MODIFIED:20250612T030909Z
UID:10010145-1578700800-1578787200@essft.com
SUMMARY:Ravenna/MidEast Memorial Trial
DESCRIPTION:Entries Close:  January 4\, 2020 with the FTS \nJudges: Bob Merrill and Todd Stelzer  Mark Gebert\n  \n1/8/2020  Updated Running Order \n\n		\n			\n			\n		\n\n		\n\n		\n			\n			\n		\n\n		\n  \nSpring 2020 Ravenna Mid-East Memorial Entry Form MS WORD \n 
URL:https://essft.com/event/ravenna-mideast-memorial-trial/
LOCATION:Beelman Farm\, 2192 Co Rd 21\, De Graff\, OH 43318\, USA\, De Graff\, Ohio\, 43318\, United States
CATEGORIES:Field Trials - Mid East
GEO:40.36598;-83.944001
X-APPLE-STRUCTURED-LOCATION;VALUE=URI;X-ADDRESS=Beelman Farm 2192 Co Rd 21 De Graff OH 43318 USA De Graff Ohio 43318 United States;X-APPLE-RADIUS=500;X-TITLE=2192 Co Rd 21\, De Graff\, OH 43318\, USA:geo:-83.944001,40.36598
END:VEVENT
BEGIN:VEVENT
DTSTART;TZID=America/Chicago:20200109T000000
DTEND;TZID=America/Chicago:20200110T000000
DTSTAMP:20260423T081108
CREATED:20250612T030909Z
LAST-MODIFIED:20250612T030909Z
UID:10010143-1578528000-1578614400@essft.com
SUMMARY:Oklahoma Springer Spaniel Club  Trial #1
DESCRIPTION:Entries Close: Monday\, December 30\, 2019 11:59:59 PM Eastern Time(ET) on Hunt Secretary \nJudges: Jeff Cubitt and Kevin Martineau\n 
URL:https://essft.com/event/oklahoma-springer-spaniel-club-trial-1/
CATEGORIES:Field Trials - Rocky Mountain
END:VEVENT
BEGIN:VEVENT
DTSTART;TZID=America/Chicago:20200104T000000
DTEND;TZID=America/Chicago:20200105T000000
DTSTAMP:20260423T081108
CREATED:20250612T030908Z
LAST-MODIFIED:20250612T030908Z
UID:10010142-1578096000-1578182400@essft.com
SUMMARY:Wateree Spaniel Club Hunt Test
DESCRIPTION:Entries Close: Tuesday\, December 24\, 2019 11:59:59 PM Eastern Time(ET) on Hunt Secretary
URL:https://essft.com/event/wateree-spaniel-club-hunt-test-2/
LOCATION:H. Cooper Black Jr. Memorial Field Trial & Recreation Area\, Cheraw\, SC 29520\, USA\, Cheraw\, South Carolina\, 29520\, United States
CATEGORIES:Hunt Tests
GEO:34.697656;-79.883397
X-APPLE-STRUCTURED-LOCATION;VALUE=URI;X-ADDRESS=H. Cooper Black Jr. Memorial Field Trial & Recreation Area Cheraw SC 29520 USA Cheraw South Carolina 29520 United States;X-APPLE-RADIUS=500;X-TITLE=Cheraw\, SC 29520\, USA:geo:-79.883397,34.697656
END:VEVENT
BEGIN:VEVENT
DTSTART;TZID=America/Chicago:20200101T000000
DTEND;TZID=America/Chicago:20200101T000000
DTSTAMP:20260423T081108
CREATED:20250612T030908Z
LAST-MODIFIED:20250612T030908Z
UID:10010141-1577836800-1577836800@essft.com
SUMMARY:New Year's Day
DESCRIPTION:
URL:https://essft.com/event/new-years-day-2/
CATEGORIES:Holidays
END:VEVENT
BEGIN:VEVENT
DTSTART;TZID=America/Chicago:20191214T000000
DTEND;TZID=America/Chicago:20191215T000000
DTSTAMP:20260423T081108
CREATED:20250612T025901Z
LAST-MODIFIED:20250612T025901Z
UID:10010140-1576281600-1576368000@essft.com
SUMMARY:Stockton ESS Training Club Spaniel Hunt Test
DESCRIPTION:Entries Close: Tuesday\, December 3\, 2019 11:59:59 PM Eastern Time(ET) on Hunt Secretary \n  \n\n		\n			\n			\n		\n\n		 \n  \n 
URL:https://essft.com/event/stockton-ess-training-club-spaniel-hunt-test/
LOCATION:Clear Creek Ranch
CATEGORIES:Hunt Tests
END:VEVENT
BEGIN:VEVENT
DTSTART;TZID=America/Chicago:20191214T000000
DTEND;TZID=America/Chicago:20191215T000000
DTSTAMP:20260423T081108
CREATED:20250612T025901Z
LAST-MODIFIED:20250612T025901Z
UID:10010137-1576281600-1576368000@essft.com
SUMMARY:AKC Week 50
DESCRIPTION:
URL:https://essft.com/event/akc-week-50-2/
END:VEVENT
BEGIN:VEVENT
DTSTART;TZID=America/Chicago:20191214T000000
DTEND;TZID=America/Chicago:20191215T000000
DTSTAMP:20260423T081108
CREATED:20250612T025901Z
LAST-MODIFIED:20250612T025901Z
UID:10010138-1576281600-1576368000@essft.com
SUMMARY:Heart of Texas Spaniel Club - Spaniel Hunt Test
DESCRIPTION:Entries Close: Tuesday\, December 3\, 2019 11:59:59 PM Eastern Time(ET) on Hunt Secretary \n 
URL:https://essft.com/event/heart-of-texas-spaniel-club-spaniel-hunt-test-2/
CATEGORIES:Hunt Tests
END:VEVENT
BEGIN:VEVENT
DTSTART;TZID=America/Chicago:20191214T000000
DTEND;TZID=America/Chicago:20191215T000000
DTSTAMP:20260423T081108
CREATED:20250612T025901Z
LAST-MODIFIED:20250612T025901Z
UID:10010139-1576281600-1576368000@essft.com
SUMMARY:Central New England Sporting Spaniel Club Dec. Field Trial
DESCRIPTION:Entries Close: Tuesday\, December 3\, 2019 11:59:59 PM Eastern Time(ET) on Hunt Secretary  \nJudges: Dan Murray and Terry Quinlan\nWATER TEST – We are also having a WATER TEST anyone that is interested in entering their dog. The cost is $10 per entry and you may pay at the trial.
URL:https://essft.com/event/central-new-england-sporting-spaniel-club-dec-field-trial/
LOCATION:Dublin RD Field Trial Grounds\, Howard\, NY 14809\, USA\, Howard\, New York\, 14809\, United States
CATEGORIES:Field Trials - East
GEO:42.364237;-77.508876
X-APPLE-STRUCTURED-LOCATION;VALUE=URI;X-ADDRESS=Dublin RD Field Trial Grounds Howard NY 14809 USA Howard New York 14809 United States;X-APPLE-RADIUS=500;X-TITLE=Howard\, NY 14809\, USA:geo:-77.508876,42.364237
END:VEVENT
BEGIN:VEVENT
DTSTART;TZID=America/Chicago:20191207T000000
DTEND;TZID=America/Chicago:20191208T000000
DTSTAMP:20260423T081108
CREATED:20250612T025901Z
LAST-MODIFIED:20250612T025901Z
UID:10010136-1575676800-1575763200@essft.com
SUMMARY:Cocker Spaniel Specialty Club of Georgia Winter 2019 Hunt Test
DESCRIPTION:Entries Close: Tuesday\, November 26\, 2019 11:59:59 PM Eastern Time(ET) on Hunt Secretary \nJudges: Jeff Zachow and Joe Worsham \n 
URL:https://essft.com/event/cocker-spaniel-specialty-club-of-georgia-winter-2019-hunt-test/
CATEGORIES:Hunt Tests
END:VEVENT
BEGIN:VEVENT
DTSTART;TZID=America/Chicago:20191207T000000
DTEND;TZID=America/Chicago:20191208T000000
DTSTAMP:20260423T081108
CREATED:20250612T025811Z
LAST-MODIFIED:20250612T025811Z
UID:10010135-1575676800-1575763200@essft.com
SUMMARY:AKC Week 49
DESCRIPTION:
URL:https://essft.com/event/akc-week-49-2/
END:VEVENT
BEGIN:VEVENT
DTSTART;TZID=America/Chicago:20191202T000000
DTEND;TZID=America/Chicago:20191207T000000
DTSTAMP:20260423T081108
CREATED:20250612T025811Z
LAST-MODIFIED:20250628T024009Z
UID:10010134-1575244800-1575676800@essft.com
SUMMARY:2019 National Amateur Championship
DESCRIPTION:You may enter your dog and place your banquet order online at Hunt Secretary \n\n		\n			\n			\n		\n\n		\n 
URL:https://essft.com/event/2019-national-amateur-championship/
CATEGORIES:NATIONAL FIELD TRIALS
END:VEVENT
BEGIN:VEVENT
DTSTART;TZID=America/Chicago:20191130T000000
DTEND;TZID=America/Chicago:20191201T000000
DTSTAMP:20260423T081108
CREATED:20250612T025811Z
LAST-MODIFIED:20250612T025811Z
UID:10010133-1575072000-1575158400@essft.com
SUMMARY:AKC Week 48
DESCRIPTION:
URL:https://essft.com/event/akc-week-48-3/
END:VEVENT
BEGIN:VEVENT
DTSTART;TZID=America/Chicago:20191128T000000
DTEND;TZID=America/Chicago:20191128T000000
DTSTAMP:20260423T081108
CREATED:20250612T025811Z
LAST-MODIFIED:20250612T025811Z
UID:10010132-1574899200-1574899200@essft.com
SUMMARY:Thanksgiving Day
DESCRIPTION:
URL:https://essft.com/event/thanksgiving-day/
CATEGORIES:Holidays
END:VEVENT
BEGIN:VEVENT
DTSTART;TZID=America/Chicago:20191123T000000
DTEND;TZID=America/Chicago:20191124T000000
DTSTAMP:20260423T081108
CREATED:20250612T025811Z
LAST-MODIFIED:20250612T025811Z
UID:10010131-1574467200-1574553600@essft.com
SUMMARY:Central Connecticut Spaniel Club
DESCRIPTION:Sorry\, but this trial has been cancelled. \n  \n 
URL:https://essft.com/event/central-connecticut-spaniel-club-5/
CATEGORIES:Field Trials - East
END:VEVENT
BEGIN:VEVENT
DTSTART;TZID=America/Chicago:20191123T000000
DTEND;TZID=America/Chicago:20191124T000000
DTSTAMP:20260423T081108
CREATED:20250612T025756Z
LAST-MODIFIED:20250612T025756Z
UID:10010130-1574467200-1574553600@essft.com
SUMMARY:AKC Week 47
DESCRIPTION:
URL:https://essft.com/event/akc-week-47-2/
END:VEVENT
BEGIN:VEVENT
DTSTART;TZID=America/Chicago:20191121T000000
DTEND;TZID=America/Chicago:20191125T000000
DTSTAMP:20260423T081108
CREATED:20250612T025756Z
LAST-MODIFIED:20250628T024021Z
UID:10010129-1574294400-1574640000@essft.com
SUMMARY:2019 National Open Championship
DESCRIPTION:1st Entries Close/Huntsecretary.com Close: Monday\, November 4\, 2019 11:59:59 PM Eastern Time(ET).\n2nd Close Monday\, November 11\, 2019 6 PM (MST)  \nNOTE: You can order your banquet meals and training birds online when you register your dog!\n\n		\n			\n			\n		\n\n		\n 
URL:https://essft.com/event/2019-national-open-championship/
CATEGORIES:NATIONAL FIELD TRIALS
END:VEVENT
BEGIN:VEVENT
DTSTART;TZID=America/Chicago:20191116T000000
DTEND;TZID=America/Chicago:20191117T000000
DTSTAMP:20260423T081108
CREATED:20250612T025756Z
LAST-MODIFIED:20250612T025756Z
UID:10010128-1573862400-1573948800@essft.com
SUMMARY:North Texas Sporting Spaniel Club Hunt Test
DESCRIPTION:Entries Close: Tuesday\, November 5\, 2019 11:59:59 PM Eastern Time(ET) on Hunt Secretary
URL:https://essft.com/event/north-texas-sporting-spaniel-club-hunt-test-3/
LOCATION:Dark Timber Kennels LEase\, Bridgeport\, TX 76426\, USA\, Bridgeport\, Texas\, 76426\, United States
CATEGORIES:Hunt Tests
GEO:33.210116;-97.754755
X-APPLE-STRUCTURED-LOCATION;VALUE=URI;X-ADDRESS=Dark Timber Kennels LEase Bridgeport TX 76426 USA Bridgeport Texas 76426 United States;X-APPLE-RADIUS=500;X-TITLE=Bridgeport\, TX 76426\, USA:geo:-97.754755,33.210116
END:VEVENT
BEGIN:VEVENT
DTSTART;TZID=America/Chicago:20191116T000000
DTEND;TZID=America/Chicago:20191117T000000
DTSTAMP:20260423T081108
CREATED:20250612T025755Z
LAST-MODIFIED:20250612T025755Z
UID:10010127-1573862400-1573948800@essft.com
SUMMARY:AKC Week 46
DESCRIPTION:
URL:https://essft.com/event/akc-week-46-2/
END:VEVENT
BEGIN:VEVENT
DTSTART;TZID=America/Chicago:20191111T000000
DTEND;TZID=America/Chicago:20191111T000000
DTSTAMP:20260423T081108
CREATED:20250612T025755Z
LAST-MODIFIED:20250612T025755Z
UID:10010126-1573430400-1573430400@essft.com
SUMMARY:Veteran's Day
DESCRIPTION:
URL:https://essft.com/event/veterans-day/
CATEGORIES:Holidays
END:VEVENT
BEGIN:VEVENT
DTSTART;TZID=America/Chicago:20191109T000000
DTEND;TZID=America/Chicago:20191110T000000
DTSTAMP:20260423T081108
CREATED:20250612T025618Z
LAST-MODIFIED:20250612T025618Z
UID:10010124-1573257600-1573344000@essft.com
SUMMARY:Southern Wisconsin Sporting Spaniel Club
DESCRIPTION:Entries Close: Tuesday\, October 29\, 2019 11:59:59 PM Eastern Time(ET) on Hunt Secretary \n10/28/2019: Judges: John Meyer and Deborah Olszewski\nThere is a last minute judging change\, Josh Davis is unable to judge. We do have a replacement: Deborah Olszewski. \n\n		\n			\n			\n		\n\n		\n\n		\n			\n			\n		\n\n		\n 
URL:https://essft.com/event/southern-wisconsin-sporting-spaniel-club-4/
CATEGORIES:Field Trials - Mid West
END:VEVENT
BEGIN:VEVENT
DTSTART;TZID=America/Chicago:20191109T000000
DTEND;TZID=America/Chicago:20191110T000000
DTSTAMP:20260423T081108
CREATED:20250612T025618Z
LAST-MODIFIED:20250612T025618Z
UID:10010125-1573257600-1573344000@essft.com
SUMMARY:English Cocker Spaniel Club of America Hunt Test
DESCRIPTION:Entries Close: Tuesday\, October 29\, 2019 11:59:59 PM Eastern Time(ET) on Hunt Secretary \n 
URL:https://essft.com/event/english-cocker-spaniel-club-of-america-hunt-test/
CATEGORIES:Hunt Tests
END:VEVENT
BEGIN:VEVENT
DTSTART;TZID=America/Chicago:20191109T000000
DTEND;TZID=America/Chicago:20191110T000000
DTSTAMP:20260423T081108
CREATED:20250612T025618Z
LAST-MODIFIED:20250612T025618Z
UID:10010121-1573257600-1573344000@essft.com
SUMMARY:AKC Week 45
DESCRIPTION:
URL:https://essft.com/event/akc-week-45-2/
END:VEVENT
BEGIN:VEVENT
DTSTART;TZID=America/Chicago:20191109T000000
DTEND;TZID=America/Chicago:20191110T000000
DTSTAMP:20260423T081108
CREATED:20250612T025618Z
LAST-MODIFIED:20250612T025618Z
UID:10010122-1573257600-1573344000@essft.com
SUMMARY:Central New England Sporting Spaniel Club
DESCRIPTION:Entries Close: Tuesday\, October 29\, 2019 11:59:59 PM Eastern Time(ET) at Hunt Secretary \nJudges: Paul Haering and Michel Bourdeau
URL:https://essft.com/event/central-new-england-sporting-spaniel-club-6/
LOCATION:Dublin RD Field Trial Grounds\, Howard\, NY 14809\, USA\, Howard\, New York\, 14809\, United States
CATEGORIES:Field Trials - East
GEO:42.364237;-77.508876
X-APPLE-STRUCTURED-LOCATION;VALUE=URI;X-ADDRESS=Dublin RD Field Trial Grounds Howard NY 14809 USA Howard New York 14809 United States;X-APPLE-RADIUS=500;X-TITLE=Howard\, NY 14809\, USA:geo:-77.508876,42.364237
END:VEVENT
BEGIN:VEVENT
DTSTART;TZID=America/Chicago:20191109T000000
DTEND;TZID=America/Chicago:20191110T000000
DTSTAMP:20260423T081108
CREATED:20250612T025618Z
LAST-MODIFIED:20250612T025618Z
UID:10010123-1573257600-1573344000@essft.com
SUMMARY:Houston English Springer Spaniel Club
DESCRIPTION:Entries Close: Tuesday\, October 29\, 2019 11:59:59 PM Eastern Time(ET) on Hunt Secretary \nJudges: Elaine VanderSlice and Jim O’Keefe
URL:https://essft.com/event/houston-english-springer-spaniel-club-6/
LOCATION:Springer Creek Ranch\, 4918 FM1374\, Huntsville\, TX 77340\, USA\, Huntsville\, Texas\, 77340\, United States
CATEGORIES:Field Trials - Rocky Mountain
GEO:30.613039;-95.621861
X-APPLE-STRUCTURED-LOCATION;VALUE=URI;X-ADDRESS=Springer Creek Ranch 4918 FM1374 Huntsville TX 77340 USA Huntsville Texas 77340 United States;X-APPLE-RADIUS=500;X-TITLE=4918 FM1374\, Huntsville\, TX 77340\, USA:geo:-95.621861,30.613039
END:VEVENT
BEGIN:VEVENT
DTSTART;TZID=America/Chicago:20191108T000000
DTEND;TZID=America/Chicago:20191109T000000
DTSTAMP:20260423T081108
CREATED:20250612T025418Z
LAST-MODIFIED:20250612T025418Z
UID:10010119-1573171200-1573257600@essft.com
SUMMARY:Utah Springer Spaniel Club
DESCRIPTION:ENTRIES WILL CLOSE AT THE SECRETARY’S ADDRESS AT:\nNoon MDT\, Wednesday\, October 30\, 2019  \nJudges: Rick Shively and Daryl Johnson\n 
URL:https://essft.com/event/utah-springer-spaniel-club-10/
LOCATION:Lee Kay Wildlife Management Area\, 6000 2100 S\, Salt Lake City\, UT 84128\, USA\, Salt Lake City\, Utah\, 84128\, United States
CATEGORIES:Field Trials - West
GEO:40.728588;-112.02523
X-APPLE-STRUCTURED-LOCATION;VALUE=URI;X-ADDRESS=Lee Kay Wildlife Management Area 6000 2100 S Salt Lake City UT 84128 USA Salt Lake City Utah 84128 United States;X-APPLE-RADIUS=500;X-TITLE=6000 2100 S\, Salt Lake City\, UT 84128\, USA:geo:-112.02523,40.728588
END:VEVENT
BEGIN:VEVENT
DTSTART;TZID=America/Chicago:20191108T000000
DTEND;TZID=America/Chicago:20191108T000000
DTSTAMP:20260423T081108
CREATED:20250612T025418Z
LAST-MODIFIED:20250612T025418Z
UID:10010120-1573171200-1573171200@essft.com
SUMMARY:WATER TEST: Utah Springer Spaniel Club
DESCRIPTION:ENTRIES WILL CLOSE AT THE SECRETARY’S ADDRESS AT:\nNoon MDT\, Wednesday\, October 30\, 2019  \nA water test will be held on Friday after completion of the Open. The water test is\nopen to all springer spaniels\, regardless of whether they participate in the Open or\nAmateur Stakes. The water test is free to dogs who are entered in the Open or\nAmateur Stakes\, and $15 to all other participants. Please use the water test form for\nwater test entries (the third form in this document for event# 2019369404).
URL:https://essft.com/event/water-test-utah-springer-spaniel-club/
LOCATION:Lee Kay Wildlife Management Area\, 6000 2100 S\, Salt Lake City\, UT 84128\, USA\, Salt Lake City\, Utah\, 84128\, United States
CATEGORIES:Water Test
GEO:40.728588;-112.02523
X-APPLE-STRUCTURED-LOCATION;VALUE=URI;X-ADDRESS=Lee Kay Wildlife Management Area 6000 2100 S Salt Lake City UT 84128 USA Salt Lake City Utah 84128 United States;X-APPLE-RADIUS=500;X-TITLE=6000 2100 S\, Salt Lake City\, UT 84128\, USA:geo:-112.02523,40.728588
END:VEVENT
BEGIN:VEVENT
DTSTART;TZID=America/Chicago:20191107T000000
DTEND;TZID=America/Chicago:20191108T000000
DTSTAMP:20260423T081108
CREATED:20250612T025417Z
LAST-MODIFIED:20250612T025417Z
UID:10010118-1573084800-1573171200@essft.com
SUMMARY:SE Texas English Springer Spaniel Club
DESCRIPTION:Entries Close: Tuesday\, October 29\, 2019 11:59:59 PM Eastern Time(ET) on Hunt Secretary \nJudges: Peter Renwick and Jerry Barrett \n 
URL:https://essft.com/event/se-texas-english-springer-spaniel-club-2/
LOCATION:Springer Creek Ranch\, 4918 FM1374\, Huntsville\, TX 77340\, USA\, Huntsville\, Texas\, 77340\, United States
CATEGORIES:Field Trials - Rocky Mountain
GEO:30.613039;-95.621861
X-APPLE-STRUCTURED-LOCATION;VALUE=URI;X-ADDRESS=Springer Creek Ranch 4918 FM1374 Huntsville TX 77340 USA Huntsville Texas 77340 United States;X-APPLE-RADIUS=500;X-TITLE=4918 FM1374\, Huntsville\, TX 77340\, USA:geo:-95.621861,30.613039
END:VEVENT
BEGIN:VEVENT
DTSTART;TZID=America/Chicago:20191103T000000
DTEND;TZID=America/Chicago:20191103T000000
DTSTAMP:20260423T081108
CREATED:20250612T025417Z
LAST-MODIFIED:20250612T025417Z
UID:10010117-1572739200-1572739200@essft.com
SUMMARY:Daylight Savings Time Ends
DESCRIPTION:
URL:https://essft.com/event/daylight-savings-time-ends/
END:VEVENT
END:VCALENDAR