BEGIN:VCALENDAR
VERSION:2.0
PRODID:-//English Springer Spaniel Field Trials - ECPv6.15.20//NONSGML v1.0//EN
CALSCALE:GREGORIAN
METHOD:PUBLISH
X-WR-CALNAME:English Springer Spaniel Field Trials
X-ORIGINAL-URL:https://essft.com
X-WR-CALDESC:Events for English Springer Spaniel Field Trials
REFRESH-INTERVAL;VALUE=DURATION:PT1H
X-Robots-Tag:noindex
X-PUBLISHED-TTL:PT1H
BEGIN:VTIMEZONE
TZID:America/Chicago
BEGIN:DAYLIGHT
TZOFFSETFROM:-0600
TZOFFSETTO:-0500
TZNAME:CDT
DTSTART:20180311T080000
END:DAYLIGHT
BEGIN:STANDARD
TZOFFSETFROM:-0500
TZOFFSETTO:-0600
TZNAME:CST
DTSTART:20181104T070000
END:STANDARD
BEGIN:DAYLIGHT
TZOFFSETFROM:-0600
TZOFFSETTO:-0500
TZNAME:CDT
DTSTART:20190310T080000
END:DAYLIGHT
BEGIN:STANDARD
TZOFFSETFROM:-0500
TZOFFSETTO:-0600
TZNAME:CST
DTSTART:20191103T070000
END:STANDARD
BEGIN:DAYLIGHT
TZOFFSETFROM:-0600
TZOFFSETTO:-0500
TZNAME:CDT
DTSTART:20200308T080000
END:DAYLIGHT
BEGIN:STANDARD
TZOFFSETFROM:-0500
TZOFFSETTO:-0600
TZNAME:CST
DTSTART:20201101T070000
END:STANDARD
END:VTIMEZONE
BEGIN:VEVENT
DTSTART;TZID=America/Chicago:20190831T000000
DTEND;TZID=America/Chicago:20190901T000000
DTSTAMP:20260423T060045
CREATED:20250612T021357Z
LAST-MODIFIED:20250612T021357Z
UID:10010017-1567209600-1567296000@essft.com
SUMMARY:AKC Week 35
DESCRIPTION:
URL:https://essft.com/event/akc-week-35-3/
LOCATION:Utah
END:VEVENT
BEGIN:VEVENT
DTSTART;TZID=America/Chicago:20190831T000000
DTEND;TZID=America/Chicago:20190901T000000
DTSTAMP:20260423T060045
CREATED:20250612T021357Z
LAST-MODIFIED:20250612T021357Z
UID:10010019-1567209600-1567296000@essft.com
SUMMARY:Minnesota Hunting Spaniel Association 2019 Fall HUNT TEST
DESCRIPTION:Entries Close:  Tuesday\, August 20\, 2019 11:59:59 PM Eastern Time(ET) \nhttps://www.huntsecretary.com/eventinfo_A.asp?mhuntid=1003267 \n 
URL:https://essft.com/event/minnesota-hunting-spaniel-association-2019-fall-hunt-test/
LOCATION:Utah
CATEGORIES:Hunt Tests
END:VEVENT
BEGIN:VEVENT
DTSTART;TZID=America/Chicago:20190831T000000
DTEND;TZID=America/Chicago:20190831T000000
DTSTAMP:20260423T060045
CREATED:20250612T021558Z
LAST-MODIFIED:20250612T021558Z
UID:10010021-1567209600-1567209600@essft.com
SUMMARY:Puget Sound English Springer Spaniel Assoc. Spaniel Hunt Test
DESCRIPTION:https://www.huntsecretary.com/eventinfo_A.asp?mhuntid=1003488 \n 
URL:https://essft.com/event/puget-sound-english-springer-spaniel-assoc-spaniel-hunt-test/
LOCATION:Scatter Creek WDFW North Unit\, Rochester\, WA 98579\, USA\, Rochester\, Washington\, 98579\, United States
CATEGORIES:Hunt Tests
GEO:46.828064;-123.07553
X-APPLE-STRUCTURED-LOCATION;VALUE=URI;X-ADDRESS=Scatter Creek WDFW North Unit Rochester WA 98579 USA Rochester Washington 98579 United States;X-APPLE-RADIUS=500;X-TITLE=Rochester\, WA 98579\, USA:geo:-123.07553,46.828064
END:VEVENT
BEGIN:VEVENT
DTSTART;TZID=America/Chicago:20190824T000000
DTEND;TZID=America/Chicago:20190825T000000
DTSTAMP:20260423T060045
CREATED:20250612T021357Z
LAST-MODIFIED:20250612T021357Z
UID:10010016-1566604800-1566691200@essft.com
SUMMARY:Sportsmen's Spaniel Club of Calumet HUNT TEST
DESCRIPTION:The club will be offering  a WATER TEST and HUNT TESTS this weekend. \nNote:   Updated Premium as of 17June2019.
URL:https://essft.com/event/sportsmens-spaniel-club-of-calumet-hunt-test/
LOCATION:Utah
CATEGORIES:Hunt Tests
END:VEVENT
BEGIN:VEVENT
DTSTART;TZID=America/Chicago:20190824T000000
DTEND;TZID=America/Chicago:20190825T000000
DTSTAMP:20260423T060045
CREATED:20250612T021156Z
LAST-MODIFIED:20250612T021156Z
UID:10010012-1566604800-1566691200@essft.com
SUMMARY:AKC Week 34
DESCRIPTION:
URL:https://essft.com/event/akc-week-34-2/
LOCATION:Utah
END:VEVENT
BEGIN:VEVENT
DTSTART;TZID=America/Chicago:20190824T000000
DTEND;TZID=America/Chicago:20190825T000000
DTSTAMP:20260423T060045
CREATED:20250612T021156Z
LAST-MODIFIED:20250612T021156Z
UID:10010013-1566604800-1566691200@essft.com
SUMMARY:Central Connecticut Spaniel Club
DESCRIPTION:NEW LOCATION:\nSugar Brook Field Trial and Wildlife Management Area\nPlainfield\, CT\nRoute 14\, \nBlack Hill Road\,\nPlainfield CT\nGPS: 41.7167\,-71.9405 \n  \n  \nEntries Close: Tuesday\, August 13\, 2019 at 11:59 P.M. Eastern Time(ET) on Hunt Secretary. \nJudges: Chris Jensen and Mike Elsasser\n  \n\n		\n			\n			\n		\n\n		\n  \n\n		\n			\n			\n		\n\n		\n  \n \n  \n 
URL:https://essft.com/event/central-connecticut-spaniel-club-4/
LOCATION:Sugar Brook Field Trial and Wildlife Management Area\, CT-14 & Black Hill Rd\, Plainfield\, CT 06374\, USA\, Plainfield\, Connecticut\, 6374\, United States
CATEGORIES:Field Trials - East
GEO:41.7167;-71.9405
X-APPLE-STRUCTURED-LOCATION;VALUE=URI;X-ADDRESS=DESCRIPTION:NEW \nSugar Brook Field Trial and Wildlife Management Area\nPlainfield CT\nRoute 14 \nBlack Hill Road\nPlainfield CT\nGPS: 41.7167-71.9405 \n  \n  \nEntries Close: Tuesday August 13 2019 at 11:59 P.M. Eastern Time(ET) on Hunt Secretary. \nJudges: Chris Jensen and Mike Elsasser\n  \n\n		\n			\n			\n		\n\n		\n  \n\n		\n			\n			\n		\n\n		\n  \n \n  \n ;X-APPLE-RADIUS=500;X-TITLE=CT-14 & Black Hill Rd\, Plainfield\, CT 06374\, USA:geo:-71.9405,41.7167
END:VEVENT
BEGIN:VEVENT
DTSTART;TZID=America/Chicago:20190824T000000
DTEND;TZID=America/Chicago:20190825T000000
DTSTAMP:20260423T060045
CREATED:20250612T021156Z
LAST-MODIFIED:20250612T021156Z
UID:10010015-1566604800-1566691200@essft.com
SUMMARY:ABDA August 2019 Flushing Dog HUNT TEST
DESCRIPTION:Entries Close: Tuesday\, August 13\, 2019 11:59:59 PM Eastern Time(ET) \nhttps://www.huntsecretary.com/eventinfo_A.asp?mhuntid=1003305 \n 
URL:https://essft.com/event/abda-august-2019-flushing-dog-hunt-test/
LOCATION:Utah
CATEGORIES:Hunt Tests
END:VEVENT
BEGIN:VEVENT
DTSTART;TZID=America/Chicago:20190824T000000
DTEND;TZID=America/Chicago:20190824T000000
DTSTAMP:20260423T060045
CREATED:20250612T021156Z
LAST-MODIFIED:20250612T021156Z
UID:10010014-1566604800-1566604800@essft.com
SUMMARY:Sportsmen's Spaniel Club of Calumet - AKC WATER TEST
DESCRIPTION:The club will be offering  a WATER TEST and HUNT TESTS this weekend. \nEntries Close: Tuesday\, August 13\, 2019 11:59:59 PM Eastern Time(ET) on  https://www.huntsecretary.com/premiumakc.asp?mhuntid=1003427 \nJudges: Debbie Salmons and John Zahorik\n 
URL:https://essft.com/event/sportsmens-spaniel-club-of-calumet-akc-water-test/
LOCATION:Aux Sable Farm\, 3700 Cemetery Rd\, Morris\, IL\, United States
CATEGORIES:Water Test
GEO:41.386373;-88.352149
X-APPLE-STRUCTURED-LOCATION;VALUE=URI;X-ADDRESS=Aux Sable Farm 3700 Cemetery Rd Morris IL United States;X-APPLE-RADIUS=500;X-TITLE=3700 Cemetery Rd:geo:-88.352149,41.386373
END:VEVENT
BEGIN:VEVENT
DTSTART;TZID=America/Chicago:20190817T000000
DTEND;TZID=America/Chicago:20190818T000000
DTSTAMP:20260423T060045
CREATED:20250612T021156Z
LAST-MODIFIED:20250612T021156Z
UID:10010011-1566000000-1566086400@essft.com
SUMMARY:Central Connecticut Spaniel Club - Hunt Test
DESCRIPTION:Entries Close: Tuesday\, August 6\, 2019 at 11:59 P.M. Eastern Time(ET) on Hunt Secretary \n 
URL:https://essft.com/event/central-connecticut-spaniel-club-hunt-test/
LOCATION:NOD Brook Wildlife Management Area\, Simsbury\, CT\, USA\, Simsbury\, Connecticut\, United States
CATEGORIES:Hunt Tests
END:VEVENT
BEGIN:VEVENT
DTSTART;TZID=America/Chicago:20190817T000000
DTEND;TZID=America/Chicago:20190818T000000
DTSTAMP:20260423T060045
CREATED:20250612T020955Z
LAST-MODIFIED:20250612T020955Z
UID:10010009-1566000000-1566086400@essft.com
SUMMARY:AKC Week 33
DESCRIPTION:
URL:https://essft.com/event/akc-week-33-2/
LOCATION:Utah
END:VEVENT
BEGIN:VEVENT
DTSTART;TZID=America/Chicago:20190817T000000
DTEND;TZID=America/Chicago:20190818T000000
DTSTAMP:20260423T060045
CREATED:20250612T020955Z
LAST-MODIFIED:20250612T020955Z
UID:10010010-1566000000-1566086400@essft.com
SUMMARY:NORTHWEST ENGLISH SPRINGER SPANIEL CLUB Hunt Test
DESCRIPTION:
URL:https://essft.com/event/northwest-english-springer-spaniel-club-hunt-test/
LOCATION:Utah
CATEGORIES:Hunt Tests
END:VEVENT
BEGIN:VEVENT
DTSTART;TZID=America/Chicago:20190811T000000
DTEND;TZID=America/Chicago:20190811T000000
DTSTAMP:20260423T060045
CREATED:20250612T020955Z
LAST-MODIFIED:20250612T020955Z
UID:10010007-1565481600-1565481600@essft.com
SUMMARY:Central Maine Spaniel Club - Hunt Test
DESCRIPTION:Entries Close 7/28/2019 11:59:59PM  on Entry Express \n  \n 
URL:https://essft.com/event/central-maine-spaniel-club-hunt-test/
LOCATION:Wildwind Kennels\, 1368 Webb Rd\, Thorndike\, ME\, United States
CATEGORIES:Hunt Tests
GEO:44.530132;-69.209867
X-APPLE-STRUCTURED-LOCATION;VALUE=URI;X-ADDRESS=Wildwind Kennels 1368 Webb Rd Thorndike ME United States;X-APPLE-RADIUS=500;X-TITLE=1368 Webb Rd:geo:-69.209867,44.530132
END:VEVENT
BEGIN:VEVENT
DTSTART;TZID=America/Chicago:20190811T000000
DTEND;TZID=America/Chicago:20190811T000000
DTSTAMP:20260423T060045
CREATED:20250612T020955Z
LAST-MODIFIED:20250612T020955Z
UID:10010008-1565481600-1565481600@essft.com
SUMMARY:Central Maine Spaniel Club - Water Test
DESCRIPTION:Entries Close: Monday\, July 29\, 2019 on www.entryexpress.net \nJudges: Vern Knapp and Richard Moore\nNote: Please verify location with the Field Trial Secretary listed in the contact information.
URL:https://essft.com/event/central-maine-spaniel-club-water-test/
LOCATION:Utah
CATEGORIES:Water Test
END:VEVENT
BEGIN:VEVENT
DTSTART;TZID=America/Chicago:20190810T000000
DTEND;TZID=America/Chicago:20190811T000000
DTSTAMP:20260423T060045
CREATED:20250612T020955Z
LAST-MODIFIED:20250612T020955Z
UID:10010006-1565395200-1565481600@essft.com
SUMMARY:Southern Tier Hunt Test
DESCRIPTION:https://www.huntsecretary.com/premiumakc.asp?mhuntid=1003425 \n 
URL:https://essft.com/event/southern-tier-hunt-test/
LOCATION:Sunrise Kennels\, 6600 Co Rd 69\, Canisteo\, NY 14823\, USA\, Canisteo\, New York\, 14823\, United States
CATEGORIES:Hunt Tests
GEO:42.321777;-77.460261
X-APPLE-STRUCTURED-LOCATION;VALUE=URI;X-ADDRESS=Sunrise Kennels 6600 Co Rd 69 Canisteo NY 14823 USA Canisteo New York 14823 United States;X-APPLE-RADIUS=500;X-TITLE=6600 Co Rd 69\, Canisteo\, NY 14823\, USA:geo:-77.460261,42.321777
END:VEVENT
BEGIN:VEVENT
DTSTART;TZID=America/Chicago:20190810T000000
DTEND;TZID=America/Chicago:20190811T000000
DTSTAMP:20260423T060045
CREATED:20250612T020754Z
LAST-MODIFIED:20250612T020754Z
UID:10010004-1565395200-1565481600@essft.com
SUMMARY:AKC Week 32
DESCRIPTION:
URL:https://essft.com/event/akc-week-32-2/
LOCATION:Utah
END:VEVENT
BEGIN:VEVENT
DTSTART;TZID=America/Chicago:20190810T000000
DTEND;TZID=America/Chicago:20190810T000000
DTSTAMP:20260423T060045
CREATED:20250612T020754Z
LAST-MODIFIED:20250612T020754Z
UID:10010005-1565395200-1565395200@essft.com
SUMMARY:Central States - WATER TEST
DESCRIPTION:Entries Close: Thursday\, August 1\, 2019 at 8:00 pm \nJudges:  Jack Markowski and Lea Ames\n  \n\n		\n			\n			\n		\n\n		\n  \n\n		\n			\n			\n		\n\n		\n  \n\n		\n			\n			\n		\n\n		\nCentralStates 2019 WaterTest Fillable Entry MW WORD \n  \n  \n 
URL:https://essft.com/event/central-states-water-test/
LOCATION:Dansmirth Kennels\, 17109 Lincoln Rd\, Harvard\, IL 60033\, USA\, Harvard\, Illinois\, 60033\, United States
CATEGORIES:Water Test
END:VEVENT
BEGIN:VEVENT
DTSTART;TZID=America/Chicago:20190809T000000
DTEND;TZID=America/Chicago:20190809T000000
DTSTAMP:20260423T060045
CREATED:20250612T020754Z
LAST-MODIFIED:20250612T020754Z
UID:10010003-1565308800-1565308800@essft.com
SUMMARY:Hunt Test Judging Seminar  sponsored by Southern Tier FTA
DESCRIPTION:Click here for more information on Hunt Secretary \nSouthern Tier FT Association is sponsoring a Judging Seminar on Friday August 9th\, 2019 (4:00 PM). The judging seminar is the night before the Southern Tier Spaniel Hunt Test. \nTom Meyer from the AKC will be conducting the seminar. This is a great opportunity for handlers that will be attending our Hunt Test on Saturday/Sunday and a perfect opportunity for Judges and those thinking of becoming Judges. \nCost is $50. After 8/1/2019\, the cost is $60.
URL:https://essft.com/event/hunt-test-judging-seminar-sponsored-by-southern-tier-fta/
LOCATION:Utah
CATEGORIES:Judging Seminar
END:VEVENT
BEGIN:VEVENT
DTSTART;TZID=America/Chicago:20190803T000000
DTEND;TZID=America/Chicago:20190804T000000
DTSTAMP:20260423T060045
CREATED:20250612T020754Z
LAST-MODIFIED:20250612T020754Z
UID:10010002-1564790400-1564876800@essft.com
SUMMARY:AKC Week 31
DESCRIPTION:
URL:https://essft.com/event/akc-week-31-3/
LOCATION:Utah
END:VEVENT
BEGIN:VEVENT
DTSTART;TZID=America/Chicago:20190727T000000
DTEND;TZID=America/Chicago:20190728T000000
DTSTAMP:20260423T060045
CREATED:20250612T020554Z
LAST-MODIFIED:20250612T020554Z
UID:10010000-1564185600-1564272000@essft.com
SUMMARY:Bushy Hill Spaniel FTA Hunt Tests
DESCRIPTION:https://www.huntsecretary.com/premiumakc.asp?mhuntid=1003440 \n\nDue to the potential heat\, the new start time for the Bushy Hill FTA Hunt Test on July 27 & 28\, 2019 is 7:00 AM.\n  \n 
URL:https://essft.com/event/bushy-hill-spaniel-fta-hunt-tests/
LOCATION:Utah
CATEGORIES:Hunt Tests
END:VEVENT
BEGIN:VEVENT
DTSTART;TZID=America/Chicago:20190727T000000
DTEND;TZID=America/Chicago:20190727T000000
DTSTAMP:20260423T060045
CREATED:20250612T020754Z
LAST-MODIFIED:20250612T020754Z
UID:10010001-1564185600-1564185600@essft.com
SUMMARY:Oklahoma Springer Spaniel Club
DESCRIPTION:Closing Date: Friday – July 26\, 2019 with the FTS \nJudges:   Clay Early and Cliff Hankins \nWaiting for  more information from the the FTS.  Please be patient. \n 
URL:https://essft.com/event/oklahoma-springer-spaniel-club-7/
LOCATION:Utah
CATEGORIES:Water Test
END:VEVENT
BEGIN:VEVENT
DTSTART;TZID=America/Chicago:20190727T000000
DTEND;TZID=America/Chicago:20190727T000000
DTSTAMP:20260423T060045
CREATED:20250612T020553Z
LAST-MODIFIED:20250612T020553Z
UID:10009998-1564185600-1564185600@essft.com
SUMMARY:Arctic Bird Dog Association Flushing Breed Hunt Test
DESCRIPTION:Entries Close: Tuesday\, July 16\, 2019 11:59:59 PM Eastern Time(ET) \nhttps://www.huntsecretary.com/eventinfo_A.asp?mhuntid=1003333
URL:https://essft.com/event/arctic-bird-dog-association-flushing-breed-hunt-test/
LOCATION:Utah
CATEGORIES:Hunt Tests
END:VEVENT
BEGIN:VEVENT
DTSTART;TZID=America/Chicago:20190727T000000
DTEND;TZID=America/Chicago:20190727T000000
DTSTAMP:20260423T060045
CREATED:20250612T020553Z
LAST-MODIFIED:20250612T020553Z
UID:10009999-1564185600-1564185600@essft.com
SUMMARY:Hunt Test Judging Seminar sponsored by Southern California SSC
DESCRIPTION:Site contact: Mark Thorpe  714.743.1112
URL:https://essft.com/event/hunt-test-judging-seminar-sponsored-by-southern-california-ssc/
LOCATION:Utah
CATEGORIES:Judging Seminar
END:VEVENT
BEGIN:VEVENT
DTSTART;TZID=America/Chicago:20190726T000000
DTEND;TZID=America/Chicago:20190726T000000
DTSTAMP:20260423T060045
CREATED:20250612T020553Z
LAST-MODIFIED:20250612T020553Z
UID:10009997-1564099200-1564099200@essft.com
SUMMARY:Gunning Seminar  Presented by The Southern Tier English Springer Spaniel Club
DESCRIPTION:  \nThe seminar is a combination of classroom and field study.  The course will start at 4:00pm  and we hope to be done by between 9 and 10. Please bring field clothes for observing gunning in the field along with your gun and shells. Cost of the seminar for materials and  dinner will be $50. \n\n  \n  \n\nAgenda\n\n4:00 pm Registration and Introductions:\nField Trial Gun Safety Program\n\nWhy are we here\nWhat we want to accomplish\nJob of interclub gun safety chair\nWhat we expect from you\nWhat you should take home from here\nAttendance sheets\n\n\nTools of the trade\n\nGuns  Shells  Clothing\n\n\nDiscussion of Dale Luther’s Book\n\nCover all aspects of trial gunning\n\n\nTrial Logistics – demonstrate actual situations\n\nShooting zones\n\n\nRun brace dogs and have gun participants shoot\n\nExplain situations\n\n\nDiscussion of specific situations\n\nCross shooting – is there such a thing?\nPlaying favoritism\nWindow shot\nCaptains – assistant captain\n\n\n\n***This schedule will be modified to accommodate the weather. \nPLEASE NOTE: Due to time and space constraints registration will be limited to the first 20 paid participants Note: there is a hunt test on the weekend 7/27/19-7/28/19 Bushy Hill please use https://huntsecretary.com      \n  \nMore Information and Registration\nTo register:  Contact Bill Reinis at 585-472-0443 or email breinis10@gmail.com. \nPlease make checks payable to STESSC. Please include Name address phone # and email. \nMail your information and check to: Bill Reinis  1428 Shoecraft Rd  Penfield NY 14526 \nQuestions?? Contact Bill Reinis or Cindy Goode Wilson (607)-776-7349 \n  \nMotels in the area \nMicro Motel: 370 W Morris St\, Bath\, NY 14810  (607) 269-8062 \nSuper 8 333 W Morris St\, Bath\, NY 14810 (607) 776-2187 \nDays Inn 1157 NY-36\, Hornell\, NY 14843  (607) 324-6222 \nEcono Lodge 7462 Seneca Rd N\, Hornell\, NY 14843  (607) 324-0800
URL:https://essft.com/event/gunning-seminar-presented-by-the-southern-tier-english-springer-spaniel-club/
LOCATION:Utah
CATEGORIES:Gunning Seminars
END:VEVENT
BEGIN:VEVENT
DTSTART;TZID=America/Chicago:20190720T000000
DTEND;TZID=America/Chicago:20190721T000000
DTSTAMP:20260423T060045
CREATED:20250612T020553Z
LAST-MODIFIED:20250612T020553Z
UID:10009996-1563580800-1563667200@essft.com
SUMMARY:AKC Week 29
DESCRIPTION:
URL:https://essft.com/event/akc-week-29-2/
LOCATION:Utah
END:VEVENT
BEGIN:VEVENT
DTSTART;TZID=America/Chicago:20190713T000000
DTEND;TZID=America/Chicago:20190714T000000
DTSTAMP:20260423T060045
CREATED:20250612T020352Z
LAST-MODIFIED:20250612T020352Z
UID:10009994-1562976000-1563062400@essft.com
SUMMARY:AKC Week 28
DESCRIPTION:
URL:https://essft.com/event/akc-week-28-2/
LOCATION:Utah
END:VEVENT
BEGIN:VEVENT
DTSTART;TZID=America/Chicago:20190713T000000
DTEND;TZID=America/Chicago:20190713T000000
DTSTAMP:20260423T060045
CREATED:20250612T020352Z
LAST-MODIFIED:20250612T020352Z
UID:10009995-1562976000-1562976000@essft.com
SUMMARY:Hunt Test Judging Seminar sponsored by NDSSC
DESCRIPTION:
URL:https://essft.com/event/hunt-test-judging-seminar-sponsored-by-ndssc/
LOCATION:Utah
CATEGORIES:Judging Seminar
END:VEVENT
BEGIN:VEVENT
DTSTART;TZID=America/Chicago:20190712T000000
DTEND;TZID=America/Chicago:20190712T000000
DTSTAMP:20260423T060045
CREATED:20250612T020352Z
LAST-MODIFIED:20250612T020352Z
UID:10009993-1562889600-1562889600@essft.com
SUMMARY:Mother's Day
DESCRIPTION:
URL:https://essft.com/event/mothers-day-2/
LOCATION:Utah
CATEGORIES:Holidays
END:VEVENT
BEGIN:VEVENT
DTSTART;TZID=America/Chicago:20190712T000000
DTEND;TZID=America/Chicago:20190712T000000
DTSTAMP:20260423T060045
CREATED:20250612T020352Z
LAST-MODIFIED:20250612T020352Z
UID:10009992-1562889600-1562889600@essft.com
SUMMARY:Easter
DESCRIPTION:
URL:https://essft.com/event/easter-2/
LOCATION:Utah
CATEGORIES:Holidays
END:VEVENT
BEGIN:VEVENT
DTSTART;TZID=America/Chicago:20190711T000000
DTEND;TZID=America/Chicago:20190712T000000
DTSTAMP:20260423T060045
CREATED:20250612T020352Z
LAST-MODIFIED:20250612T020352Z
UID:10009991-1562803200-1562889600@essft.com
SUMMARY:Northern Colorado Springer Spaniel Club
DESCRIPTION:Entries Close: TBD \nJudges: TBD \n  \nWaiting for more information from the Field Trial Secretary.  Thank you for your patience. \n 
URL:https://essft.com/event/northern-colorado-springer-spaniel-club-5-2/
LOCATION:Utah
CATEGORIES:Field Trials - Rocky Mountain
END:VEVENT
BEGIN:VEVENT
DTSTART;TZID=America/Chicago:20190706T000000
DTEND;TZID=America/Chicago:20190707T000000
DTSTAMP:20260423T060045
CREATED:20250612T020151Z
LAST-MODIFIED:20250612T020151Z
UID:10009990-1562371200-1562457600@essft.com
SUMMARY:AKC Week 27
DESCRIPTION:
URL:https://essft.com/event/akc-week-27-2/
LOCATION:Utah
END:VEVENT
END:VCALENDAR