BEGIN:VCALENDAR
VERSION:2.0
PRODID:-//English Springer Spaniel Field Trials - ECPv6.15.20//NONSGML v1.0//EN
CALSCALE:GREGORIAN
METHOD:PUBLISH
X-WR-CALNAME:English Springer Spaniel Field Trials
X-ORIGINAL-URL:https://essft.com
X-WR-CALDESC:Events for English Springer Spaniel Field Trials
REFRESH-INTERVAL;VALUE=DURATION:PT1H
X-Robots-Tag:noindex
X-PUBLISHED-TTL:PT1H
BEGIN:VTIMEZONE
TZID:America/Chicago
BEGIN:DAYLIGHT
TZOFFSETFROM:-0600
TZOFFSETTO:-0500
TZNAME:CDT
DTSTART:20180311T080000
END:DAYLIGHT
BEGIN:STANDARD
TZOFFSETFROM:-0500
TZOFFSETTO:-0600
TZNAME:CST
DTSTART:20181104T070000
END:STANDARD
BEGIN:DAYLIGHT
TZOFFSETFROM:-0600
TZOFFSETTO:-0500
TZNAME:CDT
DTSTART:20190310T080000
END:DAYLIGHT
BEGIN:STANDARD
TZOFFSETFROM:-0500
TZOFFSETTO:-0600
TZNAME:CST
DTSTART:20191103T070000
END:STANDARD
BEGIN:DAYLIGHT
TZOFFSETFROM:-0600
TZOFFSETTO:-0500
TZNAME:CDT
DTSTART:20200308T080000
END:DAYLIGHT
BEGIN:STANDARD
TZOFFSETFROM:-0500
TZOFFSETTO:-0600
TZNAME:CST
DTSTART:20201101T070000
END:STANDARD
END:VTIMEZONE
BEGIN:VEVENT
DTSTART;TZID=America/Chicago:20190928T000000
DTEND;TZID=America/Chicago:20190929T000000
DTSTAMP:20260423T123220
CREATED:20250612T023005Z
LAST-MODIFIED:20250612T023005Z
UID:10010057-1569628800-1569715200@essft.com
SUMMARY:Sudbury & District Kennel Club Inc. - Spaniels
DESCRIPTION:https://www.dogshow.ca/en/2021?club=Sudbury-and-District-Kennel-Club-Inc.—Spaniels \n 
URL:https://essft.com/event/sudbury-district-kennel-club-inc-spaniels-2/
LOCATION:Texas
CATEGORIES:Canadian FT
END:VEVENT
BEGIN:VEVENT
DTSTART;TZID=America/Chicago:20190928T000000
DTEND;TZID=America/Chicago:20190929T000000
DTSTAMP:20260423T123220
CREATED:20250612T022804Z
LAST-MODIFIED:20250612T022804Z
UID:10010055-1569628800-1569715200@essft.com
SUMMARY:AKC Week 39
DESCRIPTION:
URL:https://essft.com/event/akc-week-39-3/
LOCATION:Texas
END:VEVENT
BEGIN:VEVENT
DTSTART;TZID=America/Chicago:20190927T000000
DTEND;TZID=America/Chicago:20190929T000000
DTSTAMP:20260423T123220
CREATED:20250612T022804Z
LAST-MODIFIED:20250612T022804Z
UID:10010053-1569542400-1569715200@essft.com
SUMMARY:Pawnee Flushing Spaniel Club
DESCRIPTION:Entries Close: Monday\, September 16\, 2019 11:59:59 PM Eastern Time(ET) on Hunt Secretary \nJudges: \n Click here for Trial #1 Entry on Hunt Sec.: Rumi Schroeher(WI) & Brent LeMaster (OH) \nClick here for  Trial #2 on Hunt Sec.: Jon Cook (MA) & Joe Stallman (MN)  \n\n		\n			\n			\n		\n\n		\n\n		\n			\n			\n		\n\n		\n\n		\n			\n			\n		\n\n		\n  \n \n  \n  \n 
URL:https://essft.com/event/pawnee-flushing-spaniel-club-3/
LOCATION:Texas
CATEGORIES:Field Trials - Rocky Mountain
END:VEVENT
BEGIN:VEVENT
DTSTART;TZID=America/Chicago:20190927T000000
DTEND;TZID=America/Chicago:20190928T000000
DTSTAMP:20260423T123220
CREATED:20250612T022804Z
LAST-MODIFIED:20250612T022804Z
UID:10010052-1569542400-1569628800@essft.com
SUMMARY:Timpanogos Hunting Spaniel Club
DESCRIPTION:Entries Close: With the Field Trial Secretary at 11 p.m. MDT\, Wednesday\, September 18th\, 2019 \nJudges: Casey Butz and Alex Cacchio\nPlease be aware that we will run the first 2 series of the Springers followed by the first 2 series of the cockers followed by the Springer puppies (3 entries) then the third series.  Lunch will begin at 11:00 a.m. and be available until 1:00 p.m. (or longer) on the grounds. \nWe plan to start as close to 07:00 with the Springers each morning as daylight will allow due to the large number of entries. \nWe will have shuttles available for dogs and handlers.  \n\n		\n			\n			\n		\n\n		\n  \n\n		\n			\n			\n		\n\n		\n  \n\n		\n			\n			\n		\n\n		\n  \n\n		\n			\n			\n		\n\n		\n  \n\n		\n			\n			\n		\n\n		\n  \n\n		\n			\n			\n		\n\n		\n  \n\n		\n			\n			\n		\n\n		\n  \n\n		\n			\n			\n		\n\n		\n 
URL:https://essft.com/event/timpanogos-hunting-spaniel-club-9/
LOCATION:Clarkston Trial Grounds\, 4900 W 11000 N\, Clarkston\, UT 84305\, USA\, Clarkston\, Utah\, 84305\, United States
CATEGORIES:Field Trials - West
GEO:41.931805;-112.01117
X-APPLE-STRUCTURED-LOCATION;VALUE=URI;X-ADDRESS=Clarkston Trial Grounds 4900 W 11000 N Clarkston UT 84305 USA Clarkston Utah 84305 United States;X-APPLE-RADIUS=500;X-TITLE=4900 W 11000 N\, Clarkston\, UT 84305\, USA:geo:-112.01117,41.931805
END:VEVENT
BEGIN:VEVENT
DTSTART;TZID=America/Chicago:20190927T000000
DTEND;TZID=America/Chicago:20190928T000000
DTSTAMP:20260423T123220
CREATED:20250612T022804Z
LAST-MODIFIED:20250612T022804Z
UID:10010054-1569542400-1569628800@essft.com
SUMMARY:Cocker: Timpanogos Spaniel Club
DESCRIPTION:Entries Close: at 11 p.m. MDT\, Wednesday \, September 18th\, 2019 \nThere are 2 Open Cocker Trials  Event # 2019705306 & Event # 2019705307. Please look at the entry forms in the packet. \nMail entries with check (US funds only) to: \n“THSC” \nc/o Kurt Price\, Field Trial Secretary \n2399 West 900 North\, Layton\, UT  84041 \nPhone:  (801) 510-6416 – bowmanrx@xmission.com \n  \nJudges:  Casey Butz and Alex Cacchio\n\n		\n			\n			\n		\n\n		\n 
URL:https://essft.com/event/cocker-timpanogos-spaniel-club/
LOCATION:Texas
CATEGORIES:Cocker Trial
END:VEVENT
BEGIN:VEVENT
DTSTART;TZID=America/Chicago:20190926T000000
DTEND;TZID=America/Chicago:20190927T000000
DTSTAMP:20260423T123220
CREATED:20250612T022804Z
LAST-MODIFIED:20250612T022804Z
UID:10010051-1569456000-1569542400@essft.com
SUMMARY:Spaniel Association of Western New York
DESCRIPTION:Entries Close: Monday\, September 16\, 2019 11:59:59 PM Eastern Time(ET) on Hunt Secretary \nJudges: Ralph Botti and Deborah Olszewski\n 
URL:https://essft.com/event/spaniel-association-of-western-new-york-2/
LOCATION:One Forty Five North LLC\, 8045 Tonawanda Creek Rd\, Lockport\, NY 14094\, USA\, Lockport\, New York\, 14094\, United States
CATEGORIES:Field Trials - East
GEO:43.08423;-78.589279
X-APPLE-STRUCTURED-LOCATION;VALUE=URI;X-ADDRESS=One Forty Five North LLC 8045 Tonawanda Creek Rd Lockport NY 14094 USA Lockport New York 14094 United States;X-APPLE-RADIUS=500;X-TITLE=8045 Tonawanda Creek Rd\, Lockport\, NY 14094\, USA:geo:-78.589279,43.08423
END:VEVENT
BEGIN:VEVENT
DTSTART;TZID=America/Chicago:20190923T000000
DTEND;TZID=America/Chicago:20190924T000000
DTSTAMP:20260423T123220
CREATED:20250612T022604Z
LAST-MODIFIED:20250612T022604Z
UID:10010050-1569196800-1569283200@essft.com
SUMMARY:Southern Tier Field Trial Association Trial #2
DESCRIPTION:Entries Close: Wednesday\, September 11\, 2019 11:59:59 PM Eastern Time(ET) on Hunt Secretary.   \nJudges:  Roland Snyder and Pierre Asselin\n  \n\n		\n			\n			\n		\n\n		\n  \n\n		\n			\n			\n		\n\n		\n 
URL:https://essft.com/event/southern-tier-field-trial-association-trial-2/
LOCATION:Richard Stewart Farm\, Canisteo\, NY 14823\, USA\, Canisteo\, New York\, 14823\, United States
CATEGORIES:Field Trials - East
GEO:42.291091;-77.498077
X-APPLE-STRUCTURED-LOCATION;VALUE=URI;X-ADDRESS=Richard Stewart Farm Canisteo NY 14823 USA Canisteo New York 14823 United States;X-APPLE-RADIUS=500;X-TITLE=Canisteo\, NY 14823\, USA:geo:-77.498077,42.291091
END:VEVENT
BEGIN:VEVENT
DTSTART;TZID=America/Chicago:20190921T000000
DTEND;TZID=America/Chicago:20190922T000000
DTSTAMP:20260423T123220
CREATED:20250612T022604Z
LAST-MODIFIED:20250612T022604Z
UID:10010049-1569024000-1569110400@essft.com
SUMMARY:Pittsburgh ESSFTC
DESCRIPTION:Entries Close: Tuesday\, September 10\, 2019 11:59:59 PM Eastern Time(ET) on  Hunt Secretary \nJudges: Gary Breitbarth and George Kittle\n 
URL:https://essft.com/event/pittsburgh-essftc-3/
LOCATION:Texas
CATEGORIES:Field Trials - Mid East
END:VEVENT
BEGIN:VEVENT
DTSTART;TZID=America/Chicago:20190921T000000
DTEND;TZID=America/Chicago:20190922T000000
DTSTAMP:20260423T123220
CREATED:20250612T022603Z
LAST-MODIFIED:20250612T022603Z
UID:10010046-1569024000-1569110400@essft.com
SUMMARY:Eastern Slopes Spaniel Association
DESCRIPTION:https://www.dogshow.ca/en/1976?club=Eastern-Slopes-Spaniel-Association \n 
URL:https://essft.com/event/eastern-slopes-spaniel-association-7/
LOCATION:Texas
CATEGORIES:Canadian FT
END:VEVENT
BEGIN:VEVENT
DTSTART;TZID=America/Chicago:20190921T000000
DTEND;TZID=America/Chicago:20190922T000000
DTSTAMP:20260423T123220
CREATED:20250612T022603Z
LAST-MODIFIED:20250612T022603Z
UID:10010047-1569024000-1569110400@essft.com
SUMMARY:Tilden Valley English Springer Spaniel Club
DESCRIPTION:Entries Close:  12:00 PM EST\, Tuesday\, September 10\, 2019 with the FTS.  Send via US Postal mail. \nJudges:  Robert Clayton and Brian Bilotta\n\n		\n			\n			\n		\n\n		\n  \n\n		\n			\n			\n		\n\n		\n 
URL:https://essft.com/event/tilden-valley-english-springer-spaniel-club-3/
LOCATION:North Rock Hie On Acres\, 3938 N Rock 38th Rd\, Rock\, MI 49880\, USA\, Rock\, Michigan\, 49880\, United States
CATEGORIES:Field Trials - Mid West
GEO:46.09362;-87.164271
X-APPLE-STRUCTURED-LOCATION;VALUE=URI;X-ADDRESS=North Rock Hie On Acres 3938 N Rock 38th Rd Rock MI 49880 USA Rock Michigan 49880 United States;X-APPLE-RADIUS=500;X-TITLE=3938 N Rock 38th Rd\, Rock\, MI 49880\, USA:geo:-87.164271,46.09362
END:VEVENT
BEGIN:VEVENT
DTSTART;TZID=America/Chicago:20190921T000000
DTEND;TZID=America/Chicago:20190922T000000
DTSTAMP:20260423T123220
CREATED:20250612T022603Z
LAST-MODIFIED:20250612T022603Z
UID:10010048-1569024000-1569110400@essft.com
SUMMARY:Cocker: Patriot Sporting Spaniel Club
DESCRIPTION:Entries close with the Field Trial Secretary Monday\, Sept.16\, 2019\nat 6:00 PM EST. The drawing will take place at Monday Sept.16\,\n2019 10:00 PM EST\, at\n186 Lowe Street\, Leominster\, MA. \nWe now have an alternative method for entering this event.\nYou can register and enter at:\nwww.patriotsportingspanielclub.com/my-account/\nor mail entries with check or money order payable to the Patriot\nSporting Spaniel Club (PSSC)to:\nJack Klette\, Field Trial Secretary\n186 Lowe Street\, Leominster\, MA 01453\nPhone: 978-840-3694 email: klette@verizon.net \n  \n  \nJudges\nOpen\nAll-Age\nAlbert Viotto – 245 Route 210\, Stony Point NY 10980\nDave Williams – 717 Boswell Avenue\, Crete Nebraska 68333 \nPuppy Jack Klette – 186 Lowe Street\, Leominster\, MA 01453\nVern Knapp – P.O. Box 385\, Newport\, ME 04953
URL:https://essft.com/event/cocker-patriot-sporting-spaniel-club/
LOCATION:Texas
CATEGORIES:Cocker Trial
END:VEVENT
BEGIN:VEVENT
DTSTART;TZID=America/Chicago:20190921T000000
DTEND;TZID=America/Chicago:20190922T000000
DTSTAMP:20260423T123220
CREATED:20250612T022403Z
LAST-MODIFIED:20250612T022403Z
UID:10010044-1569024000-1569110400@essft.com
SUMMARY:AKC Week 38
DESCRIPTION:
URL:https://essft.com/event/akc-week-38-2/
LOCATION:Texas
END:VEVENT
BEGIN:VEVENT
DTSTART;TZID=America/Chicago:20190921T000000
DTEND;TZID=America/Chicago:20190922T000000
DTSTAMP:20260423T123220
CREATED:20250612T022403Z
LAST-MODIFIED:20250612T022403Z
UID:10010045-1569024000-1569110400@essft.com
SUMMARY:Southern Tier Field Association Trial #1
DESCRIPTION:Entries Close: Wednesday\, September 11\, 2019 11:59:59 PM Eastern Time(ET) on Hunt Secretary   \nJudges:  William Pierson and Rick Walker\n  \n\n		\n			\n			\n		\n\n		\n  \n 
URL:https://essft.com/event/southern-tier-field-association-trial-1/
LOCATION:Richard Stewart Farm\, Canisteo\, NY 14823\, USA\, Canisteo\, New York\, 14823\, United States
CATEGORIES:Field Trials - East
GEO:42.291091;-77.498077
X-APPLE-STRUCTURED-LOCATION;VALUE=URI;X-ADDRESS=Richard Stewart Farm Canisteo NY 14823 USA Canisteo New York 14823 United States;X-APPLE-RADIUS=500;X-TITLE=Canisteo\, NY 14823\, USA:geo:-77.498077,42.291091
END:VEVENT
BEGIN:VEVENT
DTSTART;TZID=America/Chicago:20190920T000000
DTEND;TZID=America/Chicago:20190922T000000
DTSTAMP:20260423T123220
CREATED:20250612T022402Z
LAST-MODIFIED:20250612T022402Z
UID:10010042-1568937600-1569110400@essft.com
SUMMARY:North Dakota Sporting Spaniel Club
DESCRIPTION:Entries Close: Monday\, September 9\, 2019 11:59:59 PM Eastern Time(ET) on Hunt Secretary \n  \n\n		\n			\n			\n		\n\n		\n  \n\n		\n			\n			\n		\n\n		\n  \n\n		\n			\n			\n		\n\n		\n  \nJudges:  Friday  – Open :  Todd Stelzer and John Smith \nSaturday Open / Sunday Amateur:  Jess Sekey and Tom Nabity \n 
URL:https://essft.com/event/north-dakota-sporting-spaniel-club-5/
LOCATION:Texas
CATEGORIES:Field Trials - Rocky Mountain
END:VEVENT
BEGIN:VEVENT
DTSTART;TZID=America/Chicago:20190920T000000
DTEND;TZID=America/Chicago:20190921T000000
DTSTAMP:20260423T123220
CREATED:20250612T022402Z
LAST-MODIFIED:20250612T022402Z
UID:10010043-1568937600-1569024000@essft.com
SUMMARY:Cocker: Cocker Spaniel Hunting Enthusiasts
DESCRIPTION:9/4/2019  NEW LOCATION   Oasis Game Farm  New Glarus\, WI\nEntries Close: Wednesday\, September 11\, 2019 11:59:59 PM Eastern Time(ET) on Hunt Secretary \nJudges: Ted Lagala and Trent Bosse
URL:https://essft.com/event/cocker-cocker-spaniel-hunting-enthusiasts/
LOCATION:Oasis Game Farm\, New Glarus\, WI 53574\, USA\, New Glarus\, Wisconsin\, 53574\, United States
CATEGORIES:Cocker Trial
GEO:42.837895;-89.729012
X-APPLE-STRUCTURED-LOCATION;VALUE=URI;X-ADDRESS=Oasis Game Farm New Glarus WI 53574 USA New Glarus Wisconsin 53574 United States;X-APPLE-RADIUS=500;X-TITLE=New Glarus\, WI 53574\, USA:geo:-89.729012,42.837895
END:VEVENT
BEGIN:VEVENT
DTSTART;TZID=America/Chicago:20190914T000000
DTEND;TZID=America/Chicago:20190915T000000
DTSTAMP:20260423T123220
CREATED:20250612T022402Z
LAST-MODIFIED:20250612T022402Z
UID:10010041-1568419200-1568505600@essft.com
SUMMARY:South Western Ontario Spaniel Club
DESCRIPTION:https://www.dogshow.ca/en/2359?club=South-Western-Ontario-Spaniel-Club-%5BAll-Age-Open-Field-Trial%5D \n\n		\n			\n			\n		\n\n		\n 
URL:https://essft.com/event/south-western-ontario-spaniel-club-4/
LOCATION:Texas
CATEGORIES:Canadian FT
END:VEVENT
BEGIN:VEVENT
DTSTART;TZID=America/Chicago:20190914T000000
DTEND;TZID=America/Chicago:20190915T000000
DTSTAMP:20260423T123220
CREATED:20250612T022202Z
LAST-MODIFIED:20250612T022202Z
UID:10010038-1568419200-1568505600@essft.com
SUMMARY:Northern Minnesota English Springer Spaniel
DESCRIPTION:Entries Close: Tuesday\, September 3\, 2019 11:59:59 PM Eastern Time(ET) on Hunt Secretary \nJudges:  Terry Quinlan and Jeff Brooks\n Dr Christy Peterson and her team from University of Iowa will be doing the blood draw again on the Tick Borne disease Initiative sponsored by the parent club.  Her team will be at Daybreak for Saturday Sept 14. \n\n		\n			\n			\n		\n\n		\n  \n\n		\n			\n			\n		\n\n		\n  \n 
URL:https://essft.com/event/northern-minnesota-english-springer-spaniel-2/
LOCATION:Pine Shadows Daybreak\, Frederick\, SD 57441\, USA\, Frederick\, South Dakota\, 57441\, United States
CATEGORIES:Field Trials - Mid West
ORGANIZER;CN="Sophie Haglin":MAILTO:mark@pineshadows.com
END:VEVENT
BEGIN:VEVENT
DTSTART;TZID=America/Chicago:20190914T000000
DTEND;TZID=America/Chicago:20190915T000000
DTSTAMP:20260423T123220
CREATED:20250612T022202Z
LAST-MODIFIED:20250612T022202Z
UID:10010039-1568419200-1568505600@essft.com
SUMMARY:Cocker: North Dakota Sporting Spaniel Club
DESCRIPTION:Entries Close: TBA \nJudges: TBA
URL:https://essft.com/event/cocker-north-dakota-sporting-spaniel-club-2/
LOCATION:Texas
CATEGORIES:Cocker Trial
END:VEVENT
BEGIN:VEVENT
DTSTART;TZID=America/Chicago:20190914T000000
DTEND;TZID=America/Chicago:20190915T000000
DTSTAMP:20260423T123220
CREATED:20250612T022202Z
LAST-MODIFIED:20250612T022202Z
UID:10010040-1568419200-1568505600@essft.com
SUMMARY:Cocker:  Cocker Spaniel Field Trial of America
DESCRIPTION:Entries: TBA on Entry Express \nJudges: TBA
URL:https://essft.com/event/cocker-cocker-spaniel-field-trial-of-america/
LOCATION:Texas
CATEGORIES:Cocker Trial
END:VEVENT
BEGIN:VEVENT
DTSTART;TZID=America/Chicago:20190914T000000
DTEND;TZID=America/Chicago:20190915T000000
DTSTAMP:20260423T123220
CREATED:20250612T022201Z
LAST-MODIFIED:20250612T022201Z
UID:10010036-1568419200-1568505600@essft.com
SUMMARY:Patriot Sporting Spaniel Club
DESCRIPTION:Entries Close:  with the Field Trial Secretary at 6:00 PM EST\,\nSunday Sept. 8\, 2019.  \nJudges: Jeff Cubit  and Tim Edwards    Judge Change to Paul Hanscom\n  \n\n		\n			\n			\n		\n\n		\n 
URL:https://essft.com/event/patriot-sporting-spaniel-club-4/
LOCATION:Hussey Well Field\, North Conway\, Conway\, NH\, USA\, Conway\, New Hampshire\, United States
CATEGORIES:Field Trials - East
GEO:44.05368;-71.128404
X-APPLE-STRUCTURED-LOCATION;VALUE=URI;X-ADDRESS=Hussey Well Field North Conway Conway NH USA Conway New Hampshire United States;X-APPLE-RADIUS=500;X-TITLE=North Conway\, Conway\, NH\, USA:geo:-71.128404,44.05368
END:VEVENT
BEGIN:VEVENT
DTSTART;TZID=America/Chicago:20190914T000000
DTEND;TZID=America/Chicago:20190915T000000
DTSTAMP:20260423T123220
CREATED:20250612T022201Z
LAST-MODIFIED:20250612T022201Z
UID:10010037-1568419200-1568505600@essft.com
SUMMARY:Susquehanna Valley English Springer Spaniel Club 2019 Fall Field Trial
DESCRIPTION:On hold….stand by \nWaiting for more information from the Field Trial Secretary.  Thank you for your patience. \n 
URL:https://essft.com/event/susquehanna-valley-english-springer-spaniel-club-2019-fall-field-trial/
LOCATION:Texas
CATEGORIES:Field Trials - Mid East
END:VEVENT
BEGIN:VEVENT
DTSTART;TZID=America/Chicago:20190914T000000
DTEND;TZID=America/Chicago:20190915T000000
DTSTAMP:20260423T123220
CREATED:20250612T022001Z
LAST-MODIFIED:20250612T022001Z
UID:10010035-1568419200-1568505600@essft.com
SUMMARY:AKC Week 37
DESCRIPTION:
URL:https://essft.com/event/akc-week-37-2/
LOCATION:Texas
END:VEVENT
BEGIN:VEVENT
DTSTART;TZID=America/Chicago:20190913T000000
DTEND;TZID=America/Chicago:20190914T000000
DTSTAMP:20260423T123220
CREATED:20250612T022001Z
LAST-MODIFIED:20250612T022001Z
UID:10010034-1568332800-1568419200@essft.com
SUMMARY:Timpanogos Hunting Spaniel Club
DESCRIPTION:Entries Close: 11:00 PM MDT\, Wednesday\, September 4th\, 2019 with the FTS.  Send via \nUS Postal Mail. \nJudges: Peter Renwick and Kathy Nestor\n  \n\n		\n			\n			\n		\n\n		\n  \n\n		\n			\n			\n		\n\n		\n\n		\n			\n			\n		\n\n		\n 
URL:https://essft.com/event/timpanogos-hunting-spaniel-club-8/
LOCATION:Clarkston Trial Grounds\, 4900 W 11000 N\, Clarkston\, UT 84305\, USA\, Clarkston\, Utah\, 84305\, United States
CATEGORIES:Field Trials - West
GEO:41.931805;-112.01117
X-APPLE-STRUCTURED-LOCATION;VALUE=URI;X-ADDRESS=Clarkston Trial Grounds 4900 W 11000 N Clarkston UT 84305 USA Clarkston Utah 84305 United States;X-APPLE-RADIUS=500;X-TITLE=4900 W 11000 N\, Clarkston\, UT 84305\, USA:geo:-112.01117,41.931805
END:VEVENT
BEGIN:VEVENT
DTSTART;TZID=America/Chicago:20190912T000000
DTEND;TZID=America/Chicago:20190913T000000
DTSTAMP:20260423T123220
CREATED:20250612T022001Z
LAST-MODIFIED:20250612T022001Z
UID:10010033-1568246400-1568332800@essft.com
SUMMARY:Cocker: Northern Minnesota ESS Club
DESCRIPTION:Entries Close: Monday\, September 2\, 2019 at 11:59 P.M. Eastern Time(ET) on Hunt Secretary \nJudges: Kevin Martineau and Linda Simon\n 
URL:https://essft.com/event/cocker-northern-minnesota-ess-club/
LOCATION:Pine Shadows Daybreak\, Frederick\, SD 57441\, USA\, Frederick\, South Dakota\, 57441\, United States
CATEGORIES:Cocker Trial
ORGANIZER;CN="Sophie Haglin":MAILTO:mark@pineshadows.com
END:VEVENT
BEGIN:VEVENT
DTSTART;TZID=America/Chicago:20190907T000000
DTEND;TZID=America/Chicago:20190908T000000
DTSTAMP:20260423T123220
CREATED:20250612T022000Z
LAST-MODIFIED:20250612T022000Z
UID:10010031-1567814400-1567900800@essft.com
SUMMARY:Ohio Valley ESS Club
DESCRIPTION:Entries Close:   Saturday\, August 31\, 2019 at 6:00 PM EST with the Field Trial Secretary. \nJudges:  Bill Boeckman and Frank Mackinson\nUpdated RO V4 on 9/4/2019 at 8:20 PM CST: \n\n		\n			\n			\n		\n\n		\n  \n 
URL:https://essft.com/event/ohio-valley-ess-club-3/
LOCATION:Russ Smith Farm\, Millersport\, OH 43046\, USA\, Millersport\, Ohio\, 43046\, United States
CATEGORIES:Field Trials - Mid East
GEO:39.892591;-82.513803
X-APPLE-STRUCTURED-LOCATION;VALUE=URI;X-ADDRESS=Russ Smith Farm Millersport OH 43046 USA Millersport Ohio 43046 United States;X-APPLE-RADIUS=500;X-TITLE=Millersport\, OH 43046\, USA:geo:-82.513803,39.892591
END:VEVENT
BEGIN:VEVENT
DTSTART;TZID=America/Chicago:20190907T000000
DTEND;TZID=America/Chicago:20190908T000000
DTSTAMP:20260423T123220
CREATED:20250612T022000Z
LAST-MODIFIED:20250612T022000Z
UID:10010032-1567814400-1567900800@essft.com
SUMMARY:Edmonton Springer Spaniel Club
DESCRIPTION:https://www.dogshow.ca/en/2153?club=Edmonton-Springer-Spaniel-Club \n 
URL:https://essft.com/event/edmonton-springer-spaniel-club/
LOCATION:Texas
CATEGORIES:Canadian FT
END:VEVENT
BEGIN:VEVENT
DTSTART;TZID=America/Chicago:20190907T000000
DTEND;TZID=America/Chicago:20190908T000000
DTSTAMP:20260423T123220
CREATED:20250612T021759Z
LAST-MODIFIED:20250612T021759Z
UID:10010027-1567814400-1567900800@essft.com
SUMMARY:AKC Week 36
DESCRIPTION:
URL:https://essft.com/event/akc-week-36-2/
LOCATION:Texas
END:VEVENT
BEGIN:VEVENT
DTSTART;TZID=America/Chicago:20190907T000000
DTEND;TZID=America/Chicago:20190908T000000
DTSTAMP:20260423T123220
CREATED:20250612T021759Z
LAST-MODIFIED:20250612T021759Z
UID:10010028-1567814400-1567900800@essft.com
SUMMARY:Maine Spaniel Field Trial Club
DESCRIPTION:Entries Close:  August 26\, 2019 12:00 pm  on Entry Express. \nJudges:  Alex Cacchio and Clay Earl\n8/16/2019:  LOCATION CHANGE:  Poland Springs Grounds\,  Decker Circle Road/Lane\, Hollis\, Maine\n  \n\n		\n			\n			\n		\n\n		\n 
URL:https://essft.com/event/maine-spaniel-field-trial-club-4/
LOCATION:Texas
CATEGORIES:Field Trials - East
END:VEVENT
BEGIN:VEVENT
DTSTART;TZID=America/Chicago:20190907T000000
DTEND;TZID=America/Chicago:20190908T000000
DTSTAMP:20260423T123220
CREATED:20250612T021759Z
LAST-MODIFIED:20250612T021759Z
UID:10010029-1567814400-1567900800@essft.com
SUMMARY:COCKER: Central Wisconsin Sporting Spaniel Club
DESCRIPTION:Entries Close: Tuesday\, August 27\, 2019 11:59:59 PM Eastern Time(ET) on Hunt Secretary \nJudges: Larry Hansen and Katie Gorecki\n 
URL:https://essft.com/event/cocker-central-wisconsin-sporting-spaniel-club-2/
LOCATION:Oasis Game Farm\, New Glarus\, WI 53574\, USA\, New Glarus\, Wisconsin\, 53574\, United States
CATEGORIES:Cocker Trial
GEO:42.837895;-89.729012
X-APPLE-STRUCTURED-LOCATION;VALUE=URI;X-ADDRESS=Oasis Game Farm New Glarus WI 53574 USA New Glarus Wisconsin 53574 United States;X-APPLE-RADIUS=500;X-TITLE=New Glarus\, WI 53574\, USA:geo:-89.729012,42.837895
END:VEVENT
BEGIN:VEVENT
DTSTART;TZID=America/Chicago:20190907T000000
DTEND;TZID=America/Chicago:20190908T000000
DTSTAMP:20260423T123220
CREATED:20250612T021759Z
LAST-MODIFIED:20250612T021759Z
UID:10010030-1567814400-1567900800@essft.com
SUMMARY:Nova Scotia Duck Tolling Retriever Club (USA) 2019 First Spaniel Hunt Test
DESCRIPTION:Entries Close: Tuesday\, August 27\, 2019 11:59:59 PM Eastern Time(ET) on Hunt Secretary \nJudges:  Dean Koehler and Heidi Reinhardt
URL:https://essft.com/event/nova-scotia-duck-tolling-retriever-club-usa-2019-first-spaniel-hunt-test/
LOCATION:Texas
CATEGORIES:Hunt Tests
END:VEVENT
END:VCALENDAR