BEGIN:VCALENDAR
VERSION:2.0
PRODID:-//English Springer Spaniel Field Trials - ECPv6.15.20//NONSGML v1.0//EN
CALSCALE:GREGORIAN
METHOD:PUBLISH
X-WR-CALNAME:English Springer Spaniel Field Trials
X-ORIGINAL-URL:https://essft.com
X-WR-CALDESC:Events for English Springer Spaniel Field Trials
REFRESH-INTERVAL;VALUE=DURATION:PT1H
X-Robots-Tag:noindex
X-PUBLISHED-TTL:PT1H
BEGIN:VTIMEZONE
TZID:America/Chicago
BEGIN:DAYLIGHT
TZOFFSETFROM:-0600
TZOFFSETTO:-0500
TZNAME:CDT
DTSTART:20180311T080000
END:DAYLIGHT
BEGIN:STANDARD
TZOFFSETFROM:-0500
TZOFFSETTO:-0600
TZNAME:CST
DTSTART:20181104T070000
END:STANDARD
BEGIN:DAYLIGHT
TZOFFSETFROM:-0600
TZOFFSETTO:-0500
TZNAME:CDT
DTSTART:20190310T080000
END:DAYLIGHT
BEGIN:STANDARD
TZOFFSETFROM:-0500
TZOFFSETTO:-0600
TZNAME:CST
DTSTART:20191103T070000
END:STANDARD
BEGIN:DAYLIGHT
TZOFFSETFROM:-0600
TZOFFSETTO:-0500
TZNAME:CDT
DTSTART:20200308T080000
END:DAYLIGHT
BEGIN:STANDARD
TZOFFSETFROM:-0500
TZOFFSETTO:-0600
TZNAME:CST
DTSTART:20201101T070000
END:STANDARD
END:VTIMEZONE
BEGIN:VEVENT
DTSTART;TZID=America/Chicago:20190323T000000
DTEND;TZID=America/Chicago:20190324T000000
DTSTAMP:20260423T164004
CREATED:20250611T203014Z
LAST-MODIFIED:20250611T203014Z
UID:10009903-1553299200-1553385600@essft.com
SUMMARY:Susquehanna Valley
DESCRIPTION:Entries Close:  Monday\, March 11\, 2019 11:59:59 PM CT on EntryExpress \nJudges: Don Mock and Mark Gebert\n  \n\n		\n			\n			\n		\n\n		\n  \n\n		\n			\n			\n		\n\n		\n  \n  \n[wunderground location=”Tyrone\, PA” numdays=”5″ showdata=”alert\,daynames\,pop\,icon\,highlow\,conditions\,date” layout=”table-horizontal”] \n  \n 
URL:https://essft.com/event/susquehanna-valley-3/
LOCATION:Marymont Farms – Sinking Valley\, Tyrone\, PA 16686\, USA\, Tyrone\, Pennsylvania\, 16686\, United States
CATEGORIES:Field Trials - Mid East
ORGANIZER;CN="Bruce Kephart%2C FTS":MAILTO:bkephart@leeind.com
GEO:40.670618;-78.238624
X-APPLE-STRUCTURED-LOCATION;VALUE=URI;X-ADDRESS=Marymont Farms – Sinking Valley Tyrone PA 16686 USA Tyrone Pennsylvania 16686 United States;X-APPLE-RADIUS=500;X-TITLE=Tyrone\, PA 16686\, USA:geo:-78.238624,40.670618
END:VEVENT
BEGIN:VEVENT
DTSTART;TZID=America/Chicago:20190323T000000
DTEND;TZID=America/Chicago:20190324T000000
DTSTAMP:20260423T164004
CREATED:20250611T203014Z
LAST-MODIFIED:20250611T203014Z
UID:10009904-1553299200-1553385600@essft.com
SUMMARY:CANCELLED: Southern Wisconsin Sporting Spaniel Club
DESCRIPTION:March 11\, 2019 – Received word from the club that the trial is now cancelled due to snow.\n  \n  \n  \n\n		\n			\n			\n		\n\n		\n\n		\n			\n			\n		\n\n		\n  \n 
URL:https://essft.com/event/cancelled-southern-wisconsin-sporting-spaniel-club/
LOCATION:Coon Rock Horse & Hunt Club\, 6180 Erdman Rd\, Arena\, WI 53503\, USA\, Arena\, Wisconsin\, 53503\, United States
CATEGORIES:Field Trials - Mid West
GEO:43.088221;-90.022648
X-APPLE-STRUCTURED-LOCATION;VALUE=URI;X-ADDRESS=Coon Rock Horse & Hunt Club 6180 Erdman Rd Arena WI 53503 USA Arena Wisconsin 53503 United States;X-APPLE-RADIUS=500;X-TITLE=6180 Erdman Rd\, Arena\, WI 53503\, USA:geo:-90.022648,43.088221
END:VEVENT
BEGIN:VEVENT
DTSTART;TZID=America/Chicago:20190323T000000
DTEND;TZID=America/Chicago:20190324T000000
DTSTAMP:20260423T164004
CREATED:20250611T203014Z
LAST-MODIFIED:20250611T203014Z
UID:10009905-1553299200-1553385600@essft.com
SUMMARY:ESS Club of Eastern Nebraska
DESCRIPTION:Entries Close: Tuesday\, March 12\, 2019 11:59:59 PM Eastern Time(ET) on Hunt Secretary \nJudges: Ken Willis and Joe Stallman\n  \n\n		\n			\n			\n		\n\n		\n  \n[wunderground location=”Beatrice\, NE” numdays=”5″ showdata=”alert\,daynames\,pop\,icon\,highlow\,conditions\,date” layout=”table-horizontal”] \n 
URL:https://essft.com/event/ess-club-of-eastern-nebraska-3/
LOCATION:Claybaugh Farm\, Liberty\, NE 68381\, USA\, Liberty\, Nebraska\, 68381\, United States
CATEGORIES:Field Trials - Rocky Mountain
GEO:40.084723;-96.482796
X-APPLE-STRUCTURED-LOCATION;VALUE=URI;X-ADDRESS=Claybaugh Farm Liberty NE 68381 USA Liberty Nebraska 68381 United States;X-APPLE-RADIUS=500;X-TITLE=Liberty\, NE 68381\, USA:geo:-96.482796,40.084723
END:VEVENT
BEGIN:VEVENT
DTSTART;TZID=America/Chicago:20190323T000000
DTEND;TZID=America/Chicago:20190324T000000
DTSTAMP:20260423T164004
CREATED:20250611T202814Z
LAST-MODIFIED:20250611T202814Z
UID:10009902-1553299200-1553385600@essft.com
SUMMARY:AKC Week 12
DESCRIPTION:
URL:https://essft.com/event/akc-week-12-2/
END:VEVENT
BEGIN:VEVENT
DTSTART;TZID=America/Chicago:20190322T000000
DTEND;TZID=America/Chicago:20190323T000000
DTSTAMP:20260423T164004
CREATED:20250611T202813Z
LAST-MODIFIED:20250611T202813Z
UID:10009901-1553212800-1553299200@essft.com
SUMMARY:Utah Springer Spaniel Club
DESCRIPTION:Entries Close:  Noon MDT\, Wednesday\, March 13\, 2019 \nJudges: Justin Smith and Tom Nabity\n\n		\n			\n			\n		\n\n		\n\n		\n			\n			\n		\n\n		\n  \n\n		\n			\n			\n		\n\n		\n  \n\n		\n			\n			\n		\n\n		\n  \n[wunderground location=”Salt Lake City\, UT” numdays=”5″ showdata=”alert\,daynames\,pop\,icon\,highlow\,conditions\,date” layout=”table-horizontal”]
URL:https://essft.com/event/utah-springer-spaniel-club-8/
LOCATION:Lee Kay WMA\, 6000 2100 S\, Salt Lake City\, UT 84128\, USA\, Salt Lake City\, Utah\, 84128\, United States
CATEGORIES:Field Trials - West
GEO:40.727381;-112.034968
X-APPLE-STRUCTURED-LOCATION;VALUE=URI;X-ADDRESS=Lee Kay WMA 6000 2100 S Salt Lake City UT 84128 USA Salt Lake City Utah 84128 United States;X-APPLE-RADIUS=500;X-TITLE=6000 2100 S\, Salt Lake City\, UT 84128\, USA:geo:-112.034968,40.727381
END:VEVENT
BEGIN:VEVENT
DTSTART;TZID=America/Chicago:20190316T000000
DTEND;TZID=America/Chicago:20190317T000000
DTSTAMP:20260423T164004
CREATED:20250611T202813Z
LAST-MODIFIED:20250611T202813Z
UID:10009898-1552694400-1552780800@essft.com
SUMMARY:Valley Forge Field Trial Association
DESCRIPTION:Entries Close: Tuesday\, March 5\, 2019 11:59:59 PM Eastern Time(ET) on Hunt Secretary \nJudges:  Richard Whelan and Terry Quinlan \n\n		\n			\n			\n		\n\n		\n\n		\n			\n			\n		\n\n		\n  \nhttps://goo.gl/maps/rRU7rtB6L342 \n  \n[wunderground location=”Austin\, MN” numdays=”5″ showdata=”alert\,daynames\,pop\,icon\,highlow\,conditions\,date” layout=”table-horizontal”] \n 
URL:https://essft.com/event/valley-forge-field-trial-association-4/
LOCATION:Spring Lane Hunt Club\, Tyrone\, PA 16686\, USA\, Tyrone\, Pennsylvania\, 16686\, United States
CATEGORIES:Field Trials - East
ORGANIZER;CN="Bill Pierson":MAILTO:bill@Pierson.com
GEO:40.670618;-78.238624
X-APPLE-STRUCTURED-LOCATION;VALUE=URI;X-ADDRESS=Spring Lane Hunt Club Tyrone PA 16686 USA Tyrone Pennsylvania 16686 United States;X-APPLE-RADIUS=500;X-TITLE=Tyrone\, PA 16686\, USA:geo:-78.238624,40.670618
END:VEVENT
BEGIN:VEVENT
DTSTART;TZID=America/Chicago:20190316T000000
DTEND;TZID=America/Chicago:20190317T000000
DTSTAMP:20260423T164005
CREATED:20250611T202813Z
LAST-MODIFIED:20250611T202813Z
UID:10009899-1552694400-1552780800@essft.com
SUMMARY:Sportsmen's Spaniel Club of Calumet
DESCRIPTION:Entries close with the FT Secretary at: 5:00p.m. March 6\, 2019 \nJudges:  Dan Lussen and Ken Hanson\n2019 Spring Sportsmen’s Letter MS Word \n2019 Spring Sportsmen’s Premium and Entry Form MS WORD \n\n		\n			\n			\n		\n\n		\n  \n\n		\n			\n			\n		\n\n		\n  \n  \n  \n  \n\n		\n			\n			\n		\n\n		\n  \n\n		\n			\n			\n		\n\n		\n  \n[wunderground location=”Morris\, IL” numdays=”5″ showdata=”alert\,daynames\,pop\,icon\,highlow\,conditions\,date” layout=”table-horizontal”] \n 
URL:https://essft.com/event/sportsmens-spaniel-club-of-calumet-4/
LOCATION:Des Plaines State Fish & Wildlife Area\, Wilmington\, IL 60481\, USA\, Wilmington\, Illinois\, 60481\, United States
CATEGORIES:Field Trials - Mid West
GEO:41.307809;-88.146724
X-APPLE-STRUCTURED-LOCATION;VALUE=URI;X-ADDRESS=Des Plaines State Fish & Wildlife Area Wilmington IL 60481 USA Wilmington Illinois 60481 United States;X-APPLE-RADIUS=500;X-TITLE=Wilmington\, IL 60481\, USA:geo:-88.146724,41.307809
END:VEVENT
BEGIN:VEVENT
DTSTART;TZID=America/Chicago:20190316T000000
DTEND;TZID=America/Chicago:20190317T000000
DTSTAMP:20260423T164005
CREATED:20250611T202813Z
LAST-MODIFIED:20250611T202813Z
UID:10009900-1552694400-1552780800@essft.com
SUMMARY:Springer Spaniel Club of Central Kansas  Trial #2
DESCRIPTION:Entries Close:  Monday\, March 4\, 2019 11:59:59 PM Eastern Time(ET) Hunt Secretary \nJudges: Dominique Savoie and Bob Davis\n\n		\n			\n			\n		\n\n		\n  \n\n		\n			\n			\n		\n\n		\n  \n[wunderground location=”Zenda\, KS” numdays=”5″ showdata=”alert\,daynames\,pop\,icon\,highlow\,conditions\,date” layout=”table-horizontal”] \n 
URL:https://essft.com/event/springer-spaniel-club-of-central-kansas-trial-2/
LOCATION:Springer Hollow Farm\, 12826 SW 77 Ave\, Zenda\, KS 67159\, USA\, Zenda\, Kansas\, 67159\, United States
CATEGORIES:Field Trials - Rocky Mountain
GEO:37.460004;-98.259078
X-APPLE-STRUCTURED-LOCATION;VALUE=URI;X-ADDRESS=Springer Hollow Farm 12826 SW 77 Ave Zenda KS 67159 USA Zenda Kansas 67159 United States;X-APPLE-RADIUS=500;X-TITLE=12826 SW 77 Ave\, Zenda\, KS 67159\, USA:geo:-98.259078,37.460004
END:VEVENT
BEGIN:VEVENT
DTSTART;TZID=America/Chicago:20190316T000000
DTEND;TZID=America/Chicago:20190317T000000
DTSTAMP:20260423T164005
CREATED:20250611T202613Z
LAST-MODIFIED:20250611T202613Z
UID:10009897-1552694400-1552780800@essft.com
SUMMARY:Green Valley Spaniel Club
DESCRIPTION:Entries Close: Monday\, March 4\, 2019 at 6:00 PM with the Field Trial Secretary \nJudges:  Peter Rainey and Michael Mount\nCLICK HERE FOR MS WORD 2019 Green Valley Trial March FT Letter and Premium V2  \n  \n\n		\n			\n			\n		\n\n		\n  \n[wunderground location=”Dunnigan\, CA” numdays=”5″ showdata=”alert\,daynames\,pop\,icon\,highlow\,conditions\,date” layout=”table-horizontal”] \n 
URL:https://essft.com/event/green-valley-spaniel-club-3/
LOCATION:Raahauge’s Pheasant Club\, 25835 CR 8\, California 95697\, USA\, California\, 95697\, United States
CATEGORIES:Field Trials - West
GEO:38.862149;-122.026736
X-APPLE-STRUCTURED-LOCATION;VALUE=URI;X-ADDRESS=Raahauge’s Pheasant Club 25835 CR 8 California 95697 USA California 95697 United States;X-APPLE-RADIUS=500;X-TITLE=25835 CR 8\, California 95697\, USA:geo:-122.026736,38.862149
END:VEVENT
BEGIN:VEVENT
DTSTART;TZID=America/Chicago:20190316T000000
DTEND;TZID=America/Chicago:20190317T000000
DTSTAMP:20260423T164005
CREATED:20250611T202612Z
LAST-MODIFIED:20250611T202612Z
UID:10009896-1552694400-1552780800@essft.com
SUMMARY:AKC Week 11
DESCRIPTION:
URL:https://essft.com/event/akc-week-11-2/
END:VEVENT
BEGIN:VEVENT
DTSTART;TZID=America/Chicago:20190314T000000
DTEND;TZID=America/Chicago:20190315T000000
DTSTAMP:20260423T164005
CREATED:20250611T202612Z
LAST-MODIFIED:20250611T202612Z
UID:10009895-1552521600-1552608000@essft.com
SUMMARY:Springer Spaniel Club of Central Kansas  Trial #1
DESCRIPTION:Entries Close:Monday\, March 4\, 2019 at 11:59 P.M. Eastern Time(ET) Hunt Secretary \nJudges: Bob MacDonald and Rumi Schroeder\n  \n\n		\n			\n			\n		\n\n		\n  \n\n		\n			\n			\n		\n\n		\n  \n[wunderground location=”Zenda\,  KS” numdays=”5″ showdata=”alert\,daynames\,pop\,icon\,highlow\,conditions\,date” layout=”table-horizontal”] \n 
URL:https://essft.com/event/springer-spaniel-club-of-central-kansas-trial-1/
LOCATION:Springer Hollow Farm\, 12826 SW 77 Ave\, Zenda\, KS 67159\, USA\, Zenda\, Kansas\, 67159\, United States
CATEGORIES:Field Trials - Rocky Mountain
GEO:37.460004;-98.259078
X-APPLE-STRUCTURED-LOCATION;VALUE=URI;X-ADDRESS=Springer Hollow Farm 12826 SW 77 Ave Zenda KS 67159 USA Zenda Kansas 67159 United States;X-APPLE-RADIUS=500;X-TITLE=12826 SW 77 Ave\, Zenda\, KS 67159\, USA:geo:-98.259078,37.460004
END:VEVENT
BEGIN:VEVENT
DTSTART;TZID=America/Chicago:20190310T000000
DTEND;TZID=America/Chicago:20190310T000000
DTSTAMP:20260423T164005
CREATED:20250611T202612Z
LAST-MODIFIED:20250611T202612Z
UID:10009894-1552176000-1552176000@essft.com
SUMMARY:Daylight Savings Begins
DESCRIPTION:
URL:https://essft.com/event/daylight-savings-begins/
CATEGORIES:Holidays
END:VEVENT
BEGIN:VEVENT
DTSTART;TZID=America/Chicago:20190309T000000
DTEND;TZID=America/Chicago:20190310T000000
DTSTAMP:20260423T164005
CREATED:20250611T202612Z
LAST-MODIFIED:20250611T202612Z
UID:10009893-1552089600-1552176000@essft.com
SUMMARY:COCKER:  ECSCoA
DESCRIPTION:English Cocker Spaniel Club of America Spring Field Trial/2019\n\n\n\nEntries Close: Monday\, February 25\, 2019 11:59:59 PM CT on EntryExpresss
URL:https://essft.com/event/cocker-ecscoa/
CATEGORIES:Cocker Trial
END:VEVENT
BEGIN:VEVENT
DTSTART;TZID=America/Chicago:20190309T000000
DTEND;TZID=America/Chicago:20190310T000000
DTSTAMP:20260423T164005
CREATED:20250611T202412Z
LAST-MODIFIED:20250611T202412Z
UID:10009889-1552089600-1552176000@essft.com
SUMMARY:Mid-Penn English Springer Spaniel Club
DESCRIPTION:Entries Close: Monday\, February 25\, 2019  at 11:59 PM  on Entry Express \nJudges:  William Gates and Wiliam Pierson \nRunning Order\n\n		\n			\n			\n		\n\n		\n  \n\n		\n			\n			\n		\n\n		\n  \n[wunderground location=”Tyrone\, PA” numdays=”5″ showdata=”alert\,daynames\,pop\,icon\,highlow\,conditions\,date” layout=”table-horizontal”] \n  \n 
URL:https://essft.com/event/mid-penn-english-springer-spaniel-club-4/
LOCATION:Marymont Farms\, Tyrone\, PA 16686\, USA\, Tyrone\, Pennsylvania\, 16686\, United States
CATEGORIES:Field Trials - Mid East
GEO:40.670618;-78.238624
X-APPLE-STRUCTURED-LOCATION;VALUE=URI;X-ADDRESS=Marymont Farms Tyrone PA 16686 USA Tyrone Pennsylvania 16686 United States;X-APPLE-RADIUS=500;X-TITLE=Tyrone\, PA 16686\, USA:geo:-78.238624,40.670618
END:VEVENT
BEGIN:VEVENT
DTSTART;TZID=America/Chicago:20190309T000000
DTEND;TZID=America/Chicago:20190310T000000
DTSTAMP:20260423T164005
CREATED:20250611T202412Z
LAST-MODIFIED:20250611T202412Z
UID:10009890-1552089600-1552176000@essft.com
SUMMARY:CANCELED - Bushy Hill  Springer Spaniel Field Trial Association
DESCRIPTION:No Spring Trial. \n 
URL:https://essft.com/event/canceled-bushy-hill-springer-spaniel-field-trial-association/
CATEGORIES:Field Trials - East
END:VEVENT
BEGIN:VEVENT
DTSTART;TZID=America/Chicago:20190309T000000
DTEND;TZID=America/Chicago:20190310T000000
DTSTAMP:20260423T164005
CREATED:20250611T202412Z
LAST-MODIFIED:20250611T202412Z
UID:10009891-1552089600-1552176000@essft.com
SUMMARY:Inland Empire English Springer Spaniel Club
DESCRIPTION:Entries Close:  At 6:00 P.M. Thursday\, February 28\, 2019 with the FTS \nJudges: Dominique Savoie and James O’Shea\n  \n\n		\n			\n			\n		\n\n		\n  \n\n		\n			\n			\n		\n\n		\nIEESSC Entry Form 2019 \n\n		\n			\n			\n		\n\n		\n  \n\n		\n			\n			\n		\n\n		\n[wunderground location=”Wilber\, WA” numdays=”5″ showdata=”alert\,daynames\,pop\,icon\,highlow\,conditions\,date” layout=”table-horizontal”] \n 
URL:https://essft.com/event/inland-empire-english-springer-spaniel-club-2/
LOCATION:IEESSC Grounds\, 7539 Douglas Rd E\, Wilbur\, WA 99185\, USA\, Wilbur\, Washington\, 99185\, United States
CATEGORIES:Field Trials - West
GEO:47.816822;-118.818385
X-APPLE-STRUCTURED-LOCATION;VALUE=URI;X-ADDRESS=IEESSC Grounds 7539 Douglas Rd E Wilbur WA 99185 USA Wilbur Washington 99185 United States;X-APPLE-RADIUS=500;X-TITLE=7539 Douglas Rd E\, Wilbur\, WA 99185\, USA:geo:-118.818385,47.816822
END:VEVENT
BEGIN:VEVENT
DTSTART;TZID=America/Chicago:20190309T000000
DTEND;TZID=America/Chicago:20190310T000000
DTSTAMP:20260423T164005
CREATED:20250611T202412Z
LAST-MODIFIED:20250611T202412Z
UID:10009892-1552089600-1552176000@essft.com
SUMMARY:Northern Colorado ESS Club
DESCRIPTION:Entries Close: Tuesday\, February 26\, 2019 11:59:59 PM Eastern Time(ET) on Hunt Secretary \nJudges: Nick Campanelli   Judge change to Gary Riddle and Casey Butz\n  \n\n		\n			\n			\n		\n\n		\n  \n[wunderground location=”Fort Lupton\, CO” numdays=”5″ showdata=”alert\,daynames\,pop\,icon\,highlow\,conditions\,date” layout=”table-horizontal”] \n 
URL:https://essft.com/event/northern-colorado-ess-club/
LOCATION:Dipallo Farm\, Fort Lupton\, CO 80621\, USA\, Fort Lupton\, Colorado\, 80621\, United States
CATEGORIES:Field Trials - Rocky Mountain
GEO:40.084705;-104.813027
X-APPLE-STRUCTURED-LOCATION;VALUE=URI;X-ADDRESS=Dipallo Farm Fort Lupton CO 80621 USA Fort Lupton Colorado 80621 United States;X-APPLE-RADIUS=500;X-TITLE=Fort Lupton\, CO 80621\, USA:geo:-104.813027,40.084705
END:VEVENT
BEGIN:VEVENT
DTSTART;TZID=America/Chicago:20190309T000000
DTEND;TZID=America/Chicago:20190310T000000
DTSTAMP:20260423T164005
CREATED:20250611T202411Z
LAST-MODIFIED:20250611T202411Z
UID:10009888-1552089600-1552176000@essft.com
SUMMARY:AKC Week 10
DESCRIPTION:
URL:https://essft.com/event/akc-week-10-2/
END:VEVENT
BEGIN:VEVENT
DTSTART;TZID=America/Chicago:20190307T000000
DTEND;TZID=America/Chicago:20190308T000000
DTSTAMP:20260423T164005
CREATED:20250611T202210Z
LAST-MODIFIED:20250611T202210Z
UID:10009887-1551916800-1552003200@essft.com
SUMMARY:COCKER: Northern Colorado SS Club Cocker Field Trial March 2019
DESCRIPTION:See FieldCockers.com or Hunt Secretary for more information.
URL:https://essft.com/event/cocker-northern-colorado-ss-club-cocker-field-trial-march-2019/
CATEGORIES:Cocker Trial
END:VEVENT
BEGIN:VEVENT
DTSTART;TZID=America/Chicago:20190302T000000
DTEND;TZID=America/Chicago:20190303T000000
DTSTAMP:20260423T164005
CREATED:20250611T202210Z
LAST-MODIFIED:20250611T202210Z
UID:10009885-1551484800-1551571200@essft.com
SUMMARY:Rocky Mountain Springer Spaniel Club
DESCRIPTION:Entries Close:  Tuesday\, February 19\, 2019 11:59:59 PM Eastern Time(ET)  on Hunt Secretary \nGary Fluckinger and Pete Zuleger\nRocky Mountain Springer Spaniel Association 2019 Spring Field Trial MS Word \n\n		\n			\n			\n		\n\n		\n  \n[wunderground location=”Austin\, MN” numdays=”5″ showdata=”alert\,daynames\,pop\,icon\,highlow\,conditions\,date” layout=”table-horizontal”] \n 
URL:https://essft.com/event/rocky-mountain-springer-spaniel-club/
CATEGORIES:Field Trials - Rocky Mountain
END:VEVENT
BEGIN:VEVENT
DTSTART;TZID=America/Chicago:20190302T000000
DTEND;TZID=America/Chicago:20190303T000000
DTSTAMP:20260423T164005
CREATED:20250611T202210Z
LAST-MODIFIED:20250611T202210Z
UID:10009886-1551484800-1551571200@essft.com
SUMMARY:North Texas Sporting Spaniel Club  - Hunt Test
DESCRIPTION:Entries Close: \nJudges: \n  \nWaiting for more information from the Hunt Test Secretary.  Thank you for your patience. \n  \n[wunderground location=”Austin\, MN” numdays=”5″ showdata=”alert\,daynames\,pop\,icon\,highlow\,conditions\,date” layout=”table-horizontal”]
URL:https://essft.com/event/north-texas-sporting-spaniel-club-hunt-test-2/
CATEGORIES:Hunt Tests
END:VEVENT
BEGIN:VEVENT
DTSTART;TZID=America/Chicago:20190302T000000
DTEND;TZID=America/Chicago:20190303T000000
DTSTAMP:20260423T164005
CREATED:20250611T202210Z
LAST-MODIFIED:20250611T202210Z
UID:10009883-1551484800-1551571200@essft.com
SUMMARY:Keystone English Springer Spaniel Club 2019 Spring Field Trial
DESCRIPTION:Entries Close: Monday\, February 18\, 2019 11:59:59 PM CT on Entry Express \nJudges: Ralph Botti and Kathy Nestor\n  \n\n		\n			\n			\n		\n\n		\n 
URL:https://essft.com/event/keystone-english-springer-spaniel-club-2019-spring-field-trial/
LOCATION:Sinking Valley\, Tyrone\, PA 16686\, USA\, Tyrone\, Pennsylvania\, 16686\, United States
CATEGORIES:Field Trials - East
ORGANIZER;CN="Barbara Granatir":MAILTO:sandyhilless@comcast.net
GEO:40.670618;-78.238624
X-APPLE-STRUCTURED-LOCATION;VALUE=URI;X-ADDRESS=Sinking Valley Tyrone PA 16686 USA Tyrone Pennsylvania 16686 United States;X-APPLE-RADIUS=500;X-TITLE=Tyrone\, PA 16686\, USA:geo:-78.238624,40.670618
END:VEVENT
BEGIN:VEVENT
DTSTART;TZID=America/Chicago:20190302T000000
DTEND;TZID=America/Chicago:20190303T000000
DTSTAMP:20260423T164005
CREATED:20250611T202210Z
LAST-MODIFIED:20250611T202210Z
UID:10009884-1551484800-1551571200@essft.com
SUMMARY:Cincinnati English Springer Spaniel Field Trial Club
DESCRIPTION:Entries Close:  Tuesday\, February 19\, 2019 11:59:59 PM Eastern Time(ET) on Hunt Secretary \nJudges: Clay Earl and Katie Gorecki\n\n		\n			\n			\n		\n\n		\n  \n  \n[wunderground location=”Waynesfield\, OH” numdays=”5″ showdata=”alert\,daynames\,pop\,icon\,highlow\,conditions\,date” layout=”table-horizontal”] \n 
URL:https://essft.com/event/cincinnati-english-springer-spaniel-field-trial-club-3/
LOCATION:Cunningham Farm\, 24330 Sandusky Rd\, Marysville\, OH 43040\, USA\, Marysville\, Ohio\, 43040\, United States
CATEGORIES:Field Trials - Mid East
ORGANIZER;CN="Amy Haering":MAILTO:cessftc@yahoo.com
GEO:40.358621;-83.328942
X-APPLE-STRUCTURED-LOCATION;VALUE=URI;X-ADDRESS=Cunningham Farm 24330 Sandusky Rd Marysville OH 43040 USA Marysville Ohio 43040 United States;X-APPLE-RADIUS=500;X-TITLE=24330 Sandusky Rd\, Marysville\, OH 43040\, USA:geo:-83.328942,40.358621
END:VEVENT
BEGIN:VEVENT
DTSTART;TZID=America/Chicago:20190302T000000
DTEND;TZID=America/Chicago:20190303T000000
DTSTAMP:20260423T164005
CREATED:20250611T202010Z
LAST-MODIFIED:20250611T202010Z
UID:10009882-1551484800-1551571200@essft.com
SUMMARY:Tamarin Spaniel Field Trial Club   Trial #2
DESCRIPTION:Entries Close: Wednesday\, February 20\, 2019 \nJudges: Dan Lussen & Mike Pollack\n2019 Spring Tamarin Premium MS WORD \n\n		\n			\n			\n		\n\n		\n  \n[wunderground location=”Gridley\, CA” numdays=”5″ showdata=”alert\,daynames\,pop\,icon\,highlow\,conditions\,date” layout=”table-horizontal”] \n 
URL:https://essft.com/event/tamarin-spaniel-field-trial-club-trial-2/
LOCATION:Gray Lodge Wildlife Area\, 3207 Rutherford Rd\, Gridley\, CA 95948\, USA\, Gridley\, California\, 95948\, United States
CATEGORIES:Field Trials - West
GEO:39.2057;-121.8202
X-APPLE-STRUCTURED-LOCATION;VALUE=URI;X-ADDRESS=Gray Lodge Wildlife Area 3207 Rutherford Rd Gridley CA 95948 USA Gridley California 95948 United States;X-APPLE-RADIUS=500;X-TITLE=3207 Rutherford Rd\, Gridley\, CA 95948\, USA:geo:-121.8202,39.2057
END:VEVENT
BEGIN:VEVENT
DTSTART;TZID=America/Chicago:20190302T000000
DTEND;TZID=America/Chicago:20190303T000000
DTSTAMP:20260423T164005
CREATED:20250611T202009Z
LAST-MODIFIED:20250611T202009Z
UID:10009881-1551484800-1551571200@essft.com
SUMMARY:AKC Week 9
DESCRIPTION:
URL:https://essft.com/event/akc-week-9-2/
END:VEVENT
BEGIN:VEVENT
DTSTART;TZID=America/Chicago:20190301T000000
DTEND;TZID=America/Chicago:20190301T000000
DTSTAMP:20260423T164005
CREATED:20250611T202009Z
LAST-MODIFIED:20250611T202009Z
UID:10009880-1551398400-1551398400@essft.com
SUMMARY:Tamarin Spaniel Field Trial Club  Trial #1
DESCRIPTION:Entries Close: Wednesday\, February 20\, 2019 \nJudges:  Dan Lussen & Bob Davis\n2019 Tamarin Spring Premium MS WORD \n\n		\n			\n			\n		\n\n		\n  \n[wunderground location=”Gridley\, CA” numdays=”5″ showdata=”alert\,daynames\,pop\,icon\,highlow\,conditions\,date” layout=”table-horizontal”] \n 
URL:https://essft.com/event/tamarin-spaniel-field-trial-club-trial-1/
LOCATION:Gray Lodge Wildlife Area\, 3207 Rutherford Rd\, Gridley\, CA 95948\, USA\, Gridley\, California\, 95948\, United States
CATEGORIES:Field Trials - West
GEO:39.2057;-121.8202
X-APPLE-STRUCTURED-LOCATION;VALUE=URI;X-ADDRESS=Gray Lodge Wildlife Area 3207 Rutherford Rd Gridley CA 95948 USA Gridley California 95948 United States;X-APPLE-RADIUS=500;X-TITLE=3207 Rutherford Rd\, Gridley\, CA 95948\, USA:geo:-121.8202,39.2057
END:VEVENT
BEGIN:VEVENT
DTSTART;TZID=America/Chicago:20190223T000000
DTEND;TZID=America/Chicago:20190224T000000
DTSTAMP:20260423T164005
CREATED:20250611T202009Z
LAST-MODIFIED:20250611T202009Z
UID:10009878-1550880000-1550966400@essft.com
SUMMARY:Central Virginia ESS Field Trial Club
DESCRIPTION:Entries Close:Monday\, February 11\, 2019 11:59:59 PM CT on EntryExpress \nJudges:  David Anderson and Cosmo Cristo\n  \n\n		\n			\n			\n		\n\n		\n  \n[wunderground location=”Berkeley Springs\, WV” numdays=”5″ showdata=”alert\,daynames\,pop\,icon\,highlow\,conditions\,date” layout=”table-horizontal”] \n 
URL:https://essft.com/event/central-virginia-ess-field-trial-club-2/
CATEGORIES:Field Trials - East
END:VEVENT
BEGIN:VEVENT
DTSTART;TZID=America/Chicago:20190223T000000
DTEND;TZID=America/Chicago:20190224T000000
DTSTAMP:20260423T164005
CREATED:20250611T202009Z
LAST-MODIFIED:20250611T202009Z
UID:10009879-1550880000-1550966400@essft.com
SUMMARY:COCKER: Southern California Sporting Spaniel Club
DESCRIPTION:Entries Close: Monday\, February 11\, 2019 11:59:59 PM CT on Entry Express \nNOTE: This is combined with the English Springer Spaniel field trial.
URL:https://essft.com/event/cocker-southern-california-sporting-spaniel-club/
CATEGORIES:Cocker Trial
END:VEVENT
BEGIN:VEVENT
DTSTART;TZID=America/Chicago:20190223T000000
DTEND;TZID=America/Chicago:20190224T000000
DTSTAMP:20260423T164005
CREATED:20250611T201954Z
LAST-MODIFIED:20250611T201954Z
UID:10009877-1550880000-1550966400@essft.com
SUMMARY:Southern California Sporting Spaniel Club
DESCRIPTION:Entries Close: Monday\, February 11\, 2019 on Entry Express \nJudges:  Bob Child and Gary Fluckiger\n  \n\n		\n			\n			\n		\n\n		\n  \n[wunderground location=”Hesperia\, CA” numdays=”5″ showdata=”alert\,daynames\,pop\,icon\,highlow\,conditions\,date” layout=”table-horizontal”] \n 
URL:https://essft.com/event/southern-california-sporting-spaniel-club-4/
LOCATION:Etiwanda Game Association\, 18950 CA-173\, Hesperia\, CA 92345\, USA\, Hesperia\, California\, 92345\, United States
CATEGORIES:Field Trials - West
GEO:34.3089;-117.322115
X-APPLE-STRUCTURED-LOCATION;VALUE=URI;X-ADDRESS=Etiwanda Game Association 18950 CA-173 Hesperia CA 92345 USA Hesperia California 92345 United States;X-APPLE-RADIUS=500;X-TITLE=18950 CA-173\, Hesperia\, CA 92345\, USA:geo:-117.322115,34.3089
END:VEVENT
BEGIN:VEVENT
DTSTART;TZID=America/Chicago:20190223T000000
DTEND;TZID=America/Chicago:20190224T000000
DTSTAMP:20260423T164005
CREATED:20250611T201954Z
LAST-MODIFIED:20250611T201954Z
UID:10009875-1550880000-1550966400@essft.com
SUMMARY:AKC Week 8
DESCRIPTION:
URL:https://essft.com/event/akc-week-8-2/
END:VEVENT
END:VCALENDAR