BEGIN:VCALENDAR
VERSION:2.0
PRODID:-//English Springer Spaniel Field Trials - ECPv6.15.20//NONSGML v1.0//EN
CALSCALE:GREGORIAN
METHOD:PUBLISH
X-WR-CALNAME:English Springer Spaniel Field Trials
X-ORIGINAL-URL:https://essft.com
X-WR-CALDESC:Events for English Springer Spaniel Field Trials
REFRESH-INTERVAL;VALUE=DURATION:PT1H
X-Robots-Tag:noindex
X-PUBLISHED-TTL:PT1H
BEGIN:VTIMEZONE
TZID:America/Chicago
BEGIN:DAYLIGHT
TZOFFSETFROM:-0600
TZOFFSETTO:-0500
TZNAME:CDT
DTSTART:20170312T080000
END:DAYLIGHT
BEGIN:STANDARD
TZOFFSETFROM:-0500
TZOFFSETTO:-0600
TZNAME:CST
DTSTART:20171105T070000
END:STANDARD
BEGIN:DAYLIGHT
TZOFFSETFROM:-0600
TZOFFSETTO:-0500
TZNAME:CDT
DTSTART:20180311T080000
END:DAYLIGHT
BEGIN:STANDARD
TZOFFSETFROM:-0500
TZOFFSETTO:-0600
TZNAME:CST
DTSTART:20181104T070000
END:STANDARD
BEGIN:DAYLIGHT
TZOFFSETFROM:-0600
TZOFFSETTO:-0500
TZNAME:CDT
DTSTART:20190310T080000
END:DAYLIGHT
BEGIN:STANDARD
TZOFFSETFROM:-0500
TZOFFSETTO:-0600
TZNAME:CST
DTSTART:20191103T070000
END:STANDARD
BEGIN:DAYLIGHT
TZOFFSETFROM:-0600
TZOFFSETTO:-0500
TZNAME:CDT
DTSTART:20200308T080000
END:DAYLIGHT
BEGIN:STANDARD
TZOFFSETFROM:-0500
TZOFFSETTO:-0600
TZNAME:CST
DTSTART:20201101T070000
END:STANDARD
END:VTIMEZONE
BEGIN:VEVENT
DTSTART;TZID=America/Chicago:20190105T000000
DTEND;TZID=America/Chicago:20190106T000000
DTSTAMP:20260423T163834
CREATED:20250611T201644Z
LAST-MODIFIED:20250611T201644Z
UID:10009844-1546646400-1546732800@essft.com
SUMMARY:AKC Week 1
DESCRIPTION:
URL:https://essft.com/event/akc-week-1-2/
LOCATION:Minnesota
END:VEVENT
BEGIN:VEVENT
DTSTART;TZID=America/Chicago:20190105T000000
DTEND;TZID=America/Chicago:20190106T000000
DTSTAMP:20260423T163834
CREATED:20250611T201644Z
LAST-MODIFIED:20250611T201644Z
UID:10009845-1546646400-1546732800@essft.com
SUMMARY:Cocker: English Cocker Spaniel Club of America Field Trial
DESCRIPTION:Please see www.fieldcockers.com and www.huntsecretary.com for more information on this Cocker trial.
URL:https://essft.com/event/cocker-english-cocker-spaniel-club-of-america-field-trial/
LOCATION:Lime Rock Cockers Preserve\, East Bend\, NC 27018\, USA\, East Bend\, North Carolina\, 27018\, United States
CATEGORIES:Cocker Trial
GEO:36.216528;-80.512558
X-APPLE-STRUCTURED-LOCATION;VALUE=URI;X-ADDRESS=Lime Rock Cockers Preserve East Bend NC 27018 USA East Bend North Carolina 27018 United States;X-APPLE-RADIUS=500;X-TITLE=East Bend\, NC 27018\, USA:geo:-80.512558,36.216528
END:VEVENT
BEGIN:VEVENT
DTSTART;TZID=America/Chicago:20190101T000000
DTEND;TZID=America/Chicago:20190101T000000
DTSTAMP:20260423T163834
CREATED:20250611T201644Z
LAST-MODIFIED:20250611T201644Z
UID:10009843-1546300800-1546300800@essft.com
SUMMARY:New Years Day
DESCRIPTION:
URL:https://essft.com/event/new-years-day/
LOCATION:Minnesota
CATEGORIES:Holidays
END:VEVENT
BEGIN:VEVENT
DTSTART;TZID=America/Chicago:20181229T000000
DTEND;TZID=America/Chicago:20181230T000000
DTSTAMP:20260423T163834
CREATED:20250611T200929Z
LAST-MODIFIED:20250611T200929Z
UID:10009842-1546041600-1546128000@essft.com
SUMMARY:AKC Week 52
DESCRIPTION:
URL:https://essft.com/event/akc-week-52-2/
LOCATION:Minnesota
END:VEVENT
BEGIN:VEVENT
DTSTART;TZID=America/Chicago:20181222T000000
DTEND;TZID=America/Chicago:20181223T000000
DTSTAMP:20260423T163834
CREATED:20250611T200929Z
LAST-MODIFIED:20250611T200929Z
UID:10009841-1545436800-1545523200@essft.com
SUMMARY:AKC Week 51
DESCRIPTION:
URL:https://essft.com/event/akc-week-51/
LOCATION:Minnesota
END:VEVENT
BEGIN:VEVENT
DTSTART;TZID=America/Chicago:20181216T000000
DTEND;TZID=America/Chicago:20181216T000000
DTSTAMP:20260423T163834
CREATED:20250611T200929Z
LAST-MODIFIED:20250611T200929Z
UID:10009840-1544918400-1544918400@essft.com
SUMMARY:Houston
DESCRIPTION:Entries Close: Monday\, January 14\, 2019 11:59:59 PM Eastern Time(ET) at Hunt Secretary \nJudges: Dan Tuttle and Terry Quinlan\n\n		\n			\n			\n		\n\n		\n  \n[wunderground location=”Huntsville\, TX” numdays=”5″ showdata=”alert\,daynames\,pop\,icon\,highlow\,conditions\,date” layout=”table-horizontal”]
URL:https://essft.com/event/houston-2/
LOCATION:Minnesota
CATEGORIES:Field Trials - Rocky Mountain
END:VEVENT
BEGIN:VEVENT
DTSTART;TZID=America/Chicago:20181215T000000
DTEND;TZID=America/Chicago:20181216T000000
DTSTAMP:20260423T163834
CREATED:20250611T200914Z
LAST-MODIFIED:20250611T200914Z
UID:10009839-1544832000-1544918400@essft.com
SUMMARY:AKC Week 50
DESCRIPTION:
URL:https://essft.com/event/akc-week-50/
LOCATION:Minnesota
END:VEVENT
BEGIN:VEVENT
DTSTART;TZID=America/Chicago:20181210T000000
DTEND;TZID=America/Chicago:20181214T000000
DTSTAMP:20260423T163834
CREATED:20250611T200914Z
LAST-MODIFIED:20250628T024334Z
UID:10009838-1544400000-1544745600@essft.com
SUMMARY:2018 English Springer Spaniel National Open Championship
DESCRIPTION:Entries Close:   11 /  18 days  TBD \nJudges:  Casey Butz  and Mark Haglin\n  \n\n		\n			\n			\n		\n\n		\n  \n  \n[wunderground location=”Cambridge\, MD” numdays=”5″ showdata=”alert\,daynames\,pop\,icon\,highlow\,conditions\,date” layout=”table-horizontal”] \n 
URL:https://essft.com/event/2018-english-springer-spaniel-national-open-championship/
LOCATION:Minnesota
CATEGORIES:NATIONAL FIELD TRIALS
END:VEVENT
BEGIN:VEVENT
DTSTART;TZID=America/Chicago:20181208T000000
DTEND;TZID=America/Chicago:20181209T000000
DTSTAMP:20260423T163834
CREATED:20250611T200914Z
LAST-MODIFIED:20250611T200914Z
UID:10009836-1544227200-1544313600@essft.com
SUMMARY:AKC Week 49
DESCRIPTION:
URL:https://essft.com/event/akc-week-49/
LOCATION:Minnesota
END:VEVENT
BEGIN:VEVENT
DTSTART;TZID=America/Chicago:20181208T000000
DTEND;TZID=America/Chicago:20181209T000000
DTSTAMP:20260423T163834
CREATED:20250611T200914Z
LAST-MODIFIED:20250611T200914Z
UID:10009837-1544227200-1544313600@essft.com
SUMMARY:Heart of Texas Spaniel Club
DESCRIPTION:Entries Close: Tuesday\, November 27\, 2018 11:59:59 PM Eastern Time(ET) on Hunt Secretary
URL:https://essft.com/event/heart-of-texas-spaniel-club/
LOCATION:Minnesota
CATEGORIES:Hunt Tests
END:VEVENT
BEGIN:VEVENT
DTSTART;TZID=America/Chicago:20181201T000000
DTEND;TZID=America/Chicago:20181202T000000
DTSTAMP:20260423T163834
CREATED:20250611T200914Z
LAST-MODIFIED:20250611T200914Z
UID:10009835-1543622400-1543708800@essft.com
SUMMARY:Houston ESSC Spaniel Hunt Test
DESCRIPTION:Entries Close: Tuesday\, November 20\, 2018 11:59:59 PM Eastern Time(ET) on Hunt Secretary \n 
URL:https://essft.com/event/houston-essc-spaniel-hunt-test/
LOCATION:Springer Creek Ranch\, 4918 FM1374\, Huntsville\, TX 77340\, USA\, Huntsville\, Texas\, 77340\, United States
CATEGORIES:Hunt Tests
GEO:30.613039;-95.621861
X-APPLE-STRUCTURED-LOCATION;VALUE=URI;X-ADDRESS=Springer Creek Ranch 4918 FM1374 Huntsville TX 77340 USA Huntsville Texas 77340 United States;X-APPLE-RADIUS=500;X-TITLE=4918 FM1374\, Huntsville\, TX 77340\, USA:geo:-95.621861,30.613039
END:VEVENT
BEGIN:VEVENT
DTSTART;TZID=America/Chicago:20181201T000000
DTEND;TZID=America/Chicago:20181202T000000
DTSTAMP:20260423T163834
CREATED:20250611T200859Z
LAST-MODIFIED:20250611T200859Z
UID:10009834-1543622400-1543708800@essft.com
SUMMARY:AKC Week 48
DESCRIPTION:
URL:https://essft.com/event/akc-week-48-2/
LOCATION:Minnesota
END:VEVENT
BEGIN:VEVENT
DTSTART;TZID=America/Chicago:20181201T000000
DTEND;TZID=America/Chicago:20181202T000000
DTSTAMP:20260423T163834
CREATED:20250611T200859Z
LAST-MODIFIED:20250611T200859Z
UID:10009833-1543622400-1543708800@essft.com
SUMMARY:Central Connecticut Spaniel Club - Cancelled
DESCRIPTION: CANCELLED \n[wunderground location=”Austin\, MN” numdays=”5″ showdata=”alert\,daynames\,pop\,icon\,highlow\,conditions\,date” layout=”table-horizontal”] \n 
URL:https://essft.com/event/central-connecticut-spaniel-club-cancelled/
LOCATION:Minnesota
CATEGORIES:Field Trials - East
END:VEVENT
BEGIN:VEVENT
DTSTART;TZID=America/Chicago:20181124T000000
DTEND;TZID=America/Chicago:20181125T000000
DTSTAMP:20260423T163834
CREATED:20250611T200859Z
LAST-MODIFIED:20250611T200859Z
UID:10009831-1543017600-1543104000@essft.com
SUMMARY:Central New England Sporting Spaniel Club
DESCRIPTION:Entries Close:   November 13\, 2018 on Hunt Secretary \nJudges:  John Lamendola       Paul Hancsom    Apprentice Judge: Brian Bilotta\n  \n11/20/18 Updates:\n\n\nCentral New England trial will start at 9am Saturday morning\n\n\nIf you are bringing a trailer please contact Gary Wilson on where to park.\n\n\nPuppy stake will now be on Sunday\n\n\nNote: Host Hotel Change!  New Host Hotel is the Super 8 located at 333 W. Morris St.\, Bath\, NY   14310   Phone number is 1-866-599-6674  \n  \nCNE Premium Fall 2018 \n  \n\n		\n			\n			\n		\n\n		\n  \n\n		\n			\n			\n		\n\n		\n  \n  \nDirections to Field Trial Grounds from Days Inn in Bath – Copy \n  \n\n		\n			\n			\n		\n\n		\n  \n[wunderground location=”Howard\, NY” numdays=”5″ showdata=”alert\,daynames\,pop\,icon\,highlow\,conditions\,date” layout=”table-horizontal”] \n 
URL:https://essft.com/event/central-new-england-sporting-spaniel-club-4/
LOCATION:Mudlark Farms\, Spencer Hill Rd\, Howard\, NY 14843\, USA\, New York\, 14843\, United States
CATEGORIES:Field Trials - East
GEO:42.313707;-77.549411
X-APPLE-STRUCTURED-LOCATION;VALUE=URI;X-ADDRESS=Mudlark Farms Spencer Hill Rd Howard NY 14843 USA New York 14843 United States;X-APPLE-RADIUS=500;X-TITLE=Spencer Hill Rd\, Howard\, NY 14843\, USA:geo:-77.549411,42.313707
END:VEVENT
BEGIN:VEVENT
DTSTART;TZID=America/Chicago:20181124T000000
DTEND;TZID=America/Chicago:20181125T000000
DTSTAMP:20260423T163834
CREATED:20250611T200859Z
LAST-MODIFIED:20250611T200859Z
UID:10009832-1543017600-1543104000@essft.com
SUMMARY:AKC Week 47
DESCRIPTION:
URL:https://essft.com/event/akc-week-47/
LOCATION:Minnesota
END:VEVENT
BEGIN:VEVENT
DTSTART;TZID=America/Chicago:20181117T000000
DTEND;TZID=America/Chicago:20181118T000000
DTSTAMP:20260423T163834
CREATED:20250611T200859Z
LAST-MODIFIED:20250611T200859Z
UID:10009830-1542412800-1542499200@essft.com
SUMMARY:English Springer Spaniel Club of Southern California (ESSC of SOCAL)
DESCRIPTION:  \n\n		\n			\n			\n		\n\n		\n  \n  \n 
URL:https://essft.com/event/english-springer-spaniel-club-of-southern-california-essc-of-socal/
LOCATION:Prado Recreation Dog Activity Center\, 17505 Euclid Ave\, Chino\, CA 91708\, USA\, Chino\, California\, 91708\, United States
CATEGORIES:Hunt Tests
GEO:33.935189;-117.656145
X-APPLE-STRUCTURED-LOCATION;VALUE=URI;X-ADDRESS=Prado Recreation Dog Activity Center 17505 Euclid Ave Chino CA 91708 USA Chino California 91708 United States;X-APPLE-RADIUS=500;X-TITLE=17505 Euclid Ave\, Chino\, CA 91708\, USA:geo:-117.656145,33.935189
END:VEVENT
BEGIN:VEVENT
DTSTART;TZID=America/Chicago:20181117T000000
DTEND;TZID=America/Chicago:20181118T000000
DTSTAMP:20260423T163834
CREATED:20250611T200844Z
LAST-MODIFIED:20250611T200844Z
UID:10009829-1542412800-1542499200@essft.com
SUMMARY:AKC Week 46
DESCRIPTION:
URL:https://essft.com/event/akc-week-46/
LOCATION:Minnesota
END:VEVENT
BEGIN:VEVENT
DTSTART;TZID=America/Chicago:20181115T000000
DTEND;TZID=America/Chicago:20181121T000000
DTSTAMP:20260423T163834
CREATED:20250611T200844Z
LAST-MODIFIED:20250628T024049Z
UID:10009828-1542240000-1542758400@essft.com
SUMMARY:2018 English Springer Spaniel National Amateur Championship
DESCRIPTION:1st Closing Date: 10/28/2018 \n2nd Closing Date:  11/4/2018 to include week #44 \nNeed 2 points to qualify. \n\nJudges: Mhari Peschel and Ralph Botti\n  \nTraining Day will be on November 14\, 2018 \n\n		\n			\n			\n		\n\n		\n  \n2018 NAC Premium MS WORD \n  \n[wunderground location=”Mt Sterling\, OH” numdays=”5″ showdata=”alert\,daynames\,pop\,icon\,highlow\,conditions\,date” layout=”table-horizontal”]
URL:https://essft.com/event/2018-english-springer-spaniel-national-amateur-championship/
LOCATION:Deer Creek Lodge and Conference Center\, 22300 State Park Road 20\, Mt Sterling\, OH 43143\, USA\, Mount Sterling\, Ohio\, 43143\, United States
CATEGORIES:NATIONAL FIELD TRIALS
GEO:39.62197;-83.236338
X-APPLE-STRUCTURED-LOCATION;VALUE=URI;X-ADDRESS=Deer Creek Lodge and Conference Center 22300 State Park Road 20 Mt Sterling OH 43143 USA Mount Sterling Ohio 43143 United States;X-APPLE-RADIUS=500;X-TITLE=22300 State Park Road 20\, Mt Sterling\, OH 43143\, USA:geo:-83.236338,39.62197
END:VEVENT
BEGIN:VEVENT
DTSTART;TZID=America/Chicago:20181114T000000
DTEND;TZID=America/Chicago:20181114T000000
DTSTAMP:20260423T163834
CREATED:20250611T200844Z
LAST-MODIFIED:20250628T024101Z
UID:10009827-1542153600-1542153600@essft.com
SUMMARY:2018 NAC Training Day
DESCRIPTION:
URL:https://essft.com/event/2018-nac-training-day/
LOCATION:Minnesota
CATEGORIES:NATIONAL FIELD TRIALS
END:VEVENT
BEGIN:VEVENT
DTSTART;TZID=America/Chicago:20181110T000000
DTEND;TZID=America/Chicago:20181111T000000
DTSTAMP:20260423T163834
CREATED:20250611T200844Z
LAST-MODIFIED:20250611T200844Z
UID:10009826-1541808000-1541894400@essft.com
SUMMARY:South Western Ontario Spaniel Club
DESCRIPTION:Entries Close: \nJudges: \n  \nWaiting for more information from the Field Trial Secretary.  Thank you for your patience. \n  \n[wunderground location=”Fisherville\, ON” numdays=”5″ showdata=”alert\,daynames\,pop\,icon\,highlow\,conditions\,date” layout=”table-horizontal”] \n 
URL:https://essft.com/event/south-western-ontario-spaniel-club-2/
LOCATION:Minnesota
CATEGORIES:Canadian FT
END:VEVENT
BEGIN:VEVENT
DTSTART;TZID=America/Chicago:20181110T000000
DTEND;TZID=America/Chicago:20181111T000000
DTSTAMP:20260423T163834
CREATED:20250611T200844Z
LAST-MODIFIED:20250611T200844Z
UID:10009825-1541808000-1541894400@essft.com
SUMMARY:AKC Week 45
DESCRIPTION:
URL:https://essft.com/event/akc-week-45/
LOCATION:Minnesota
END:VEVENT
BEGIN:VEVENT
DTSTART;TZID=America/Chicago:20181109T000000
DTEND;TZID=America/Chicago:20181110T000000
DTSTAMP:20260423T163834
CREATED:20250611T200655Z
LAST-MODIFIED:20250611T200655Z
UID:10009824-1541721600-1541808000@essft.com
SUMMARY:Utah Springer Spaniel Club
DESCRIPTION:Entries Close: Noon MDT\, Wednesday\, October 31\, 2018 \nJudges:  Mike Elsasser and Dean Koehler \n  \n  \n\n		\n			\n			\n		\n\n		\n  \n\n		\n			\n			\n		\n\n		\n  \n\n		\n			\n			\n		\n\n		\n  \n\n		\n			\n			\n		\n\n		\n\n		\n			\n			\n		\n\n		\n  \n[wunderground location=”Salt Lake City\, UT” numdays=”5″ showdata=”alert\,daynames\,pop\,icon\,highlow\,conditions\,date” layout=”table-horizontal”] \n 
URL:https://essft.com/event/utah-springer-spaniel-club-7/
LOCATION:Lee Kay Wildlife Management Area\, 6000 2100 S\, Salt Lake City\, UT 84128\, USA\, Salt Lake City\, Utah\, 84128\, United States
CATEGORIES:Field Trials - West
GEO:40.728588;-112.02523
X-APPLE-STRUCTURED-LOCATION;VALUE=URI;X-ADDRESS=Lee Kay Wildlife Management Area 6000 2100 S Salt Lake City UT 84128 USA Salt Lake City Utah 84128 United States;X-APPLE-RADIUS=500;X-TITLE=6000 2100 S\, Salt Lake City\, UT 84128\, USA:geo:-112.02523,40.728588
END:VEVENT
BEGIN:VEVENT
DTSTART;TZID=America/Chicago:20181103T000000
DTEND;TZID=America/Chicago:20181104T000000
DTSTAMP:20260423T163834
CREATED:20250611T200655Z
LAST-MODIFIED:20250611T200655Z
UID:10009820-1541203200-1541289600@essft.com
SUMMARY:Valley Forge Field Trial Association
DESCRIPTION:Entries Close:  Tuesday\, October 23\, 2018 11:59:59 PM Eastern Time(ET) at Hunt Secretary \nJudges:Richard Moore and Paul Johannes\n  \n\n		\n			\n			\n		\n\n		\n[wunderground location=”Tyrone\, PA” numdays=”5″ showdata=”alert\,daynames\,pop\,icon\,highlow\,conditions\,date” layout=”table-horizontal”] \n 
URL:https://essft.com/event/valley-forge-field-trial-association-3/
LOCATION:Jim Boone’s Hunt Club (the former Hillendale Hunt Club)\, Tyrone\, PA 16686\, USA\, Tyrone\, Pennsylvania\, 16686\, United States
CATEGORIES:Field Trials - East
ORGANIZER;CN="Bill Pierson":MAILTO:bill@Pierson.com
GEO:40.670618;-78.238624
X-APPLE-STRUCTURED-LOCATION;VALUE=URI;X-ADDRESS=Jim Boone’s Hunt Club (the former Hillendale Hunt Club) Tyrone PA 16686 USA Tyrone Pennsylvania 16686 United States;X-APPLE-RADIUS=500;X-TITLE=Tyrone\, PA 16686\, USA:geo:-78.238624,40.670618
END:VEVENT
BEGIN:VEVENT
DTSTART;TZID=America/Chicago:20181103T000000
DTEND;TZID=America/Chicago:20181104T000000
DTSTAMP:20260423T163834
CREATED:20250611T200655Z
LAST-MODIFIED:20250611T200655Z
UID:10009821-1541203200-1541289600@essft.com
SUMMARY:AKC Week 44
DESCRIPTION:
URL:https://essft.com/event/akc-week-44-2/
LOCATION:Minnesota
END:VEVENT
BEGIN:VEVENT
DTSTART;TZID=America/Chicago:20181103T000000
DTEND;TZID=America/Chicago:20181104T000000
DTSTAMP:20260423T163834
CREATED:20250611T200655Z
LAST-MODIFIED:20250611T200655Z
UID:10009822-1541203200-1541289600@essft.com
SUMMARY:Houston English Springer Spaniel Club
DESCRIPTION:Entries Close: Tuesday\, October 23\, 2018 at 11:59pm on Hunt Secretary  \nJudges: Robert Fink and Robert Krause\n  \nHESSC Fall FT letter 2018 v2 MS WORD \n  \n\n		\n			\n			\n		\n\n		\n  \n  \n\n		\n			\n			\n		\n\n		\n  \n[wunderground location=”Huntsville\, TX” numdays=”5″ showdata=”alert\,daynames\,pop\,icon\,highlow\,conditions\,date” layout=”table-horizontal”]
URL:https://essft.com/event/houston-english-springer-spaniel-club-4/
LOCATION:Springer Creek Ranch\, 4918 FM1374\, Huntsville\, TX 77340\, USA\, Huntsville\, Texas\, 77340\, United States
CATEGORIES:Field Trials - Rocky Mountain
GEO:30.613039;-95.621861
X-APPLE-STRUCTURED-LOCATION;VALUE=URI;X-ADDRESS=Springer Creek Ranch 4918 FM1374 Huntsville TX 77340 USA Huntsville Texas 77340 United States;X-APPLE-RADIUS=500;X-TITLE=4918 FM1374\, Huntsville\, TX 77340\, USA:geo:-95.621861,30.613039
END:VEVENT
BEGIN:VEVENT
DTSTART;TZID=America/Chicago:20181103T000000
DTEND;TZID=America/Chicago:20181104T000000
DTSTAMP:20260423T163834
CREATED:20250611T200655Z
LAST-MODIFIED:20250611T200655Z
UID:10009823-1541203200-1541289600@essft.com
SUMMARY:Stillwater Valley ESSC
DESCRIPTION:Entries Close:  Completed entry forms and checks for entries must be at Field Trial Secretary’s home by closing at 5:00 p.m. October 27\, 2018 \nJudges:  Ray Cachio and Ted Lagala.    Alex Cachio will also be an apprentice judge\n  \n\n		\n			\n			\n		\n\n		\n  \n  \n\n		\n			\n			\n		\n\n		\n  \nfall018_StillwaterValley_ltr MS WORD \n  \n\n		\n			\n			\n		\n\n		\n  \nfall018_StillwaterValleyESSCPremium MS WORD \n  \n\n		\n			\n			\n		\n\n		\n  \nfall018_StillwaterValleyEntry MS WORD \n  \n[wunderground location=”Degraff\, OH” numdays=”5″ showdata=”alert\,daynames\,pop\,icon\,highlow\,conditions\,date” layout=”table-horizontal”]
URL:https://essft.com/event/stillwater-valley-essc-3/
LOCATION:Beelman Farm\, 2192 Co Rd 21\, De Graff\, OH 43318\, USA\, De Graff\, Ohio\, 43318\, United States
CATEGORIES:Field Trials - Mid East
GEO:40.36598;-83.944001
X-APPLE-STRUCTURED-LOCATION;VALUE=URI;X-ADDRESS=Beelman Farm 2192 Co Rd 21 De Graff OH 43318 USA De Graff Ohio 43318 United States;X-APPLE-RADIUS=500;X-TITLE=2192 Co Rd 21\, De Graff\, OH 43318\, USA:geo:-83.944001,40.36598
END:VEVENT
BEGIN:VEVENT
DTSTART;TZID=America/Chicago:20181103T000000
DTEND;TZID=America/Chicago:20181104T000000
DTSTAMP:20260423T163834
CREATED:20250611T200640Z
LAST-MODIFIED:20250611T200640Z
UID:10009819-1541203200-1541289600@essft.com
SUMMARY:ESS FT Club of Illinois
DESCRIPTION:Entries Close: 8 PM\, Tuesday\, October 23rd with the FTS. \nJudges:  Trent Bosse and Clay Earl\n10/29: Updated RO posted. \n\n		\n			\n			\n		\n\n		\n  \n\n		\n			\n			\n		\n\n		\n  \n  \n2018 Welcome Letter- Fall \n2018 ESSFTIL Fall Premium & Entry Forms \n  \n  \n  \n\n		\n			\n			\n		\n\n		\n  \n\n		\n			\n			\n		\n\n		\n  \n[wunderground location=”Wilmington\, IL” numdays=”5″ showdata=”alert\,daynames\,pop\,icon\,highlow\,conditions\,date” layout=”table-horizontal”] \n 
URL:https://essft.com/event/ess-ft-club-of-illinois-3/
LOCATION:Des Plaines Conservation Area-River Rd\, Wilmington\, IL 60481\, USA\, Wilmington\, Illinois\, 60481\, United States
CATEGORIES:Field Trials - Mid West
GEO:41.307809;-88.146724
X-APPLE-STRUCTURED-LOCATION;VALUE=URI;X-ADDRESS=Des Plaines Conservation Area-River Rd Wilmington IL 60481 USA Wilmington Illinois 60481 United States;X-APPLE-RADIUS=500;X-TITLE=Wilmington\, IL 60481\, USA:geo:-88.146724,41.307809
END:VEVENT
BEGIN:VEVENT
DTSTART;TZID=America/Chicago:20181102T000000
DTEND;TZID=America/Chicago:20181103T000000
DTSTAMP:20260423T163834
CREATED:20250611T200640Z
LAST-MODIFIED:20250611T200640Z
UID:10009818-1541116800-1541203200@essft.com
SUMMARY:SE Texas English Springer Spaniel Club
DESCRIPTION:Entries Close: Tuesday October 23\, 2018\, at 6:00 pm with the FTS. \nJudges: Gary Breitbarth and Kevin Rutherford\n\n		\n			\n			\n		\n\n		\n  \n  \n\n		\n			\n			\n		\n\n		\n  \nClick here for the SE Texas FT Premium \n  \n\n		\n			\n			\n		\n\n		\n  \n[wunderground location=”Huntsville\, TX” numdays=”5″ showdata=”alert\,daynames\,pop\,icon\,highlow\,conditions\,date” layout=”table-horizontal”]
URL:https://essft.com/event/se-texas-english-springer-spaniel-club/
LOCATION:Springer Creek Ranch\, 4918 FM1374\, Huntsville\, TX 77340\, USA\, Huntsville\, Texas\, 77340\, United States
CATEGORIES:Field Trials - Rocky Mountain
GEO:30.613039;-95.621861
X-APPLE-STRUCTURED-LOCATION;VALUE=URI;X-ADDRESS=Springer Creek Ranch 4918 FM1374 Huntsville TX 77340 USA Huntsville Texas 77340 United States;X-APPLE-RADIUS=500;X-TITLE=4918 FM1374\, Huntsville\, TX 77340\, USA:geo:-95.621861,30.613039
END:VEVENT
BEGIN:VEVENT
DTSTART;TZID=America/Chicago:20181101T000000
DTEND;TZID=America/Chicago:20181102T000000
DTSTAMP:20260423T163834
CREATED:20250611T200640Z
LAST-MODIFIED:20250611T200640Z
UID:10009817-1541030400-1541116800@essft.com
SUMMARY:Keystone English Springer Spaniel Club
DESCRIPTION:Entries Close:  Monday\, October 22\, 2018 at 11:59:59 PM on Entry Express. \nJudges:  Tom Menzel  and Charlie Squillante\n  \n\n		\n			\n			\n		\n\n		\n  \n[wunderground location=”Tyrone\, PA” numdays=”5″ showdata=”alert\,daynames\,pop\,icon\,highlow\,conditions\,date” layout=”table-horizontal”] \n 
URL:https://essft.com/event/keystone-english-springer-spaniel-club-2/
LOCATION:Sinking Valley (Tyrone)\, PA\, Tyrone\, PA 16686\, USA\, Tyrone\, Pennsylvania\, 16686\, United States
CATEGORIES:Field Trials - East
GEO:40.670618;-78.238624
X-APPLE-STRUCTURED-LOCATION;VALUE=URI;X-ADDRESS=Sinking Valley (Tyrone) PA Tyrone PA 16686 USA Tyrone Pennsylvania 16686 United States;X-APPLE-RADIUS=500;X-TITLE=Tyrone\, PA 16686\, USA:geo:-78.238624,40.670618
END:VEVENT
BEGIN:VEVENT
DTSTART;TZID=America/Chicago:20181027T000000
DTEND;TZID=America/Chicago:20181030T000000
DTSTAMP:20260423T163834
CREATED:20250611T200625Z
LAST-MODIFIED:20250611T200625Z
UID:10009812-1540598400-1540857600@essft.com
SUMMARY:Canadian Open National Championship hosted by Prince Edward Interprovincial Springer Spaniel Club
DESCRIPTION:Judges:  Jason Givens and Greg Royer\nFor more information please Click here \n  \n[wunderground location=”Austin\, MN” numdays=”5″ showdata=”alert\,daynames\,pop\,icon\,highlow\,conditions\,date” layout=”table-horizontal”]
URL:https://essft.com/event/canadian-open-national-championship-hosted-by-prince-edward-interprovincial-springer-spaniel-club/
LOCATION:Minnesota
CATEGORIES:Canadian FT
END:VEVENT
END:VCALENDAR