BEGIN:VCALENDAR
VERSION:2.0
PRODID:-//English Springer Spaniel Field Trials - ECPv6.15.20//NONSGML v1.0//EN
CALSCALE:GREGORIAN
METHOD:PUBLISH
X-WR-CALNAME:English Springer Spaniel Field Trials
X-ORIGINAL-URL:https://essft.com
X-WR-CALDESC:Events for English Springer Spaniel Field Trials
REFRESH-INTERVAL;VALUE=DURATION:PT1H
X-Robots-Tag:noindex
X-PUBLISHED-TTL:PT1H
BEGIN:VTIMEZONE
TZID:America/Chicago
BEGIN:DAYLIGHT
TZOFFSETFROM:-0600
TZOFFSETTO:-0500
TZNAME:CDT
DTSTART:20170312T080000
END:DAYLIGHT
BEGIN:STANDARD
TZOFFSETFROM:-0500
TZOFFSETTO:-0600
TZNAME:CST
DTSTART:20171105T070000
END:STANDARD
BEGIN:DAYLIGHT
TZOFFSETFROM:-0600
TZOFFSETTO:-0500
TZNAME:CDT
DTSTART:20180311T080000
END:DAYLIGHT
BEGIN:STANDARD
TZOFFSETFROM:-0500
TZOFFSETTO:-0600
TZNAME:CST
DTSTART:20181104T070000
END:STANDARD
BEGIN:DAYLIGHT
TZOFFSETFROM:-0600
TZOFFSETTO:-0500
TZNAME:CDT
DTSTART:20190310T080000
END:DAYLIGHT
BEGIN:STANDARD
TZOFFSETFROM:-0500
TZOFFSETTO:-0600
TZNAME:CST
DTSTART:20191103T070000
END:STANDARD
END:VTIMEZONE
BEGIN:VEVENT
DTSTART;TZID=America/Chicago:20180929T000000
DTEND;TZID=America/Chicago:20180930T000000
DTSTAMP:20260423T154437
CREATED:20250611T200205Z
LAST-MODIFIED:20250611T200205Z
UID:10009772-1538179200-1538265600@essft.com
SUMMARY:Pawnee Flushing Spaniel Club FT #3
DESCRIPTION:Pawnee FSC FT Event # 2018696703 September 29th and 30th\, 2018 \nEntries Close: 7:00 p.m. Saturday\, September 15\, 2018 with Field Trial Secretary \nJudges:  Kevin Martineau and Bob Beauchamp \n\n		\n			\n			\n		\n\n		\n  \nThis PDF contains all 3 days of ROs. To print please download the pdf to your PC and print from the download. \n\n		\n			\n			\n		\n\n		\n  \n  \nThese PDFs contain individual stake ROs. \n\n		\n			\n			\n		\n\n		\n  \n\n		\n			\n			\n		\n\n		\n  \n\n		\n			\n			\n		\n\n		\n  \nTrial # 3 – Open Running Order \nTrial # 3 – Amateur Running Order \nTrial # 3 – Puppy Running Order \n  \n  \n  \n  \n  \nPawnee FT #3 MS WORD \n\n		\n			\n			\n		\n\n		\n  \n 
URL:https://essft.com/event/pawnee-flushing-spaniel-club-ft-3/
LOCATION:Richard Anderson Farm\, Sedgwick\, CO 80749\, USA\, Sedgwick\, Colorado\, 80749\, United States
CATEGORIES:Field Trials - Rocky Mountain
GEO:40.93638;-102.525466
X-APPLE-STRUCTURED-LOCATION;VALUE=URI;X-ADDRESS=Richard Anderson Farm Sedgwick CO 80749 USA Sedgwick Colorado 80749 United States;X-APPLE-RADIUS=500;X-TITLE=Sedgwick\, CO 80749\, USA:geo:-102.525466,40.93638
END:VEVENT
BEGIN:VEVENT
DTSTART;TZID=America/Chicago:20180929T000000
DTEND;TZID=America/Chicago:20180930T000000
DTSTAMP:20260423T154437
CREATED:20250611T200204Z
LAST-MODIFIED:20250611T200204Z
UID:10009770-1538179200-1538265600@essft.com
SUMMARY:Southern Michigan Springer Spaniel Training Club (SMSSTC)
DESCRIPTION:Entries Close: Monday\, September 17\, 2018 on Entry Express. \nJudges: Don Mock and Terry Sworsky \n\n		\n			\n			\n		\n\n		\n  \n[wunderground location=”Dundee\, MI” numdays=”5″ showdata=”alert\,daynames\,pop\,icon\,highlow\,conditions\,date” layout=”table-horizontal”] \n 
URL:https://essft.com/event/southern-michigan-springer-spaniel-training-club-smsstc/
LOCATION:Sexy Pheasant Farm\, 18378 Day Rd\, Dundee\, MI 48131\, USA\, Dundee\, Michigan\, 48131\, United States
CATEGORIES:Field Trials - Mid East
GEO:42.000234;-83.701633
X-APPLE-STRUCTURED-LOCATION;VALUE=URI;X-ADDRESS=Sexy Pheasant Farm 18378 Day Rd Dundee MI 48131 USA Dundee Michigan 48131 United States;X-APPLE-RADIUS=500;X-TITLE=18378 Day Rd\, Dundee\, MI 48131\, USA:geo:-83.701633,42.000234
END:VEVENT
BEGIN:VEVENT
DTSTART;TZID=America/Chicago:20180929T000000
DTEND;TZID=America/Chicago:20180930T000000
DTSTAMP:20260423T154437
CREATED:20250611T200103Z
LAST-MODIFIED:20250611T200103Z
UID:10009766-1538179200-1538265600@essft.com
SUMMARY:Northeast Wisconsin
DESCRIPTION:Entries Close: Monday\, September 17\, 2018 11:59:59 PM Eastern Time(ET) at Hunt Secretary \nJudges:  Pete Anderson and Greg Royer\n  \n\n		\n			\n			\n		\n\n		\n  \n  \n\n		\n			\n			\n		\n\n		\n  \n[wunderground location=”Kewaunee\, WI” numdays=”5″ showdata=”alert\,daynames\,pop\,icon\,highlow\,conditions\,date” layout=”table-horizontal”] \n 
URL:https://essft.com/event/northeast-wisconsin/
LOCATION:Besadny Fish and Wildlife Area\, Kewaunee\, WI 54216\, USA\, Kewaunee\, Wisconsin\, 54216\, United States
CATEGORIES:Field Trials - Mid West
ORGANIZER;CN="Lynn Christen":MAILTO:puptrnr@ticon.net
GEO:44.458332;-87.50314
X-APPLE-STRUCTURED-LOCATION;VALUE=URI;X-ADDRESS=Besadny Fish and Wildlife Area Kewaunee WI 54216 USA Kewaunee Wisconsin 54216 United States;X-APPLE-RADIUS=500;X-TITLE=Kewaunee\, WI 54216\, USA:geo:-87.50314,44.458332
END:VEVENT
BEGIN:VEVENT
DTSTART;TZID=America/Chicago:20180929T000000
DTEND;TZID=America/Chicago:20180930T000000
DTSTAMP:20260423T154437
CREATED:20250611T200103Z
LAST-MODIFIED:20250611T200103Z
UID:10009767-1538179200-1538265600@essft.com
SUMMARY:Eastern Slopes Spaniel Association
DESCRIPTION:https://www.dogshow.ca/en/1604?club=Eastern-Slopes-Spaniel-Association \n 
URL:https://essft.com/event/eastern-slopes-spaniel-association-5/
CATEGORIES:Canadian FT
END:VEVENT
BEGIN:VEVENT
DTSTART;TZID=America/Chicago:20180929T000000
DTEND;TZID=America/Chicago:20180930T000000
DTSTAMP:20260423T154437
CREATED:20250611T200103Z
LAST-MODIFIED:20250611T200103Z
UID:10009768-1538179200-1538265600@essft.com
SUMMARY:AKC Week 39
DESCRIPTION:
URL:https://essft.com/event/akc-week-39-2/
END:VEVENT
BEGIN:VEVENT
DTSTART;TZID=America/Chicago:20180929T000000
DTEND;TZID=America/Chicago:20180930T000000
DTSTAMP:20260423T154437
CREATED:20250611T200103Z
LAST-MODIFIED:20250611T200103Z
UID:10009769-1538179200-1538265600@essft.com
SUMMARY:HT: South Western Ontario Spaniel Club - Fall Hunt Test
DESCRIPTION:Entries Close: \nJudges: \n  \nWaiting for more information from the Field Trial Secretary.  Thank you for your patience. \n  \n[wunderground location=”Fisherville\, ON” numdays=”5″ showdata=”alert\,daynames\,pop\,icon\,highlow\,conditions\,date” layout=”table-horizontal”] \n 
URL:https://essft.com/event/ht-south-western-ontario-spaniel-club-fall-hunt-test/
CATEGORIES:Canadian FT
END:VEVENT
BEGIN:VEVENT
DTSTART;TZID=America/Chicago:20180928T000000
DTEND;TZID=America/Chicago:20180930T000000
DTSTAMP:20260423T154437
CREATED:20250611T200103Z
LAST-MODIFIED:20250611T200103Z
UID:10009765-1538092800-1538265600@essft.com
SUMMARY:Cocker FT: Iowa Sporting Spaniel Club
DESCRIPTION:Entries Close: Tuesday\, September 18\, 2018 11:59:59 PM Eastern Time(ET) \nHunt Secretary – Friday Event \nHunt Secretary – Saturday & Sunday Event \n  \n\n		\n			\n			\n		\n\n		\n 
URL:https://essft.com/event/cocker-ft-iowa-sporting-spaniel-club/
CATEGORIES:Cocker Trial
END:VEVENT
BEGIN:VEVENT
DTSTART;TZID=America/Chicago:20180927T000000
DTEND;TZID=America/Chicago:20180928T000000
DTSTAMP:20260423T154437
CREATED:20250611T200048Z
LAST-MODIFIED:20250611T200048Z
UID:10009764-1538006400-1538092800@essft.com
SUMMARY:Pawnee Flushing Spaniel Club  FT #2
DESCRIPTION:Pawnee FSC FT Event # 2018696702 September 27th and 28th\, 2018 \nEntries Close:  7:00 p.m. Saturday\, September 15\, 2018 with Field Trial Secretary \nJudges:  Daryl Roth and Pat Gilligan \n  \n\n		\n			\n			\n		\n\n		\n  \nThis RO contains all 3 Trials combined. To print please download the document to your PC and print from the downloaded PDF. \n\n		\n			\n			\n		\n\n		\n  \nThese PDFs are individual ROs. \n\n		\n			\n			\n		\n\n		\n  \n\n		\n			\n			\n		\n\n		\n  \n\n		\n			\n			\n		\n\n		\n  \nTrial # 2 – Open Running Order \nTrial # 2 – Amateur Running Order \nTrial # 2 – Puppy Running Order \n  \n  \n  \n  \nPawnee FT #2 MS WORD \n\n		\n			\n			\n		\n\n		\n  \n\n		\n			\n			\n		\n\n		\n[wunderground location=”Crook\, CO” numdays=”5″ showdata=”alert\,daynames\,pop\,icon\,highlow\,conditions\,date” layout=”table-horizontal”] \n  \n  \n 
URL:https://essft.com/event/pawnee-flushing-spaniel-club-ft-2/
LOCATION:Tamarack Ranch\, Crook\, CO 80726\, USA\, Crook\, Colorado\, 80726\, United States
CATEGORIES:Field Trials - Rocky Mountain
GEO:40.85888;-102.801026
X-APPLE-STRUCTURED-LOCATION;VALUE=URI;X-ADDRESS=Tamarack Ranch Crook CO 80726 USA Crook Colorado 80726 United States;X-APPLE-RADIUS=500;X-TITLE=Crook\, CO 80726\, USA:geo:-102.801026,40.85888
END:VEVENT
BEGIN:VEVENT
DTSTART;TZID=America/Chicago:20180926T000000
DTEND;TZID=America/Chicago:20180927T000000
DTSTAMP:20260423T154437
CREATED:20250611T200048Z
LAST-MODIFIED:20250611T200048Z
UID:10009763-1537920000-1538006400@essft.com
SUMMARY:Pawnee Flushing Spaniel Club FT #1
DESCRIPTION:  \nPawnee FSC FT Event # 2018696701 September 26th and 27th\, 2018 \nEntries Close:  7:00 p.m. Saturday\, September 15\, 2018 with Field Trial Secretary \nJudges: Joe Coady and Richard Whelan\n  \n\n		\n			\n			\n		\n\n		\nTrial #1 – Open Running Order \nTrial #1 – Amateur Running Order \nThis PDF has all 3 trials running orders combined. To print\, download the file and print from your PC. \n\n		\n			\n			\n		\n\n		\n  \nThese are the individual Stake Running Orders: \n\n		\n			\n			\n		\n\n		\n  \n\n		\n			\n			\n		\n\n		\nPawnee FT #1 MS WORD \n\n		\n			\n			\n		\n\n		\n\n		\n			\n			\n		\n\n		\n  \n[wunderground location=”Sedgwick\, CO” numdays=”5″ showdata=”alert\,daynames\,pop\,icon\,highlow\,conditions\,date” layout=”table-horizontal”]
URL:https://essft.com/event/pawnee-flushing-spaniel-club-ft-1/
LOCATION:Richard Anderson Farm\, Sedgwick\, CO 80749\, USA\, Sedgwick\, Colorado\, 80749\, United States
CATEGORIES:Field Trials - Rocky Mountain
GEO:40.93638;-102.525466
X-APPLE-STRUCTURED-LOCATION;VALUE=URI;X-ADDRESS=Richard Anderson Farm Sedgwick CO 80749 USA Sedgwick Colorado 80749 United States;X-APPLE-RADIUS=500;X-TITLE=Sedgwick\, CO 80749\, USA:geo:-102.525466,40.93638
END:VEVENT
BEGIN:VEVENT
DTSTART;TZID=America/Chicago:20180924T000000
DTEND;TZID=America/Chicago:20180925T000000
DTSTAMP:20260423T154437
CREATED:20250611T200048Z
LAST-MODIFIED:20250611T200048Z
UID:10009762-1537747200-1537833600@essft.com
SUMMARY:Southern Tier Field Trial Assn. Trial #2
DESCRIPTION:Entries close: Wednesday\, September 12\, 2018 11:59:59 PM Eastern Time(ET)   at Hunt Secretary \n9/14:  NEW LOCATION:   Richard Stewart Farm 6152 Dublin Road\, Canisteo\, NY \nJudges: Bill Cosgrove and Robert Fink\nSouthern Tier Fall FT prelist week day 9 24 9 25 2018 V3 \n9/4: New host hotel – Super 8 in Bath\, NY \n 
URL:https://essft.com/event/southern-tier-field-trial-assn-trial-2/
LOCATION:Richard Stewart Farm\, Canisteo\, NY 14823\, USA\, Canisteo\, New York\, 14823\, United States
CATEGORIES:Field Trials - East
GEO:42.291091;-77.498077
X-APPLE-STRUCTURED-LOCATION;VALUE=URI;X-ADDRESS=DESCRIPTION:Entries close: Wednesday September 12 2018 11:59:59 PM Eastern Time(ET)   at Hunt Secretary \n9/14:  NEW    Richard Stewart Farm 6152 Dublin Road Canisteo NY \nJudges: Bill Cosgrove and Robert Fink\nSouthern Tier Fall FT prelist week day 9 24 9 25 2018 V3 \n9/4: New host hotel – Super 8 in Bath NY \n ;X-APPLE-RADIUS=500;X-TITLE=Canisteo\, NY 14823\, USA:geo:-77.498077,42.291091
END:VEVENT
BEGIN:VEVENT
DTSTART;TZID=America/Chicago:20180922T000000
DTEND;TZID=America/Chicago:20180923T000000
DTSTAMP:20260423T154438
CREATED:20250611T200048Z
LAST-MODIFIED:20250611T200048Z
UID:10009760-1537574400-1537660800@essft.com
SUMMARY:North Dakota Sporting Spaniel Club  Field Trial #2
DESCRIPTION:Entries Close: Monday\, September 10\, 2018 11:59:59 PM CT on Entry Express \nJudges: Casey Butz and Pat Gilligan\n  \n\n		\n			\n			\n		\n\n		\n  \n  \n\n		\n			\n			\n		\n\n		\n  \n[wunderground location=”Menoken\, ND” numdays=”5″ showdata=”alert\,daynames\,pop\,icon\,highlow\,conditions\,date” layout=”table-horizontal”]
URL:https://essft.com/event/north-dakota-sporting-spaniel-club-field-trial-2/
LOCATION:Hobson Brown Farm\, 16001 48th Ave SE\, Menoken\, ND 58558\, USA\, Menoken\, North Dakota\, 58558\, United States
CATEGORIES:Field Trials - Rocky Mountain
GEO:46.748796;-100.538811
X-APPLE-STRUCTURED-LOCATION;VALUE=URI;X-ADDRESS=Hobson Brown Farm 16001 48th Ave SE Menoken ND 58558 USA Menoken North Dakota 58558 United States;X-APPLE-RADIUS=500;X-TITLE=16001 48th Ave SE\, Menoken\, ND 58558\, USA:geo:-100.538811,46.748796
END:VEVENT
BEGIN:VEVENT
DTSTART;TZID=America/Chicago:20180922T000000
DTEND;TZID=America/Chicago:20180923T000000
DTSTAMP:20260423T154438
CREATED:20250611T200048Z
LAST-MODIFIED:20250611T200048Z
UID:10009761-1537574400-1537660800@essft.com
SUMMARY:Cocker FT: Patriot Sporting Spaniel Club
DESCRIPTION:Entries close with the Field Trial Secretary at 6:00 PM EST\, Sunday\, Sept. 16\,\n2018. \nhttp://www.fieldcockers.com/2018%20Premiums/PSSC%20Fall%20Prem.pdf \n  \nOpenAll-Age\nDan Lussen – 346 Clinton Ave.\, Salt Point\, NY 12578\nOlivia Steele-Mortimer – 255 Meadowlark Ln.\, Hamilton\, MT 59840 \n 
URL:https://essft.com/event/cocker-ft-patriot-sporting-spaniel-club/
LOCATION:Western Mass Bird Dog Club\, 87 Charles Farnum Road Granville\, MA\, USA\, Granville\, Massachusetts\, United States
CATEGORIES:Cocker Trial
ORGANIZER;CN="Jack Klette%2C FTS":MAILTO:klette@verizon.net
GEO:42.099655;-72.922433
X-APPLE-STRUCTURED-LOCATION;VALUE=URI;X-ADDRESS=Western Mass Bird Dog Club 87 Charles Farnum Road Granville MA USA Granville Massachusetts United States;X-APPLE-RADIUS=500;X-TITLE=87 Charles Farnum Road Granville\, MA\, USA:geo:-72.922433,42.099655
END:VEVENT
BEGIN:VEVENT
DTSTART;TZID=America/Chicago:20180922T000000
DTEND;TZID=America/Chicago:20180923T000000
DTSTAMP:20260423T154438
CREATED:20250611T200044Z
LAST-MODIFIED:20250611T200044Z
UID:10009757-1537574400-1537660800@essft.com
SUMMARY:Southern Tier Field Trial Assn. FT #1
DESCRIPTION:Entries Close: Wednesday\, September 12\, 2018 at 11:30 PM EST on Hunt Secretary \nJudges: Frederick (Skip) Smith and Michel Bourdeau\n  \n9/4:  New host hotel – Super 8 in Bath\, NY. \n\n		\n			\n			\n		\n\n		\n  \n  \n[wunderground location=”Bath\, NY” numdays=”5″ showdata=”alert\,daynames\,pop\,icon\,highlow\,conditions\,date” layout=”table-horizontal”] \n 
URL:https://essft.com/event/southern-tier-field-trial-assn-ft-1/
LOCATION:Richard Stewart Farm\, Canisteo\, NY 14823\, USA\, Canisteo\, New York\, 14823\, United States
CATEGORIES:Field Trials - East
GEO:42.291091;-77.498077
X-APPLE-STRUCTURED-LOCATION;VALUE=URI;X-ADDRESS=Richard Stewart Farm Canisteo NY 14823 USA Canisteo New York 14823 United States;X-APPLE-RADIUS=500;X-TITLE=Canisteo\, NY 14823\, USA:geo:-77.498077,42.291091
END:VEVENT
BEGIN:VEVENT
DTSTART;TZID=America/Chicago:20180922T000000
DTEND;TZID=America/Chicago:20180923T000000
DTSTAMP:20260423T154438
CREATED:20250611T200044Z
LAST-MODIFIED:20250611T200044Z
UID:10009758-1537574400-1537660800@essft.com
SUMMARY:AKC Week 38
DESCRIPTION:
URL:https://essft.com/event/akc-week-38/
END:VEVENT
BEGIN:VEVENT
DTSTART;TZID=America/Chicago:20180922T000000
DTEND;TZID=America/Chicago:20180923T000000
DTSTAMP:20260423T154438
CREATED:20250611T200044Z
LAST-MODIFIED:20250611T200044Z
UID:10009759-1537574400-1537660800@essft.com
SUMMARY:Pittsburgh English Springer Spaniel Field Trial Club
DESCRIPTION:PESSFTC will celebrate their 50th year with a special edition catalog and a seafood boil Saturday night. (Reservation required.)  Please join them in celebrating this great accomplishment!\nEntries Close: Monday\, September 10\, 2018 11:59:59 PM CT on Entry Express \nJudges: Cosimo Cristo  and Drew Goldsmith\n\n		\n			\n			\n		\n\n		\n  \n\n		\n			\n			\n		\n\n		\n  \n[wunderground location=”Pittsburgh\, PA” numdays=”5″ showdata=”alert\,daynames\,pop\,icon\,highlow\,conditions\,date” layout=”table-horizontal”]
URL:https://essft.com/event/pittsburgh-english-springer-spaniel-field-trial-club-2/
CATEGORIES:Field Trials - Mid East
ORGANIZER;CN="Justin Smith":MAILTO:pittsburghhuntingspaniels@yahoo.com
END:VEVENT
BEGIN:VEVENT
DTSTART;TZID=America/Chicago:20180922T000000
DTEND;TZID=America/Chicago:20180923T000000
DTSTAMP:20260423T154438
CREATED:20250611T184715Z
LAST-MODIFIED:20250611T200044Z
UID:10009756-1537574400-1537660800@essft.com
SUMMARY:Tilden Valley English Springer Spaniel Club
DESCRIPTION:Entries Close: the 12:00 p.m. EST\, Tuesday\, September 11\, 2018. Mail to the FTS. \nJudges:  Charles Petrmichl and Pete Zuleger\n  \n\n		\n			\n			\n		\n\n		\n  \n\n		\n			\n			\n		\n\n		\n  \n\n		\n			\n			\n		\n\n		\n  \n[wunderground location=”Rock\, MI” numdays=”5″ showdata=”alert\,daynames\,pop\,icon\,highlow\,conditions\,date” layout=”table-horizontal”] \n 
URL:https://essft.com/event/tilden-valley-english-springer-spaniel-club-2/
LOCATION:North Rock Hie On Acres\, 3938 N Rock 38th Rd\, Rock\, MI 49880\, USA\, Rock\, Michigan\, 49880\, United States
CATEGORIES:Field Trials - Mid West
ORGANIZER;CN="Jill Miller%2C FTS":MAILTO:jpmiller1210@yahoo.com
GEO:46.09362;-87.164271
X-APPLE-STRUCTURED-LOCATION;VALUE=URI;X-ADDRESS=North Rock Hie On Acres 3938 N Rock 38th Rd Rock MI 49880 USA Rock Michigan 49880 United States;X-APPLE-RADIUS=500;X-TITLE=3938 N Rock 38th Rd\, Rock\, MI 49880\, USA:geo:-87.164271,46.09362
END:VEVENT
BEGIN:VEVENT
DTSTART;TZID=America/Chicago:20180921T000000
DTEND;TZID=America/Chicago:20180923T000000
DTSTAMP:20260423T154438
CREATED:20250611T184715Z
LAST-MODIFIED:20250611T200044Z
UID:10009755-1537488000-1537660800@essft.com
SUMMARY:Cocker FT: Cocker Spaniel Hunting Enthusiast
DESCRIPTION:Entries Close: Monday\, September 10\, 2018 11:59:59 PM Eastern Time(ET) Hunt Secretary
URL:https://essft.com/event/cocker-ft-cocker-spaniel-hunting-enthusiast/
LOCATION:Coon Rock Hunt Club\, Arena\, WI 53503\, USA\, Arena\, Wisconsin\, 53503\, United States
CATEGORIES:Cocker Trial
GEO:43.165548;-89.912901
X-APPLE-STRUCTURED-LOCATION;VALUE=URI;X-ADDRESS=Coon Rock Hunt Club Arena WI 53503 USA Arena Wisconsin 53503 United States;X-APPLE-RADIUS=500;X-TITLE=Arena\, WI 53503\, USA:geo:-89.912901,43.165548
END:VEVENT
BEGIN:VEVENT
DTSTART;TZID=America/Chicago:20180921T000000
DTEND;TZID=America/Chicago:20180921T000000
DTSTAMP:20260423T154438
CREATED:20250611T184715Z
LAST-MODIFIED:20250611T184715Z
UID:10009754-1537488000-1537488000@essft.com
SUMMARY:North Dakota Sporting Spaniel Club Field Trial #1
DESCRIPTION:Entries Close: Monda Add Photo Gallery y\, September 10\, 2018 11:59:59 PM CT on Entry Express \nJudges: Randy Bartsch and Joe Stallman\n\n		\n			\n			\n		\n\n		\n  \n  \n\n		\n			\n			\n		\n\n		\n  \n[wunderground location=”Menoken\, ND” numdays=”5″ showdata=”alert\,daynames\,pop\,icon\,highlow\,conditions\,date” layout=”table-horizontal”]
URL:https://essft.com/event/north-dakota-sporting-spaniel-club-field-trial-1/
LOCATION:Hobson Brown Farm\, 16001 48th Ave SE\, Menoken\, ND 58558\, USA\, Menoken\, North Dakota\, 58558\, United States
CATEGORIES:Field Trials - Rocky Mountain
GEO:46.748796;-100.538811
X-APPLE-STRUCTURED-LOCATION;VALUE=URI;X-ADDRESS=Hobson Brown Farm 16001 48th Ave SE Menoken ND 58558 USA Menoken North Dakota 58558 United States;X-APPLE-RADIUS=500;X-TITLE=16001 48th Ave SE\, Menoken\, ND 58558\, USA:geo:-100.538811,46.748796
END:VEVENT
BEGIN:VEVENT
DTSTART;TZID=America/Chicago:20180915T000000
DTEND;TZID=America/Chicago:20180916T000000
DTSTAMP:20260423T154438
CREATED:20250611T184715Z
LAST-MODIFIED:20250611T184715Z
UID:10009752-1536969600-1537056000@essft.com
SUMMARY:HT: Presque Isle Ret. Club of Erie PA SPANIEL HUNT TEST
DESCRIPTION:Enter online at Entry Express
URL:https://essft.com/event/ht-presque-isle-ret-club-of-erie-pa-spaniel-hunt-test/
CATEGORIES:Hunt Tests
END:VEVENT
BEGIN:VEVENT
DTSTART;TZID=America/Chicago:20180915T000000
DTEND;TZID=America/Chicago:20180916T000000
DTSTAMP:20260423T154438
CREATED:20250611T184715Z
LAST-MODIFIED:20250611T184715Z
UID:10009753-1536969600-1537056000@essft.com
SUMMARY:Cocker FT: North Dakota Sporting Spaniel Club
DESCRIPTION:Entries Close: Monday\, September 3\, 2018 at 11:59:59 PM on Entry Express \n\n		\n			\n			\n		\n\n		\n 
URL:https://essft.com/event/cocker-ft-north-dakota-sporting-spaniel-club/
LOCATION:Hobson Brown Farm\, 16001 48th Ave SE\, Menoken\, ND 58558\, USA\, Menoken\, North Dakota\, 58558\, United States
CATEGORIES:Cocker Trial
GEO:46.748796;-100.538811
X-APPLE-STRUCTURED-LOCATION;VALUE=URI;X-ADDRESS=Hobson Brown Farm 16001 48th Ave SE Menoken ND 58558 USA Menoken North Dakota 58558 United States;X-APPLE-RADIUS=500;X-TITLE=16001 48th Ave SE\, Menoken\, ND 58558\, USA:geo:-100.538811,46.748796
END:VEVENT
BEGIN:VEVENT
DTSTART;TZID=America/Chicago:20180915T000000
DTEND;TZID=America/Chicago:20180916T000000
DTSTAMP:20260423T154438
CREATED:20250611T184515Z
LAST-MODIFIED:20250611T184515Z
UID:10009749-1536969600-1537056000@essft.com
SUMMARY:HT: North Texas Springer Spaniel Club Hunt Test
DESCRIPTION:Entries Close: Tuesday\, September 4\, 2018 at 11:59 P.M. Eastern Time(ET) on Hunt Secretary
URL:https://essft.com/event/ht-north-texas-springer-spaniel-club-hunt-test/
LOCATION:Dark Timber Kennels LEase\, Bridgeport\, TX 76426\, USA\, Bridgeport\, Texas\, 76426\, United States
CATEGORIES:Hunt Tests
GEO:33.210116;-97.754755
X-APPLE-STRUCTURED-LOCATION;VALUE=URI;X-ADDRESS=Dark Timber Kennels LEase Bridgeport TX 76426 USA Bridgeport Texas 76426 United States;X-APPLE-RADIUS=500;X-TITLE=Bridgeport\, TX 76426\, USA:geo:-97.754755,33.210116
END:VEVENT
BEGIN:VEVENT
DTSTART;TZID=America/Chicago:20180915T000000
DTEND;TZID=America/Chicago:20180916T000000
DTSTAMP:20260423T154438
CREATED:20250611T184515Z
LAST-MODIFIED:20250611T184515Z
UID:10009750-1536969600-1537056000@essft.com
SUMMARY:Sudbury & District Kennel Club Inc.
DESCRIPTION:https://www.dogshow.ca/en/1858?club=Sudbury-and-District-Kennel-Club-Inc.—Spaniels
URL:https://essft.com/event/sudbury-district-kennel-club-inc/
CATEGORIES:Canadian FT
END:VEVENT
BEGIN:VEVENT
DTSTART;TZID=America/Chicago:20180915T000000
DTEND;TZID=America/Chicago:20180916T000000
DTSTAMP:20260423T154438
CREATED:20250611T184515Z
LAST-MODIFIED:20250611T184515Z
UID:10009751-1536969600-1537056000@essft.com
SUMMARY:Cocker FT: Mid-Atlantic Hunting Spaniel Club
DESCRIPTION:Entries Close: Tuesday\, September 4\, 2018 11:59:59 PM Eastern Time(ET) Hunt Secretary \n\n		\n			\n			\n		\n\n		\n  \n  \n\n		\n			\n			\n		\n\n		\n\n 
URL:https://essft.com/event/cocker-ft-mid-atlantic-hunting-spaniel-club/
LOCATION:State Gamelands\, Aspers\, PA\, USA\, Aspers\, Pennsylvania\, United States
CATEGORIES:Cocker Trial
GEO:39.977207;-77.225118
X-APPLE-STRUCTURED-LOCATION;VALUE=URI;X-ADDRESS=State Gamelands Aspers PA USA Aspers Pennsylvania United States;X-APPLE-RADIUS=500;X-TITLE=Aspers\, PA\, USA:geo:-77.225118,39.977207
END:VEVENT
BEGIN:VEVENT
DTSTART;TZID=America/Chicago:20180915T000000
DTEND;TZID=America/Chicago:20180916T000000
DTSTAMP:20260423T154438
CREATED:20250611T184515Z
LAST-MODIFIED:20250611T184515Z
UID:10009747-1536969600-1537056000@essft.com
SUMMARY:Spaniel Association of Western New York Field Trial
DESCRIPTION:Entries Close:  Monday\, September 3\, 2018 on www.entryexpress.net \nJudges:  Justin Smith and Brent LeMaster\n  \n\n		\n			\n			\n		\n\n		\n  \n  \nSTAKE CHANGE as of 7/10/18.   \nSaturday\, September 15th – Amateur Stake \nSunday\, September 16th – Open and Puppy Stakes \n\n		\n			\n			\n		\n\n		\n\n  \n 
URL:https://essft.com/event/spaniel-association-of-western-new-york-field-trial/
LOCATION:One Forty Five North\, LLC\, 8045 Tonawanda Creek Rd\, Lockport\, NY 14094\, USA\, Lockport\, New York\, 14094\, United States
CATEGORIES:Field Trials - East
GEO:43.08423;-78.589279
X-APPLE-STRUCTURED-LOCATION;VALUE=URI;X-ADDRESS=One Forty Five North LLC 8045 Tonawanda Creek Rd Lockport NY 14094 USA Lockport New York 14094 United States;X-APPLE-RADIUS=500;X-TITLE=8045 Tonawanda Creek Rd\, Lockport\, NY 14094\, USA:geo:-78.589279,43.08423
END:VEVENT
BEGIN:VEVENT
DTSTART;TZID=America/Chicago:20180915T000000
DTEND;TZID=America/Chicago:20180916T000000
DTSTAMP:20260423T154438
CREATED:20250611T184515Z
LAST-MODIFIED:20250611T184515Z
UID:10009748-1536969600-1537056000@essft.com
SUMMARY:HT: Maryland Sporting Dog Associations' 2018 Spaniel Hunt Tests
DESCRIPTION:  \n  \n 
URL:https://essft.com/event/ht-maryland-sporting-dog-associations-2018-spaniel-hunt-tests/
LOCATION:Rebel Ridge Farm\, 295 Woods Rd\, Elkton\, MD 21921\, USA\, Elkton\, Maryland\, 21921\, United States
CATEGORIES:Hunt Tests
GEO:39.555428;-75.789047
X-APPLE-STRUCTURED-LOCATION;VALUE=URI;X-ADDRESS=Rebel Ridge Farm 295 Woods Rd Elkton MD 21921 USA Elkton Maryland 21921 United States;X-APPLE-RADIUS=500;X-TITLE=295 Woods Rd\, Elkton\, MD 21921\, USA:geo:-75.789047,39.555428
END:VEVENT
BEGIN:VEVENT
DTSTART;TZID=America/Chicago:20180915T000000
DTEND;TZID=America/Chicago:20180916T000000
DTSTAMP:20260423T154438
CREATED:20250611T184315Z
LAST-MODIFIED:20250611T184315Z
UID:10009742-1536969600-1537056000@essft.com
SUMMARY:Northern Minnesota ESS Club
DESCRIPTION:Entries Close: Tuesday\, September 4\, 2018 11:59:59 PM Eastern Time(ET)  on Hunt Secretary \n  \n  \n\nBlood Draw for Tick Born Initiative \nDr. Christine Peterson and her team will again be drawing blood at the NMESSC Springer Trial this upcoming weekend. This is part of the parent club funded tick born initiative project. \nDr Christy Peterson and her team from the University of Iowa  will be at the NMESSC Trial at Daybreak this weekend. Her team is testing springers and studying Lyme disease and all tick borne diseases. This is part of the Parent Club sponsored Tick Borne Initiative. \nShe will be available Friday evening and all day Saturday. \n\n		\n			\n			\n		\n\n		 \n\nJudges:  Mark Hairfield Judge Change to  John Hall and Tom Nabity\n  \n\n		\n			\n			\n		\n\n		\n  \n\n		\n			\n			\n		\n\n		\n  \n\n		\n			\n			\n		\n\n		\n  \n[wunderground location= “Frederick\, SD” numdays=”5″ showdata=”alert\,daynames\,pop\,icon\,highlow\,conditions\,date” layout=”table-horizontal”] \n 
URL:https://essft.com/event/northern-minnesota-ess-club-3/
LOCATION:Pine Shadows Daybreak\, Frederick\, SD 57441\, USA\, Frederick\, South Dakota\, 57441\, United States
CATEGORIES:Field Trials - Mid West
ORGANIZER;CN="Sophie Haglin":MAILTO:mark@pineshadows.com
END:VEVENT
BEGIN:VEVENT
DTSTART;TZID=America/Chicago:20180915T000000
DTEND;TZID=America/Chicago:20180916T000000
DTSTAMP:20260423T154438
CREATED:20250611T184315Z
LAST-MODIFIED:20250611T184315Z
UID:10009743-1536969600-1537056000@essft.com
SUMMARY:Patriot Sporting Spaniel Club
DESCRIPTION:Entries Close: Sunday\, September 9\, 2018 with the Field Trial Secretary. \nJudges:   John Fillier and Gary Soper (Judge Change)\n  \n\n		\n			\n			\n		\n\n		\n  \n[wunderground location=”North Conway\, NH” numdays=”5″ showdata=”alert\,daynames\,pop\,icon\,highlow\,conditions\,date” layout=”table-horizontal”] \n 
URL:https://essft.com/event/patriot-sporting-spaniel-club-3/
LOCATION:Hussey Well Field\, North Conway\, Conway\, NH\, USA\, Conway\, New Hampshire\, United States
CATEGORIES:Field Trials - East
ORGANIZER;CN="Jack Klette%2C FTS":MAILTO:klette@verizon.net
GEO:44.05368;-71.128404
X-APPLE-STRUCTURED-LOCATION;VALUE=URI;X-ADDRESS=Hussey Well Field North Conway Conway NH USA Conway New Hampshire United States;X-APPLE-RADIUS=500;X-TITLE=North Conway\, Conway\, NH\, USA:geo:-71.128404,44.05368
END:VEVENT
BEGIN:VEVENT
DTSTART;TZID=America/Chicago:20180915T000000
DTEND;TZID=America/Chicago:20180916T000000
DTSTAMP:20260423T154438
CREATED:20250611T184315Z
LAST-MODIFIED:20250611T184315Z
UID:10009744-1536969600-1537056000@essft.com
SUMMARY:Susquehanna Valley
DESCRIPTION:Entries Close: Monday September 3\, 2018 on www.entryexpress.net \nJudges:  Jeff Cubitt and John Whitaker\n  \n\n		\n			\n			\n		\n\n		\n  \n  \n\n		\n			\n			\n		\n\n		\n[wunderground location=”Tyrone\, PA” numdays=”5″ showdata=”alert\,daynames\,pop\,icon\,highlow\,conditions\,date” layout=”table-horizontal”] \n 
URL:https://essft.com/event/susquehanna-valley-2/
LOCATION:Sinking Valley (Tyrone)\, PA\, Tyrone\, PA 16686\, USA\, Tyrone\, Pennsylvania\, 16686\, United States
CATEGORIES:Field Trials - Mid East
GEO:40.670618;-78.238624
X-APPLE-STRUCTURED-LOCATION;VALUE=URI;X-ADDRESS=Sinking Valley (Tyrone) PA Tyrone PA 16686 USA Tyrone Pennsylvania 16686 United States;X-APPLE-RADIUS=500;X-TITLE=Tyrone\, PA 16686\, USA:geo:-78.238624,40.670618
END:VEVENT
BEGIN:VEVENT
DTSTART;TZID=America/Chicago:20180915T000000
DTEND;TZID=America/Chicago:20180916T000000
DTSTAMP:20260423T154438
CREATED:20250611T184315Z
LAST-MODIFIED:20250611T184315Z
UID:10009745-1536969600-1537056000@essft.com
SUMMARY:AKC Week 37
DESCRIPTION:
URL:https://essft.com/event/akc-week-37/
END:VEVENT
BEGIN:VEVENT
DTSTART;TZID=America/Chicago:20180915T000000
DTEND;TZID=America/Chicago:20180916T000000
DTSTAMP:20260423T154438
CREATED:20250611T184315Z
LAST-MODIFIED:20250611T184315Z
UID:10009746-1536969600-1537056000@essft.com
SUMMARY:HT: Iowa Sporting Spaniel Club
DESCRIPTION:Entries Close:  Tuesday\, September 4\, 2018 11:59:59 PM Eastern Time(ET) on Hunt Secretary \n\n		\n			\n			\n		\n\n		\n[wunderground location=”Marshalltown\, IA” numdays=”5″ showdata=”alert\,daynames\,pop\,icon\,highlow\,conditions\,date” layout=”table-horizontal”]
URL:https://essft.com/event/ht-iowa-sporting-spaniel-club/
LOCATION:Karr Farm\, Montour\, IA 50173\, USA\, Montour\, Iowa\, 50173\, United States
CATEGORIES:Hunt Tests
GEO:41.981379;-92.714919
X-APPLE-STRUCTURED-LOCATION;VALUE=URI;X-ADDRESS=Karr Farm Montour IA 50173 USA Montour Iowa 50173 United States;X-APPLE-RADIUS=500;X-TITLE=Montour\, IA 50173\, USA:geo:-92.714919,41.981379
END:VEVENT
END:VCALENDAR