BEGIN:VCALENDAR
VERSION:2.0
PRODID:-//English Springer Spaniel Field Trials - ECPv6.15.20//NONSGML v1.0//EN
CALSCALE:GREGORIAN
METHOD:PUBLISH
X-WR-CALNAME:English Springer Spaniel Field Trials
X-ORIGINAL-URL:https://essft.com
X-WR-CALDESC:Events for English Springer Spaniel Field Trials
REFRESH-INTERVAL;VALUE=DURATION:PT1H
X-Robots-Tag:noindex
X-PUBLISHED-TTL:PT1H
BEGIN:VTIMEZONE
TZID:America/Chicago
BEGIN:DAYLIGHT
TZOFFSETFROM:-0600
TZOFFSETTO:-0500
TZNAME:CDT
DTSTART:20170312T080000
END:DAYLIGHT
BEGIN:STANDARD
TZOFFSETFROM:-0500
TZOFFSETTO:-0600
TZNAME:CST
DTSTART:20171105T070000
END:STANDARD
BEGIN:DAYLIGHT
TZOFFSETFROM:-0600
TZOFFSETTO:-0500
TZNAME:CDT
DTSTART:20180311T080000
END:DAYLIGHT
BEGIN:STANDARD
TZOFFSETFROM:-0500
TZOFFSETTO:-0600
TZNAME:CST
DTSTART:20181104T070000
END:STANDARD
BEGIN:DAYLIGHT
TZOFFSETFROM:-0600
TZOFFSETTO:-0500
TZNAME:CDT
DTSTART:20190310T080000
END:DAYLIGHT
BEGIN:STANDARD
TZOFFSETFROM:-0500
TZOFFSETTO:-0600
TZNAME:CST
DTSTART:20191103T070000
END:STANDARD
END:VTIMEZONE
BEGIN:VEVENT
DTSTART;TZID=America/Chicago:20181013T000000
DTEND;TZID=America/Chicago:20181014T000000
DTSTAMP:20260423T175859
CREATED:20250611T200354Z
LAST-MODIFIED:20250611T200354Z
UID:10009796-1539388800-1539475200@essft.com
SUMMARY:Cocker FT: Minnesota Hunting Spaniel Association
DESCRIPTION:Entries Close: Tuesday – October 02\, 2018 at 11:59 PM \nJudges: Todd Stelzer and Dean Koehler\nhttp://www.fieldcockers.com/events2018.html#cd \n 
URL:https://essft.com/event/cocker-ft-minnesota-hunting-spaniel-association/
LOCATION:Long Pond Elk Farm\, 10940 293rd Ave NW\, Princeton\, MN 55371\, USA\, Princeton\, Minnesota\, 55371\, United States
CATEGORIES:Cocker Trial
GEO:45.510557;-93.554875
X-APPLE-STRUCTURED-LOCATION;VALUE=URI;X-ADDRESS=Long Pond Elk Farm 10940 293rd Ave NW Princeton MN 55371 USA Princeton Minnesota 55371 United States;X-APPLE-RADIUS=500;X-TITLE=10940 293rd Ave NW\, Princeton\, MN 55371\, USA:geo:-93.554875,45.510557
END:VEVENT
BEGIN:VEVENT
DTSTART;TZID=America/Chicago:20181013T000000
DTEND;TZID=America/Chicago:20181014T000000
DTSTAMP:20260423T175859
CREATED:20250611T200339Z
LAST-MODIFIED:20250611T200339Z
UID:10009794-1539388800-1539475200@essft.com
SUMMARY:English Springer Spaniel Club of Eastern Nebraska
DESCRIPTION:Entries Close: Tuesday\, October 2\, 2018 at 11:59 P.M. Eastern Time(ET) Hunt Secretary \nJudges:  Jim OShea and John Staley\n  \n \n\n		\n			\n			\n		\n\n		\n  \n\n		\n			\n			\n		\n\n		\n  \n[wunderground location=”Beatrice\, NE” numdays=”5″ showdata=”alert\,daynames\,pop\,icon\,highlow\,conditions\,date” layout=”table-horizontal”]
URL:https://essft.com/event/english-springer-spaniel-club-of-eastern-nebraska-2/
LOCATION:Claybaugh Farm\, Liberty\, NE 68381\, USA\, Liberty\, Nebraska\, 68381\, United States
CATEGORIES:Field Trials - Rocky Mountain
GEO:40.084723;-96.482796
X-APPLE-STRUCTURED-LOCATION;VALUE=URI;X-ADDRESS=Claybaugh Farm Liberty NE 68381 USA Liberty Nebraska 68381 United States;X-APPLE-RADIUS=500;X-TITLE=Liberty\, NE 68381\, USA:geo:-96.482796,40.084723
END:VEVENT
BEGIN:VEVENT
DTSTART;TZID=America/Chicago:20181013T000000
DTEND;TZID=America/Chicago:20181014T000000
DTSTAMP:20260423T175859
CREATED:20250611T200339Z
LAST-MODIFIED:20250611T200339Z
UID:10009790-1539388800-1539475200@essft.com
SUMMARY:St. Croix Valley Spaniel Club
DESCRIPTION:Entries Close: Tuesday\, October 2\, 2018 at 11:59 P.M. Eastern Time(ET) on Hunt Secretary \nJudges:  Randy Manore and Tim DeGroff    JUDGE CHANGE:   Ken Hanson replaces Tim.\nPlease see the premium for the map to the grounds! \n\n		\n			\n			\n		\n\n		\n  \n  \n\n		\n			\n			\n		\n\n		\n  \n\n		\n			\n			\n		\n\n		\n[wunderground location=”Clitherall\, MN” numdays=”5″ showdata=”alert\,daynames\,pop\,icon\,highlow\,conditions\,date” layout=”table-horizontal”] \n 
URL:https://essft.com/event/st-croix-valley-spaniel-club-6/
LOCATION:Leslie Bjerketvedt Farm\, Co Hwy 5\, Clitherall\, MN 56524\, USA\, Clitherall\, Minnesota\, 56524\, United States
CATEGORIES:Field Trials - Mid West
GEO:46.275682;-95.633964
X-APPLE-STRUCTURED-LOCATION;VALUE=URI;X-ADDRESS=Leslie Bjerketvedt Farm Co Hwy 5 Clitherall MN 56524 USA Clitherall Minnesota 56524 United States;X-APPLE-RADIUS=500;X-TITLE=Co Hwy 5\, Clitherall\, MN 56524\, USA:geo:-95.633964,46.275682
END:VEVENT
BEGIN:VEVENT
DTSTART;TZID=America/Chicago:20181013T000000
DTEND;TZID=America/Chicago:20181014T000000
DTSTAMP:20260423T175859
CREATED:20250611T200339Z
LAST-MODIFIED:20250611T200339Z
UID:10009791-1539388800-1539475200@essft.com
SUMMARY:Cocker Spaniel Field Trial Club of America
DESCRIPTION:Entries Close: 6:00 pm on Wednesday\, October 3\, 2018 with the Field Trial Secretary. \nJudges:  Josh Davis and Clay Earl\nCSFTCA_2018_Springer_Trial_Premium_MSWORD \n  \n\n		\n			\n			\n		\n\n		 \n  \n[wunderground location=”Lagrangeville\, NY” numdays=”5″ showdata=”alert\,daynames\,pop\,icon\,highlow\,conditions\,date” layout=”table-horizontal”] \n 
URL:https://essft.com/event/cocker-spaniel-field-trial-club-of-america-6/
LOCATION:Red Wing Sand & Gravel\, 114 Velie Rd\, Lagrangeville\, NY 12540\, USA\, Lagrangeville\, New York\, 12540\, United States
CATEGORIES:Field Trials - East
ORGANIZER;CN="Karen Koopman%2C FTS":MAILTO:klkoopman@frontiernet.net
GEO:41.660103;-73.780433
X-APPLE-STRUCTURED-LOCATION;VALUE=URI;X-ADDRESS=Red Wing Sand & Gravel 114 Velie Rd Lagrangeville NY 12540 USA Lagrangeville New York 12540 United States;X-APPLE-RADIUS=500;X-TITLE=114 Velie Rd\, Lagrangeville\, NY 12540\, USA:geo:-73.780433,41.660103
END:VEVENT
BEGIN:VEVENT
DTSTART;TZID=America/Chicago:20181013T000000
DTEND;TZID=America/Chicago:20181014T000000
DTSTAMP:20260423T175859
CREATED:20250611T200339Z
LAST-MODIFIED:20250611T200339Z
UID:10009792-1539388800-1539475200@essft.com
SUMMARY:Central Ontario Spaniel Club - Amateur All Age
DESCRIPTION:https://www.dogshow.ca/en/1562?club=Central-Ontario-Spaniel-Club
URL:https://essft.com/event/central-ontario-spaniel-club-amateur-all-age/
CATEGORIES:Canadian FT
END:VEVENT
BEGIN:VEVENT
DTSTART;TZID=America/Chicago:20181013T000000
DTEND;TZID=America/Chicago:20181014T000000
DTSTAMP:20260423T175859
CREATED:20250611T200339Z
LAST-MODIFIED:20250611T200339Z
UID:10009793-1539388800-1539475200@essft.com
SUMMARY:AKC Week 41
DESCRIPTION:
URL:https://essft.com/event/akc-week-41-2/
END:VEVENT
BEGIN:VEVENT
DTSTART;TZID=America/Chicago:20181012T000000
DTEND;TZID=America/Chicago:20181013T000000
DTSTAMP:20260423T175900
CREATED:20250611T200259Z
LAST-MODIFIED:20250611T200259Z
UID:10009789-1539302400-1539388800@essft.com
SUMMARY:Utah Springer Spaniel Club
DESCRIPTION:Entries Close: Noon MDT\, Wednesday\, October 3\, 2018 with the FTS. \nJudges:  Nick Campanelli and Daryl Johnson\n  \n  \n\n		\n			\n			\n		\n\n		\n  \n\n		\n			\n			\n		\n\n		\n  \n\n		\n			\n			\n		\n\n		\n  \n\n		\n			\n			\n		\n\n		\n\n		\n			\n			\n		\n\n		\n  \n[wunderground location=”Clarkston\, UT” numdays=”5″ showdata=”alert\,daynames\,pop\,icon\,highlow\,conditions\,date” layout=”table-horizontal”]
URL:https://essft.com/event/utah-springer-spaniel-club-6/
LOCATION:8400 West 11000 North\, Clarkston\, UT 84305\, USA\, Clarkston\, Utah\, 84305\, United States
CATEGORIES:Field Trials - West
GEO:41.920203;-112.049954
X-APPLE-STRUCTURED-LOCATION;VALUE=URI;X-ADDRESS=8400 West 11000 North Clarkston UT 84305 USA Clarkston Utah 84305 United States;X-APPLE-RADIUS=500;X-TITLE=Clarkston\, UT 84305\, USA:geo:-112.049954,41.920203
END:VEVENT
BEGIN:VEVENT
DTSTART;TZID=America/Chicago:20181011T000000
DTEND;TZID=America/Chicago:20181012T000000
DTSTAMP:20260423T175900
CREATED:20250611T200259Z
LAST-MODIFIED:20250611T200259Z
UID:10009788-1539216000-1539302400@essft.com
SUMMARY:Platte River English Springer Spaniel Club
DESCRIPTION:Entries Close:   Monday\, October 1\, 2018 11:59:59 PM Eastern Time(ET) on Hunt Secretary \nUPDATE: SEPT 21\, 2018: Judges:  Paul McGagh and Chad Betts  (Note: Alice Stewart will not be judging as previously noted.)\n\n\n		\n			\n			\n		\n\n		\n  \n  \n\n		\n			\n			\n		\n\n		\n  \n[wunderground location=”Beatrice\, NE” numdays=”5″ showdata=”alert\,daynames\,pop\,icon\,highlow\,conditions\,date” layout=”table-horizontal”]
URL:https://essft.com/event/platte-river-english-springer-spaniel-club/
LOCATION:Theye Farm\, Liberty\, NE 68381\, USA\, Liberty\, Nebraska\, 68381\, United States
CATEGORIES:Field Trials - Rocky Mountain
GEO:40.084723;-96.482796
X-APPLE-STRUCTURED-LOCATION;VALUE=URI;X-ADDRESS=Theye Farm Liberty NE 68381 USA Liberty Nebraska 68381 United States;X-APPLE-RADIUS=500;X-TITLE=Liberty\, NE 68381\, USA:geo:-96.482796,40.084723
END:VEVENT
BEGIN:VEVENT
DTSTART;TZID=America/Chicago:20181006T000000
DTEND;TZID=America/Chicago:20181007T000000
DTSTAMP:20260423T175900
CREATED:20250611T200259Z
LAST-MODIFIED:20250611T200259Z
UID:10009786-1538784000-1538870400@essft.com
SUMMARY:Cocker FT: Maine Spaniel Field Trial Club
DESCRIPTION:Entries Close: \nJudges: \nhttp://www.fieldcockers.com/2018%20Premiums/MSFTC_Cocker_FT_Premium_Fall%202018.pdf \n  \n[wunderground location=”Dresden\, ME” numdays=”5″ showdata=”alert\,daynames\,pop\,icon\,highlow\,conditions\,date” layout=”table-horizontal”]
URL:https://essft.com/event/cocker-ft-maine-spaniel-field-trial-club/
LOCATION:Green Point Wildlife Management Area\, Dresden\, ME 04342\, USA\, Dresden\, Maine\, 4342\, United States
CATEGORIES:Cocker Trial
ORGANIZER;CN="Jack Klette%2C FTS":MAILTO:klette@verizon.net
GEO:44.077448;-69.738418
X-APPLE-STRUCTURED-LOCATION;VALUE=URI;X-ADDRESS=Green Point Wildlife Management Area Dresden ME 04342 USA Dresden Maine 4342 United States;X-APPLE-RADIUS=500;X-TITLE=Dresden\, ME 04342\, USA:geo:-69.738418,44.077448
END:VEVENT
BEGIN:VEVENT
DTSTART;TZID=America/Chicago:20181006T000000
DTEND;TZID=America/Chicago:20181007T000000
DTSTAMP:20260423T175900
CREATED:20250611T200259Z
LAST-MODIFIED:20250611T200259Z
UID:10009787-1538784000-1538870400@essft.com
SUMMARY:Missouri Hunting Spaniel Club 2018 Fall Hunt Test
DESCRIPTION:Entries Close: Tuesday\, September 25\, 2018 at 11:59 P.M. Eastern Time(ET)
URL:https://essft.com/event/missouri-hunting-spaniel-club-2018-fall-hunt-test/
LOCATION:Horse Creek Ranch\, Galena\, MO 65656\, USA\, Galena\, Missouri\, 65656\, United States
CATEGORIES:Hunt Tests
GEO:36.805338;-93.466579
X-APPLE-STRUCTURED-LOCATION;VALUE=URI;X-ADDRESS=Horse Creek Ranch Galena MO 65656 USA Galena Missouri 65656 United States;X-APPLE-RADIUS=500;X-TITLE=Galena\, MO 65656\, USA:geo:-93.466579,36.805338
END:VEVENT
BEGIN:VEVENT
DTSTART;TZID=America/Chicago:20181006T000000
DTEND;TZID=America/Chicago:20181007T000000
DTSTAMP:20260423T175900
CREATED:20250611T200258Z
LAST-MODIFIED:20250611T200258Z
UID:10009785-1538784000-1538870400@essft.com
SUMMARY:Cocker FT: Northeast Ohio
DESCRIPTION:Entries Close: \nJudges: \n  \nWaiting for more information from the Field Trial Secretary.  Thank you for your patience. \n  \n[wunderground location=”Austin\, MN” numdays=”5″ showdata=”alert\,daynames\,pop\,icon\,highlow\,conditions\,date” layout=”table-horizontal”]
URL:https://essft.com/event/cocker-ft-northeast-ohio/
CATEGORIES:Cocker Trial
END:VEVENT
BEGIN:VEVENT
DTSTART;TZID=America/Chicago:20181006T000000
DTEND;TZID=America/Chicago:20181007T000000
DTSTAMP:20260423T175900
CREATED:20250611T200244Z
LAST-MODIFIED:20250611T200244Z
UID:10009781-1538784000-1538870400@essft.com
SUMMARY:Great Lakes English Springer Spaniel Field Training Assoc (GLESSFTA)
DESCRIPTION:Entries Close: 11:59 PM Central Time on Monday\, 10/01/2018 on Entry Express \nJudges: Randy Bartsch and John Smith\n9/28 – ** CHANGED LOCATION** Trial will be held at the Wilson Farm\, 1720 Dimmers Rd.\, Reading\, MI \n\n		\n			\n			\n		\n\n		\n  \n[wunderground location=”Hillsdale\, MI” numdays=”5″ showdata=”alert\,daynames\,pop\,icon\,highlow\,conditions\,date” layout=”table-horizontal”]
URL:https://essft.com/event/great-lakes-english-springer-spaniel-field-training-assoc-glessfta/
LOCATION:The Wilson Farm\, 1720 Dimmers Rd\, Reading\, MI 49274\, USA\, Reading\, Michigan\, 49274\, United States
CATEGORIES:Field Trials - Mid East
GEO:41.801039;-84.646782
X-APPLE-STRUCTURED-LOCATION;VALUE=URI;X-ADDRESS=The Wilson Farm 1720 Dimmers Rd Reading MI 49274 USA Reading Michigan 49274 United States;X-APPLE-RADIUS=500;X-TITLE=1720 Dimmers Rd\, Reading\, MI 49274\, USA:geo:-84.646782,41.801039
END:VEVENT
BEGIN:VEVENT
DTSTART;TZID=America/Chicago:20181006T000000
DTEND;TZID=America/Chicago:20181007T000000
DTSTAMP:20260423T175900
CREATED:20250611T200244Z
LAST-MODIFIED:20250611T200244Z
UID:10009782-1538784000-1538870400@essft.com
SUMMARY:Prince Edward Interprovincial Springer Spaniel Club
DESCRIPTION:Entries Close: \nJudges: \n  \nWaiting for more information from the Field Trial Secretary.  Thank you for your patience. \n  \n 
URL:https://essft.com/event/prince-edward-interprovincial-springer-spaniel-club/
CATEGORIES:Canadian FT
END:VEVENT
BEGIN:VEVENT
DTSTART;TZID=America/Chicago:20181006T000000
DTEND;TZID=America/Chicago:20181007T000000
DTSTAMP:20260423T175900
CREATED:20250611T200244Z
LAST-MODIFIED:20250611T200244Z
UID:10009783-1538784000-1538870400@essft.com
SUMMARY:HT: West Allis Training Kennel Club Spaniel Hunt Test
DESCRIPTION:Entries Close: Tuesday\, September 25\, 2018 11:59:59 PM Eastern Time(ET) Hunt Secretary
URL:https://essft.com/event/ht-west-allis-training-kennel-club-spaniel-hunt-test/
LOCATION:S73 W24150 W National Ave\, Big Bend\, WI 53103\, USA\, Big Bend\, Wisconsin\, 53103\, United States
CATEGORIES:Hunt Tests
GEO:42.881403;-88.206757
X-APPLE-STRUCTURED-LOCATION;VALUE=URI;X-ADDRESS=S73 W24150 W National Ave Big Bend WI 53103 USA Big Bend Wisconsin 53103 United States;X-APPLE-RADIUS=500;X-TITLE=Big Bend\, WI 53103\, USA:geo:-88.206757,42.881403
END:VEVENT
BEGIN:VEVENT
DTSTART;TZID=America/Chicago:20181006T000000
DTEND;TZID=America/Chicago:20181007T000000
DTSTAMP:20260423T175900
CREATED:20250611T200244Z
LAST-MODIFIED:20250611T200244Z
UID:10009784-1538784000-1538870400@essft.com
SUMMARY:Cocker FT: Fox Valley English Cocker Spaniel Club
DESCRIPTION:Entries Close: \nJudges: \n  \nWaiting for more information from the Field Trial Secretary.  Thank you for your patience. \n  \n[wunderground location=”Austin\, MN” numdays=”5″ showdata=”alert\,daynames\,pop\,icon\,highlow\,conditions\,date” layout=”table-horizontal”]
URL:https://essft.com/event/cocker-ft-fox-valley-english-cocker-spaniel-club/
CATEGORIES:Cocker Trial
END:VEVENT
BEGIN:VEVENT
DTSTART;TZID=America/Chicago:20181006T000000
DTEND;TZID=America/Chicago:20181007T000000
DTSTAMP:20260423T175900
CREATED:20250611T200243Z
LAST-MODIFIED:20250611T200243Z
UID:10009780-1538784000-1538870400@essft.com
SUMMARY:Northwest English Springer Spaniel Club (NWESSC)
DESCRIPTION:8/30/2018 Per Paula\, FT Secretary: Due to circumstances beyond the clubs control\, we need to change the trial grounds to those we have used in the past in Rickreall\, OR. Corrected information and premium will be out ASAP. \n  \nEntries Close: Sept 26\, 2018 with the FTS. \nJudges: Kathy Nestor & Jerry Livingston\n  \n\n		\n			\n			\n		\n\n		\n  \n\n		\n			\n			\n		\n\n		\n[wunderground location=”Albany\, OR” numdays=”5″ showdata=”alert\,daynames\,pop\,icon\,highlow\,conditions\,date” layout=”table-horizontal”]
URL:https://essft.com/event/northwest-english-springer-spaniel-club-nwessc/
LOCATION:Knaupp Farm\, Rickreall\, OR 97371\, USA\, Rickreall\, Oregon\, 97371\, United States
CATEGORIES:Field Trials - West
ORGANIZER;CN="Paula Mazurek":MAILTO:mtmyst@cablespeed.com
GEO:44.932282;-123.235104
X-APPLE-STRUCTURED-LOCATION;VALUE=URI;X-ADDRESS=Knaupp Farm Rickreall OR 97371 USA Rickreall Oregon 97371 United States;X-APPLE-RADIUS=500;X-TITLE=Rickreall\, OR 97371\, USA:geo:-123.235104,44.932282
END:VEVENT
BEGIN:VEVENT
DTSTART;TZID=America/Chicago:20181006T000000
DTEND;TZID=America/Chicago:20181007T000000
DTSTAMP:20260423T175900
CREATED:20250611T200220Z
LAST-MODIFIED:20250611T200220Z
UID:10009778-1538784000-1538870400@essft.com
SUMMARY:AKC Week 40
DESCRIPTION:
URL:https://essft.com/event/akc-week-40-2/
END:VEVENT
BEGIN:VEVENT
DTSTART;TZID=America/Chicago:20181006T000000
DTEND;TZID=America/Chicago:20181007T000000
DTSTAMP:20260423T175900
CREATED:20250611T200220Z
LAST-MODIFIED:20250611T200220Z
UID:10009779-1538784000-1538870400@essft.com
SUMMARY:Northern Colorado Springer Spaniel Club
DESCRIPTION:Entries Close: 6:00 P.M. (MST) Monday\, September 24\, 2018 with the FTS. \nJudges:  Mark Brookshire and Katie Gorecki\nNorthern Colorado Fall 2018 Open RO \nNorthern Colorado RO Amateur Fall 2018 \nRO Fall Puppy 2018 \n\n		\n			\n			\n		\n\n		\n  \n\n		\n			\n			\n		\n\n		\n  \n\n		\n			\n			\n		\n\n		\n  \n  \n  \n  \nNorthern Colorado Fall 2018 Premium V2 MS WORD \n  \n\n		\n			\n			\n		\n\n		\n  \n[wunderground location=”Fort Lupton\, CO” numdays=”5″ showdata=”alert\,daynames\,pop\,icon\,highlow\,conditions\,date” layout=”table-horizontal”]
URL:https://essft.com/event/northern-colorado-springer-spaniel-club-4/
LOCATION:Weld County Road between 16 and 18\, Fort Lupton\, CO 80621\, USA\, Fort Lupton\, Colorado\, 80621\, United States
CATEGORIES:Field Trials - Rocky Mountain
GEO:40.084705;-104.813027
X-APPLE-STRUCTURED-LOCATION;VALUE=URI;X-ADDRESS=Weld County Road between 16 and 18 Fort Lupton CO 80621 USA Fort Lupton Colorado 80621 United States;X-APPLE-RADIUS=500;X-TITLE=Fort Lupton\, CO 80621\, USA:geo:-104.813027,40.084705
END:VEVENT
BEGIN:VEVENT
DTSTART;TZID=America/Chicago:20181006T000000
DTEND;TZID=America/Chicago:20181007T000000
DTSTAMP:20260423T175900
CREATED:20250611T200220Z
LAST-MODIFIED:20250611T200220Z
UID:10009776-1538784000-1538870400@essft.com
SUMMARY:Minnesota Heartland Springer Spaniel Club
DESCRIPTION:Entries Close:  Tuesday\, September 25\, 2018 11:59:59 PM Eastern Time(ET) Hunt Secretary \nJudges: Chad Betts and Michael Mount\n  \n\n		\n			\n			\n		\n\n		\n  \n\n		\n			\n			\n		\n\n		\n  \n[wunderground location=”Austin\, MN” numdays=”5″ showdata=”alert\,daynames\,pop\,icon\,highlow\,conditions\,date” layout=”table-horizontal”] \n 
URL:https://essft.com/event/minnesota-heartland-springer-spaniel-club/
LOCATION:Prairie Acres\, 25155 900th Ave\, Austin\, MN 55912\, USA\, Austin\, Minnesota\, 55912\, United States
CATEGORIES:Field Trials - Mid West
GEO:43.718283;-93.069341
X-APPLE-STRUCTURED-LOCATION;VALUE=URI;X-ADDRESS=Prairie Acres 25155 900th Ave Austin MN 55912 USA Austin Minnesota 55912 United States;X-APPLE-RADIUS=500;X-TITLE=25155 900th Ave\, Austin\, MN 55912\, USA:geo:-93.069341,43.718283
END:VEVENT
BEGIN:VEVENT
DTSTART;TZID=America/Chicago:20181006T000000
DTEND;TZID=America/Chicago:20181007T000000
DTSTAMP:20260423T175900
CREATED:20250611T200220Z
LAST-MODIFIED:20250611T200220Z
UID:10009777-1538784000-1538870400@essft.com
SUMMARY:English Springer Spaniel Club of Long Island
DESCRIPTION:Entries Close:  Tuesday\, September 25\, 2018 11:59:59 PM Eastern Time(ET) Hunt Secretary \nJudges: Trent Bosse and Mike Elsasser\n\n		\n			\n			\n		\n\n		\n  \n[wunderground location=”Canisteo\, NY” numdays=”5″ showdata=”alert\,daynames\,pop\,icon\,highlow\,conditions\,date” layout=”table-horizontal”] \n 
URL:https://essft.com/event/english-springer-spaniel-club-of-long-island-2/
LOCATION:Richard Stewart Farm\, Canisteo\, NY 14823\, USA\, Canisteo\, New York\, 14823\, United States
CATEGORIES:Field Trials - East
ORGANIZER;CN="Kevin Dolan":MAILTO:kdcups@gmail.com
GEO:42.291091;-77.498077
X-APPLE-STRUCTURED-LOCATION;VALUE=URI;X-ADDRESS=Richard Stewart Farm Canisteo NY 14823 USA Canisteo New York 14823 United States;X-APPLE-RADIUS=500;X-TITLE=Canisteo\, NY 14823\, USA:geo:-77.498077,42.291091
END:VEVENT
BEGIN:VEVENT
DTSTART;TZID=America/Chicago:20181004T000000
DTEND;TZID=America/Chicago:20181005T000000
DTSTAMP:20260423T175900
CREATED:20250611T200220Z
LAST-MODIFIED:20250611T200220Z
UID:10009775-1538611200-1538697600@essft.com
SUMMARY:Rocky Mountain Springer Spaniel Association
DESCRIPTION:Date Change as of July 30\, 2018:  The new dates for the Rocky Mountain Club are Thursday/Friday Oct 4-5.  They  will be doing their trial in conjunction with the Northern CO Club. \nEntries Close: Monday\, September 24\, 2018 11:59:59 PM Eastern Time(ET) Hunt Secretary \nJudges: Rob Barlow and Charles Petrmichel\n  \n\n		\n			\n			\n		\n\n		\n  \n[wunderground location=”Fort Lupton\, CO” numdays=”5″ showdata=”alert\,daynames\,pop\,icon\,highlow\,conditions\,date” layout=”table-horizontal”]
URL:https://essft.com/event/rocky-mountain-springer-spaniel-association-2/
LOCATION:Miller Property\, Fort Lupton\, CO 80621\, USA\, Fort Lupton\, Colorado\, 80621\, United States
CATEGORIES:Field Trials - Rocky Mountain
GEO:40.119569;-104.715823
X-APPLE-STRUCTURED-LOCATION;VALUE=URI;X-ADDRESS=Miller Property Fort Lupton CO 80621 USA Fort Lupton Colorado 80621 United States;X-APPLE-RADIUS=500;X-TITLE=Fort Lupton\, CO 80621\, USA:geo:-104.715823,40.119569
END:VEVENT
BEGIN:VEVENT
DTSTART;TZID=America/Chicago:20181004T000000
DTEND;TZID=America/Chicago:20181005T000000
DTSTAMP:20260423T175900
CREATED:20250611T200205Z
LAST-MODIFIED:20250611T200205Z
UID:10009774-1538611200-1538697600@essft.com
SUMMARY:Fox Valley English Cocker Spaniel Club
DESCRIPTION:Entries Close: Monday\, September 24\, 2018 11:59:59 PM Eastern Time(ET) Hunt Secretary \nJudges: Tom Menzel and Pete Zuleger\n  \n\n		\n			\n			\n		\n\n		\n  \n[wunderground location=”Reedsville\, WI” numdays=”5″ showdata=”alert\,daynames\,pop\,icon\,highlow\,conditions\,date” layout=”table-horizontal”] \n 
URL:https://essft.com/event/fox-valley-english-cocker-spaniel-club-2/
LOCATION:Connolly Game Farm\, Reedsville\, WI 54230\, USA\, Reedsville\, Wisconsin\, 54230\, United States
CATEGORIES:Field Trials - Mid West
ORGANIZER;CN="Rumi Schroeder%2C FTS":MAILTO:fallenwings1@gmail.com
GEO:44.153604;-87.956762
X-APPLE-STRUCTURED-LOCATION;VALUE=URI;X-ADDRESS=Connolly Game Farm Reedsville WI 54230 USA Reedsville Wisconsin 54230 United States;X-APPLE-RADIUS=500;X-TITLE=Reedsville\, WI 54230\, USA:geo:-87.956762,44.153604
END:VEVENT
BEGIN:VEVENT
DTSTART;TZID=America/Chicago:20180930T000000
DTEND;TZID=America/Chicago:20180930T000000
DTSTAMP:20260423T175900
CREATED:20250611T200205Z
LAST-MODIFIED:20250611T200205Z
UID:10009773-1538265600-1538265600@essft.com
SUMMARY:Cocker FT: Cocker Spaniel Field Trial Club of America Fall Field Trial
DESCRIPTION:Enter online at Entry Express
URL:https://essft.com/event/cocker-ft-cocker-spaniel-field-trial-club-of-america-fall-field-trial/
CATEGORIES:Cocker Trial
END:VEVENT
BEGIN:VEVENT
DTSTART;TZID=America/Chicago:20180929T000000
DTEND;TZID=America/Chicago:20180930T000000
DTSTAMP:20260423T175900
CREATED:20250611T200205Z
LAST-MODIFIED:20250611T200205Z
UID:10009771-1538179200-1538265600@essft.com
SUMMARY:Bushy Hill Springer Spaniel Field Trial Association
DESCRIPTION:Entries Close:  6:00 P.M.\, Wednesday\, September 19\, 2018 with the FTS \nJudges:  Debbie Salmons and Alex Smith\nTo print a PDF\, download the document to your PC and then print! \nRunning Orders updated 9/25: \n\n		\n			\n			\n		\n\n		\n  \nBushy Hill 2018 Fall Premium MS WORD \n\n		\n			\n			\n		\n\n		\n  \n[wunderground location=”Hornell\, NY” numdays=”5″ showdata=”alert\,daynames\,pop\,icon\,highlow\,conditions\,date” layout=”table-horizontal”]
URL:https://essft.com/event/bushy-hill-springer-spaniel-field-trial-association-2/
LOCATION:Mudlark Farm\, Spencer Hill Rd\, Hornell\, NY 14843\, USA\, Hornell\, New York\, 14843\, United States
CATEGORIES:Field Trials - East
ORGANIZER;CN="Suzanne Smith":MAILTO:ssmith@interimhealthcr.com
GEO:42.313707;-77.549411
X-APPLE-STRUCTURED-LOCATION;VALUE=URI;X-ADDRESS=Mudlark Farm Spencer Hill Rd Hornell NY 14843 USA Hornell New York 14843 United States;X-APPLE-RADIUS=500;X-TITLE=Spencer Hill Rd\, Hornell\, NY 14843\, USA:geo:-77.549411,42.313707
END:VEVENT
BEGIN:VEVENT
DTSTART;TZID=America/Chicago:20180929T000000
DTEND;TZID=America/Chicago:20180930T000000
DTSTAMP:20260423T175900
CREATED:20250611T200205Z
LAST-MODIFIED:20250611T200205Z
UID:10009772-1538179200-1538265600@essft.com
SUMMARY:Pawnee Flushing Spaniel Club FT #3
DESCRIPTION:Pawnee FSC FT Event # 2018696703 September 29th and 30th\, 2018 \nEntries Close: 7:00 p.m. Saturday\, September 15\, 2018 with Field Trial Secretary \nJudges:  Kevin Martineau and Bob Beauchamp \n\n		\n			\n			\n		\n\n		\n  \nThis PDF contains all 3 days of ROs. To print please download the pdf to your PC and print from the download. \n\n		\n			\n			\n		\n\n		\n  \n  \nThese PDFs contain individual stake ROs. \n\n		\n			\n			\n		\n\n		\n  \n\n		\n			\n			\n		\n\n		\n  \n\n		\n			\n			\n		\n\n		\n  \nTrial # 3 – Open Running Order \nTrial # 3 – Amateur Running Order \nTrial # 3 – Puppy Running Order \n  \n  \n  \n  \n  \nPawnee FT #3 MS WORD \n\n		\n			\n			\n		\n\n		\n  \n 
URL:https://essft.com/event/pawnee-flushing-spaniel-club-ft-3/
LOCATION:Richard Anderson Farm\, Sedgwick\, CO 80749\, USA\, Sedgwick\, Colorado\, 80749\, United States
CATEGORIES:Field Trials - Rocky Mountain
GEO:40.93638;-102.525466
X-APPLE-STRUCTURED-LOCATION;VALUE=URI;X-ADDRESS=Richard Anderson Farm Sedgwick CO 80749 USA Sedgwick Colorado 80749 United States;X-APPLE-RADIUS=500;X-TITLE=Sedgwick\, CO 80749\, USA:geo:-102.525466,40.93638
END:VEVENT
BEGIN:VEVENT
DTSTART;TZID=America/Chicago:20180929T000000
DTEND;TZID=America/Chicago:20180930T000000
DTSTAMP:20260423T175900
CREATED:20250611T200204Z
LAST-MODIFIED:20250611T200204Z
UID:10009770-1538179200-1538265600@essft.com
SUMMARY:Southern Michigan Springer Spaniel Training Club (SMSSTC)
DESCRIPTION:Entries Close: Monday\, September 17\, 2018 on Entry Express. \nJudges: Don Mock and Terry Sworsky \n\n		\n			\n			\n		\n\n		\n  \n[wunderground location=”Dundee\, MI” numdays=”5″ showdata=”alert\,daynames\,pop\,icon\,highlow\,conditions\,date” layout=”table-horizontal”] \n 
URL:https://essft.com/event/southern-michigan-springer-spaniel-training-club-smsstc/
LOCATION:Sexy Pheasant Farm\, 18378 Day Rd\, Dundee\, MI 48131\, USA\, Dundee\, Michigan\, 48131\, United States
CATEGORIES:Field Trials - Mid East
GEO:42.000234;-83.701633
X-APPLE-STRUCTURED-LOCATION;VALUE=URI;X-ADDRESS=Sexy Pheasant Farm 18378 Day Rd Dundee MI 48131 USA Dundee Michigan 48131 United States;X-APPLE-RADIUS=500;X-TITLE=18378 Day Rd\, Dundee\, MI 48131\, USA:geo:-83.701633,42.000234
END:VEVENT
BEGIN:VEVENT
DTSTART;TZID=America/Chicago:20180929T000000
DTEND;TZID=America/Chicago:20180930T000000
DTSTAMP:20260423T175900
CREATED:20250611T200103Z
LAST-MODIFIED:20250611T200103Z
UID:10009766-1538179200-1538265600@essft.com
SUMMARY:Northeast Wisconsin
DESCRIPTION:Entries Close: Monday\, September 17\, 2018 11:59:59 PM Eastern Time(ET) at Hunt Secretary \nJudges:  Pete Anderson and Greg Royer\n  \n\n		\n			\n			\n		\n\n		\n  \n  \n\n		\n			\n			\n		\n\n		\n  \n[wunderground location=”Kewaunee\, WI” numdays=”5″ showdata=”alert\,daynames\,pop\,icon\,highlow\,conditions\,date” layout=”table-horizontal”] \n 
URL:https://essft.com/event/northeast-wisconsin/
LOCATION:Besadny Fish and Wildlife Area\, Kewaunee\, WI 54216\, USA\, Kewaunee\, Wisconsin\, 54216\, United States
CATEGORIES:Field Trials - Mid West
ORGANIZER;CN="Lynn Christen":MAILTO:puptrnr@ticon.net
GEO:44.458332;-87.50314
X-APPLE-STRUCTURED-LOCATION;VALUE=URI;X-ADDRESS=Besadny Fish and Wildlife Area Kewaunee WI 54216 USA Kewaunee Wisconsin 54216 United States;X-APPLE-RADIUS=500;X-TITLE=Kewaunee\, WI 54216\, USA:geo:-87.50314,44.458332
END:VEVENT
BEGIN:VEVENT
DTSTART;TZID=America/Chicago:20180929T000000
DTEND;TZID=America/Chicago:20180930T000000
DTSTAMP:20260423T175900
CREATED:20250611T200103Z
LAST-MODIFIED:20250611T200103Z
UID:10009767-1538179200-1538265600@essft.com
SUMMARY:Eastern Slopes Spaniel Association
DESCRIPTION:https://www.dogshow.ca/en/1604?club=Eastern-Slopes-Spaniel-Association \n 
URL:https://essft.com/event/eastern-slopes-spaniel-association-5/
CATEGORIES:Canadian FT
END:VEVENT
BEGIN:VEVENT
DTSTART;TZID=America/Chicago:20180929T000000
DTEND;TZID=America/Chicago:20180930T000000
DTSTAMP:20260423T175900
CREATED:20250611T200103Z
LAST-MODIFIED:20250611T200103Z
UID:10009768-1538179200-1538265600@essft.com
SUMMARY:AKC Week 39
DESCRIPTION:
URL:https://essft.com/event/akc-week-39-2/
END:VEVENT
BEGIN:VEVENT
DTSTART;TZID=America/Chicago:20180929T000000
DTEND;TZID=America/Chicago:20180930T000000
DTSTAMP:20260423T175900
CREATED:20250611T200103Z
LAST-MODIFIED:20250611T200103Z
UID:10009769-1538179200-1538265600@essft.com
SUMMARY:HT: South Western Ontario Spaniel Club - Fall Hunt Test
DESCRIPTION:Entries Close: \nJudges: \n  \nWaiting for more information from the Field Trial Secretary.  Thank you for your patience. \n  \n[wunderground location=”Fisherville\, ON” numdays=”5″ showdata=”alert\,daynames\,pop\,icon\,highlow\,conditions\,date” layout=”table-horizontal”] \n 
URL:https://essft.com/event/ht-south-western-ontario-spaniel-club-fall-hunt-test/
CATEGORIES:Canadian FT
END:VEVENT
END:VCALENDAR