BEGIN:VCALENDAR
VERSION:2.0
PRODID:-//English Springer Spaniel Field Trials - ECPv6.15.20//NONSGML v1.0//EN
CALSCALE:GREGORIAN
METHOD:PUBLISH
X-WR-CALNAME:English Springer Spaniel Field Trials
X-ORIGINAL-URL:https://essft.com
X-WR-CALDESC:Events for English Springer Spaniel Field Trials
REFRESH-INTERVAL;VALUE=DURATION:PT1H
X-Robots-Tag:noindex
X-PUBLISHED-TTL:PT1H
BEGIN:VTIMEZONE
TZID:America/Chicago
BEGIN:DAYLIGHT
TZOFFSETFROM:-0600
TZOFFSETTO:-0500
TZNAME:CDT
DTSTART:20150308T080000
END:DAYLIGHT
BEGIN:STANDARD
TZOFFSETFROM:-0500
TZOFFSETTO:-0600
TZNAME:CST
DTSTART:20151101T070000
END:STANDARD
BEGIN:DAYLIGHT
TZOFFSETFROM:-0600
TZOFFSETTO:-0500
TZNAME:CDT
DTSTART:20160313T080000
END:DAYLIGHT
BEGIN:STANDARD
TZOFFSETFROM:-0500
TZOFFSETTO:-0600
TZNAME:CST
DTSTART:20161106T070000
END:STANDARD
BEGIN:DAYLIGHT
TZOFFSETFROM:-0600
TZOFFSETTO:-0500
TZNAME:CDT
DTSTART:20170312T080000
END:DAYLIGHT
BEGIN:STANDARD
TZOFFSETFROM:-0500
TZOFFSETTO:-0600
TZNAME:CST
DTSTART:20171105T070000
END:STANDARD
END:VTIMEZONE
BEGIN:VEVENT
DTSTART;TZID=America/Chicago:20161027T000000
DTEND;TZID=America/Chicago:20161027T000000
DTSTAMP:20260424T073719
CREATED:20250611T054848Z
LAST-MODIFIED:20250611T054848Z
UID:10009409-1477526400-1477526400@essft.com
SUMMARY:Canadian National Open Championship (SW OSC)
DESCRIPTION:Judges- Thomas Bratrud\, Marty Knibbs \nPlacements! Congratulations! Jeff Miller and Sam!
URL:https://essft.com/event/canadian-national-open-championship-sw-osc/
LOCATION:New Hampshire
CATEGORIES:Canadian FT
END:VEVENT
BEGIN:VEVENT
DTSTART;TZID=America/Chicago:20161022T000000
DTEND;TZID=America/Chicago:20161023T000000
DTSTAMP:20260424T073719
CREATED:20250611T054848Z
LAST-MODIFIED:20250611T054848Z
UID:10009407-1477094400-1477180800@essft.com
SUMMARY:ESSC of Central States
DESCRIPTION:Judges- Bill Gates\, Kevin Martineau
URL:https://essft.com/event/essc-of-central-states-2/
LOCATION:New Hampshire
CATEGORIES:Field Trials - Mid West
END:VEVENT
BEGIN:VEVENT
DTSTART;TZID=America/Chicago:20161022T000000
DTEND;TZID=America/Chicago:20161023T000000
DTSTAMP:20260424T073719
CREATED:20250611T054654Z
LAST-MODIFIED:20250611T054654Z
UID:10009402-1477094400-1477180800@essft.com
SUMMARY:Inland Empire ESSC
DESCRIPTION:Judges- Gary Fluckiger\, Ray Nault \nApprentie- John Smith
URL:https://essft.com/event/inland-empire-essc/
LOCATION:New Hampshire
CATEGORIES:Field Trials - West
END:VEVENT
BEGIN:VEVENT
DTSTART;TZID=America/Chicago:20161022T000000
DTEND;TZID=America/Chicago:20161023T000000
DTSTAMP:20260424T073719
CREATED:20250611T054654Z
LAST-MODIFIED:20250611T054654Z
UID:10009403-1477094400-1477180800@essft.com
SUMMARY:Platte River ESSC
DESCRIPTION:Judges- Robert Clayton (change of judge) Terry Sworksy
URL:https://essft.com/event/platte-river-essc-2/
LOCATION:New Hampshire
CATEGORIES:Field Trials - Rocky Mountain
END:VEVENT
BEGIN:VEVENT
DTSTART;TZID=America/Chicago:20161022T000000
DTEND;TZID=America/Chicago:20161023T000000
DTSTAMP:20260424T073719
CREATED:20250611T054654Z
LAST-MODIFIED:20250611T054654Z
UID:10009404-1477094400-1477180800@essft.com
SUMMARY:Minnesota ESSC
DESCRIPTION:Judges- Chuck Nelson\, Bob Fink
URL:https://essft.com/event/minnesota-essc-3/
LOCATION:New Hampshire
CATEGORIES:Field Trials - Mid West
END:VEVENT
BEGIN:VEVENT
DTSTART;TZID=America/Chicago:20161022T000000
DTEND;TZID=America/Chicago:20161023T000000
DTSTAMP:20260424T073719
CREATED:20250611T054654Z
LAST-MODIFIED:20250611T054654Z
UID:10009405-1477094400-1477180800@essft.com
SUMMARY:Ravenna FTC
DESCRIPTION:Judges- Gary Davis\, Harold Hiles
URL:https://essft.com/event/ravenna-ftc/
LOCATION:New Hampshire
CATEGORIES:Field Trials - Mid East
END:VEVENT
BEGIN:VEVENT
DTSTART;TZID=America/Chicago:20161022T000000
DTEND;TZID=America/Chicago:20161023T000000
DTSTAMP:20260424T073719
CREATED:20250611T054654Z
LAST-MODIFIED:20250611T054654Z
UID:10009406-1477094400-1477180800@essft.com
SUMMARY:New Jersey SFTC
DESCRIPTION:Judges- Tim edwards\, Don Wagner
URL:https://essft.com/event/new-jersey-sftc-2/
LOCATION:New Hampshire
CATEGORIES:Field Trials - East
END:VEVENT
BEGIN:VEVENT
DTSTART;TZID=America/Chicago:20161022T000000
DTEND;TZID=America/Chicago:20161022T000000
DTSTAMP:20260424T073719
CREATED:20250611T054848Z
LAST-MODIFIED:20250611T054848Z
UID:10009408-1477094400-1477094400@essft.com
SUMMARY:Canadian National Amateur Championship(COSC)
DESCRIPTION:judges- Daniel Berlemont\, Drew Goldsmith
URL:https://essft.com/event/canadian-national-amateur-championshipcosc/
LOCATION:New Hampshire
CATEGORIES:Canadian FT
END:VEVENT
BEGIN:VEVENT
DTSTART;TZID=America/Chicago:20161020T000000
DTEND;TZID=America/Chicago:20161021T000000
DTSTAMP:20260424T073719
CREATED:20250611T054454Z
LAST-MODIFIED:20250611T054454Z
UID:10009400-1476921600-1477008000@essft.com
SUMMARY:Central Wisconsin SSC
DESCRIPTION:Judges- Dan Murray\, Casey Butz
URL:https://essft.com/event/central-wisconsin-ssc-2/
LOCATION:New Hampshire
CATEGORIES:Field Trials - Mid West
END:VEVENT
BEGIN:VEVENT
DTSTART;TZID=America/Chicago:20161020T000000
DTEND;TZID=America/Chicago:20161021T000000
DTSTAMP:20260424T073719
CREATED:20250611T054454Z
LAST-MODIFIED:20250611T054454Z
UID:10009401-1476921600-1477008000@essft.com
SUMMARY:Mid-Penn ESSC
DESCRIPTION:Judges- Billy Akkouris\, Deb Olszewski
URL:https://essft.com/event/mid-penn-essc-2/
LOCATION:New Hampshire
CATEGORIES:Field Trials - Mid East
END:VEVENT
BEGIN:VEVENT
DTSTART;TZID=America/Chicago:20161015T000000
DTEND;TZID=America/Chicago:20161016T000000
DTSTAMP:20260424T073719
CREATED:20250611T054454Z
LAST-MODIFIED:20250611T054454Z
UID:10009397-1476489600-1476576000@essft.com
SUMMARY:Cincinnati ESSFTC
DESCRIPTION:Judges- Roland Snyder\, Chuck Nelson
URL:https://essft.com/event/cincinnati-essftc/
LOCATION:New Hampshire
CATEGORIES:Field Trials - Mid East
END:VEVENT
BEGIN:VEVENT
DTSTART;TZID=America/Chicago:20161015T000000
DTEND;TZID=America/Chicago:20161016T000000
DTSTAMP:20260424T073719
CREATED:20250611T054454Z
LAST-MODIFIED:20250611T054454Z
UID:10009398-1476489600-1476576000@essft.com
SUMMARY:Cocker Spaniel FTA
DESCRIPTION:Judges- Dean Reinke\, David Sanford
URL:https://essft.com/event/cocker-spaniel-fta/
LOCATION:New Hampshire
CATEGORIES:Field Trials - East
END:VEVENT
BEGIN:VEVENT
DTSTART;TZID=America/Chicago:20161015T000000
DTEND;TZID=America/Chicago:20161016T000000
DTSTAMP:20260424T073719
CREATED:20250611T054454Z
LAST-MODIFIED:20250611T054454Z
UID:10009399-1476489600-1476576000@essft.com
SUMMARY:Sudbury Ontario
DESCRIPTION:
URL:https://essft.com/event/sudbury-ontario-2/
LOCATION:New Hampshire
CATEGORIES:Canadian FT
END:VEVENT
BEGIN:VEVENT
DTSTART;TZID=America/Chicago:20161015T000000
DTEND;TZID=America/Chicago:20161016T000000
DTSTAMP:20260424T073719
CREATED:20250611T054439Z
LAST-MODIFIED:20250611T054439Z
UID:10009394-1476489600-1476576000@essft.com
SUMMARY:Arrowhead ESSC
DESCRIPTION:Judges: Daryl Roth and Steve Bender
URL:https://essft.com/event/arrowhead-essc-2/
LOCATION:New Hampshire
CATEGORIES:Field Trials - West
END:VEVENT
BEGIN:VEVENT
DTSTART;TZID=America/Chicago:20161015T000000
DTEND;TZID=America/Chicago:20161016T000000
DTSTAMP:20260424T073719
CREATED:20250611T054439Z
LAST-MODIFIED:20250611T054439Z
UID:10009395-1476489600-1476576000@essft.com
SUMMARY:ESSC Eastern Nebraska
DESCRIPTION:Judges- John Hall\, Peter Rainey \nApprentice- Joe Stallman
URL:https://essft.com/event/essc-eastern-nebraska/
LOCATION:New Hampshire
CATEGORIES:Field Trials - Rocky Mountain
END:VEVENT
BEGIN:VEVENT
DTSTART;TZID=America/Chicago:20161015T000000
DTEND;TZID=America/Chicago:20161016T000000
DTSTAMP:20260424T073720
CREATED:20250611T054439Z
LAST-MODIFIED:20250611T054439Z
UID:10009396-1476489600-1476576000@essft.com
SUMMARY:Sportsmen's SC of Calumet
DESCRIPTION:Judges- Bob Ryan\, Randy Manore
URL:https://essft.com/event/sportsmens-sc-of-calumet/
LOCATION:New Hampshire
CATEGORIES:Field Trials - Mid West
END:VEVENT
BEGIN:VEVENT
DTSTART;TZID=America/Chicago:20161013T000000
DTEND;TZID=America/Chicago:20161014T000000
DTSTAMP:20260424T073720
CREATED:20250611T054439Z
LAST-MODIFIED:20250611T054439Z
UID:10009393-1476316800-1476403200@essft.com
SUMMARY:Central Iowa ESSC
DESCRIPTION:Judges- Kathy Nestor\, Franis Sworsky
URL:https://essft.com/event/central-iowa-essc/
LOCATION:New Hampshire
CATEGORIES:Field Trials - Mid West
END:VEVENT
BEGIN:VEVENT
DTSTART;TZID=America/Chicago:20161011T000000
DTEND;TZID=America/Chicago:20161012T000000
DTSTAMP:20260424T073720
CREATED:20250611T054439Z
LAST-MODIFIED:20250611T054439Z
UID:10009392-1476144000-1476230400@essft.com
SUMMARY:Missouri HSC
DESCRIPTION:Judges- Mhari Peschel\, Charles Petrimichl
URL:https://essft.com/event/missouri-hsc-2/
LOCATION:New Hampshire
CATEGORIES:Field Trials - Rocky Mountain
END:VEVENT
BEGIN:VEVENT
DTSTART;TZID=America/Chicago:20161008T000000
DTEND;TZID=America/Chicago:20161009T000000
DTSTAMP:20260424T073720
CREATED:20250611T054353Z
LAST-MODIFIED:20250611T054353Z
UID:10009388-1475884800-1475971200@essft.com
SUMMARY:Morthern Colorado SSC
DESCRIPTION:Judges- Don Brunn\, Ken Hanson
URL:https://essft.com/event/morthern-colorado-ssc/
LOCATION:New Hampshire
CATEGORIES:Field Trials - Rocky Mountain
END:VEVENT
BEGIN:VEVENT
DTSTART;TZID=America/Chicago:20161008T000000
DTEND;TZID=America/Chicago:20161009T000000
DTSTAMP:20260424T073720
CREATED:20250611T054353Z
LAST-MODIFIED:20250611T054353Z
UID:10009389-1475884800-1475971200@essft.com
SUMMARY:St. Croix Valley SC
DESCRIPTION:Judges- Terry Quinian\, Brian Sonier \nApprentice- Joe Stallman
URL:https://essft.com/event/st-croix-valley-sc-2/
LOCATION:New Hampshire
CATEGORIES:Field Trials - Mid West
END:VEVENT
BEGIN:VEVENT
DTSTART;TZID=America/Chicago:20161008T000000
DTEND;TZID=America/Chicago:20161009T000000
DTSTAMP:20260424T073720
CREATED:20250611T054353Z
LAST-MODIFIED:20250611T054353Z
UID:10009390-1475884800-1475971200@essft.com
SUMMARY:Great Lakes ESSC FTA
DESCRIPTION:Judges- Don Moco\, Deb Salmon
URL:https://essft.com/event/great-lakes-essc-fta/
LOCATION:New Hampshire
CATEGORIES:Field Trials - Mid East
END:VEVENT
BEGIN:VEVENT
DTSTART;TZID=America/Chicago:20161008T000000
DTEND;TZID=America/Chicago:20161009T000000
DTSTAMP:20260424T073720
CREATED:20250611T054353Z
LAST-MODIFIED:20250611T054353Z
UID:10009391-1475884800-1475971200@essft.com
SUMMARY:ESSC of Long Island
DESCRIPTION:Judges- Brian Young\, Dan Beriemont
URL:https://essft.com/event/essc-of-long-island/
LOCATION:New Hampshire
CATEGORIES:Field Trials - East
END:VEVENT
BEGIN:VEVENT
DTSTART;TZID=America/Chicago:20161007T000000
DTEND;TZID=America/Chicago:20161008T000000
DTSTAMP:20260424T073720
CREATED:20250611T054353Z
LAST-MODIFIED:20250611T054353Z
UID:10009387-1475798400-1475884800@essft.com
SUMMARY:Utah SSC
DESCRIPTION:Judges- Bill Pierson\, Gary Davis
URL:https://essft.com/event/utah-ssc-2/
LOCATION:New Hampshire
CATEGORIES:Field Trials - West
END:VEVENT
BEGIN:VEVENT
DTSTART;TZID=America/Chicago:20161002T000000
DTEND;TZID=America/Chicago:20161003T000000
DTSTAMP:20260424T073720
CREATED:20250611T054153Z
LAST-MODIFIED:20250611T054153Z
UID:10009386-1475366400-1475452800@essft.com
SUMMARY:Central New England SSC
DESCRIPTION:Judges- Billie K Edwards\, Tom Motley
URL:https://essft.com/event/central-new-england-ssc-3/
LOCATION:New Hampshire
CATEGORIES:Field Trials - East
END:VEVENT
BEGIN:VEVENT
DTSTART;TZID=America/Chicago:20161002T000000
DTEND;TZID=America/Chicago:20161003T000000
DTSTAMP:20260424T073720
CREATED:20250611T054153Z
LAST-MODIFIED:20250611T054153Z
UID:10009385-1475366400-1475452800@essft.com
SUMMARY:Central New England SSC
DESCRIPTION:
URL:https://essft.com/event/central-new-england-ssc-2/
LOCATION:New Hampshire
CATEGORIES:Field Trials - East
END:VEVENT
BEGIN:VEVENT
DTSTART;TZID=America/Chicago:20161001T000000
DTEND;TZID=America/Chicago:20161002T000000
DTSTAMP:20260424T073720
CREATED:20250611T054153Z
LAST-MODIFIED:20250611T054153Z
UID:10009382-1475280000-1475366400@essft.com
SUMMARY:Minnesota Heartland ESSC
DESCRIPTION:Judges- Darrell Kurszewski\, Kevin Dresow
URL:https://essft.com/event/minnesota-heartland-essc-2/
LOCATION:New Hampshire
CATEGORIES:Field Trials - Mid West
END:VEVENT
BEGIN:VEVENT
DTSTART;TZID=America/Chicago:20161001T000000
DTEND;TZID=America/Chicago:20161002T000000
DTSTAMP:20260424T073720
CREATED:20250611T054153Z
LAST-MODIFIED:20250611T054153Z
UID:10009383-1475280000-1475366400@essft.com
SUMMARY:Southern Michigan SSTC
DESCRIPTION:Judges- Mark Hairfield\, David Sanford
URL:https://essft.com/event/southern-michigan-sstc-2/
LOCATION:New Hampshire
CATEGORIES:Field Trials - Mid East
END:VEVENT
BEGIN:VEVENT
DTSTART;TZID=America/Chicago:20161001T000000
DTEND;TZID=America/Chicago:20161002T000000
DTSTAMP:20260424T073720
CREATED:20250611T054153Z
LAST-MODIFIED:20250611T054153Z
UID:10009384-1475280000-1475366400@essft.com
SUMMARY:Southwestern Ontario SC
DESCRIPTION:
URL:https://essft.com/event/southwestern-ontario-sc/
LOCATION:New Hampshire
CATEGORIES:Canadian FT
END:VEVENT
BEGIN:VEVENT
DTSTART;TZID=America/Chicago:20161001T000000
DTEND;TZID=America/Chicago:20161002T000000
DTSTAMP:20260424T073720
CREATED:20250611T053953Z
LAST-MODIFIED:20250611T053953Z
UID:10009380-1475280000-1475366400@essft.com
SUMMARY:NW ESSC
DESCRIPTION:Judges- Mark Matthiesen\, Lynn Miller
URL:https://essft.com/event/nw-essc/
LOCATION:New Hampshire
CATEGORIES:Field Trials - West
END:VEVENT
BEGIN:VEVENT
DTSTART;TZID=America/Chicago:20161001T000000
DTEND;TZID=America/Chicago:20161002T000000
DTSTAMP:20260424T073720
CREATED:20250611T053953Z
LAST-MODIFIED:20250611T053953Z
UID:10009381-1475280000-1475366400@essft.com
SUMMARY:Rocky Mountain SSC
DESCRIPTION:Judges- Bill Cosgrove\, Greg Royer
URL:https://essft.com/event/rocky-mountain-ssc/
LOCATION:New Hampshire
CATEGORIES:Field Trials - Rocky Mountain
END:VEVENT
END:VCALENDAR