BEGIN:VCALENDAR
VERSION:2.0
PRODID:-//English Springer Spaniel Field Trials - ECPv6.15.20//NONSGML v1.0//EN
CALSCALE:GREGORIAN
METHOD:PUBLISH
X-WR-CALNAME:English Springer Spaniel Field Trials
X-ORIGINAL-URL:https://essft.com
X-WR-CALDESC:Events for English Springer Spaniel Field Trials
REFRESH-INTERVAL;VALUE=DURATION:PT1H
X-Robots-Tag:noindex
X-PUBLISHED-TTL:PT1H
BEGIN:VTIMEZONE
TZID:America/Chicago
BEGIN:DAYLIGHT
TZOFFSETFROM:-0600
TZOFFSETTO:-0500
TZNAME:CDT
DTSTART:20170312T080000
END:DAYLIGHT
BEGIN:STANDARD
TZOFFSETFROM:-0500
TZOFFSETTO:-0600
TZNAME:CST
DTSTART:20171105T070000
END:STANDARD
BEGIN:DAYLIGHT
TZOFFSETFROM:-0600
TZOFFSETTO:-0500
TZNAME:CDT
DTSTART:20180311T080000
END:DAYLIGHT
BEGIN:STANDARD
TZOFFSETFROM:-0500
TZOFFSETTO:-0600
TZNAME:CST
DTSTART:20181104T070000
END:STANDARD
BEGIN:DAYLIGHT
TZOFFSETFROM:-0600
TZOFFSETTO:-0500
TZNAME:CDT
DTSTART:20190310T080000
END:DAYLIGHT
BEGIN:STANDARD
TZOFFSETFROM:-0500
TZOFFSETTO:-0600
TZNAME:CST
DTSTART:20191103T070000
END:STANDARD
END:VTIMEZONE
BEGIN:VEVENT
DTSTART;TZID=America/Chicago:20180609T000000
DTEND;TZID=America/Chicago:20180610T000000
DTSTAMP:20260424T073703
CREATED:20250611T183514Z
LAST-MODIFIED:20250611T183514Z
UID:10009697-1528502400-1528588800@essft.com
SUMMARY:Sudbury and District Kennel Club
DESCRIPTION:
URL:https://essft.com/event/sudbury-and-district-kennel-club/
LOCATION:Former Town of Burwash Onatario\, Burwash\, ON P0M\, Canada\, Burwash\, Ontario\, P0M\, Canada
CATEGORIES:Canadian FT
GEO:46.233333;-80.85
X-APPLE-STRUCTURED-LOCATION;VALUE=URI;X-ADDRESS=Former Town of Burwash Onatario Burwash ON P0M Canada Burwash Ontario P0M Canada;X-APPLE-RADIUS=500;X-TITLE=Burwash\, ON P0M\, Canada:geo:-80.85,46.233333
END:VEVENT
BEGIN:VEVENT
DTSTART;TZID=America/Chicago:20180609T000000
DTEND;TZID=America/Chicago:20180610T000000
DTSTAMP:20260424T073703
CREATED:20250611T183314Z
LAST-MODIFIED:20250611T183314Z
UID:10009696-1528502400-1528588800@essft.com
SUMMARY:AKC Week 23
DESCRIPTION:
URL:https://essft.com/event/akc-week-23/
LOCATION:New Hampshire
END:VEVENT
BEGIN:VEVENT
DTSTART;TZID=America/Chicago:20180608T000000
DTEND;TZID=America/Chicago:20180610T000000
DTSTAMP:20260424T073703
CREATED:20250611T183314Z
LAST-MODIFIED:20250611T183314Z
UID:10009695-1528416000-1528588800@essft.com
SUMMARY:Central Maine Spaniel Club
DESCRIPTION:Entries Close:  TBD on Entry Express \nJudges:  Tom Menzel and Dan Lussen\nSpringer Trial starts at Noon on Friday. \n  \n[wunderground location=”Austin\, MN” numdays=”5″ showdata=”alert\,daynames\,pop\,icon\,highlow\,conditions\,date” layout=”table-horizontal”] \n 
URL:https://essft.com/event/central-maine-spaniel-club-3/
LOCATION:New Hampshire
CATEGORIES:Field Trials - East
END:VEVENT
BEGIN:VEVENT
DTSTART;TZID=America/Chicago:20180603T000000
DTEND;TZID=America/Chicago:20180603T000000
DTSTAMP:20260424T073703
CREATED:20250611T183314Z
LAST-MODIFIED:20250611T183314Z
UID:10009694-1527984000-1527984000@essft.com
SUMMARY:Minnesota Hunting	Spaniel Association	Training Day  and Working Ability Test
DESCRIPTION:
URL:https://essft.com/event/minnesota-huntingspaniel-associationtraining-day-and-working-ability-test/
LOCATION:Long Pond Elk Farm\, 10940 293rd Ave NW\, Princeton\, MN 55371\, USA\, Princeton\, Minnesota\, 55371\, United States
CATEGORIES:Hunt Tests
GEO:45.510557;-93.554875
X-APPLE-STRUCTURED-LOCATION;VALUE=URI;X-ADDRESS=Long Pond Elk Farm 10940 293rd Ave NW Princeton MN 55371 USA Princeton Minnesota 55371 United States;X-APPLE-RADIUS=500;X-TITLE=10940 293rd Ave NW\, Princeton\, MN 55371\, USA:geo:-93.554875,45.510557
END:VEVENT
BEGIN:VEVENT
DTSTART;TZID=America/Chicago:20180602T000000
DTEND;TZID=America/Chicago:20180603T000000
DTSTAMP:20260424T073703
CREATED:20250611T183314Z
LAST-MODIFIED:20250611T183314Z
UID:10009693-1527897600-1527984000@essft.com
SUMMARY:Gateway UHC St Louis - Hunt Test
DESCRIPTION:Entries Close:   Monday\, May 21\, 2018 \nJudges: Sue Myers and Gretchen DeGroot \n2018 GUHC SPRING PREMIUM MS WORD \n 
URL:https://essft.com/event/gateway-uhc-st-louis-hunt-test/
LOCATION:CrannieMack Hunting Preserve\, 11 Lakecrest Lane\, Huntsville\, TX 77340\, USA\, Huntsville\, Texas\, 77340\, United States
CATEGORIES:Hunt Tests
GEO:30.555944;-95.609667
X-APPLE-STRUCTURED-LOCATION;VALUE=URI;X-ADDRESS=CrannieMack Hunting Preserve 11 Lakecrest Lane Huntsville TX 77340 USA Huntsville Texas 77340 United States;X-APPLE-RADIUS=500;X-TITLE=11 Lakecrest Lane\, Huntsville\, TX 77340\, USA:geo:-95.609667,30.555944
END:VEVENT
BEGIN:VEVENT
DTSTART;TZID=America/Chicago:20180602T000000
DTEND;TZID=America/Chicago:20180603T000000
DTSTAMP:20260424T073703
CREATED:20250611T183313Z
LAST-MODIFIED:20250611T183313Z
UID:10009692-1527897600-1527984000@essft.com
SUMMARY:Cocker Spaniel FTC of America - Hunt Test
DESCRIPTION:Entries close:  5/21/2018 on Entry Express \n 
URL:https://essft.com/event/cocker-spaniel-ftc-of-america-hunt-test/
LOCATION:Mid County Rod and Gun Club\, 650 Waterbury Hill Rd\, Lagrangeville\, NY 12540\, USA\, Lagrangeville\, New York\, 12540\, United States
CATEGORIES:Hunt Tests
GEO:41.69856;-73.706758
X-APPLE-STRUCTURED-LOCATION;VALUE=URI;X-ADDRESS=Mid County Rod and Gun Club 650 Waterbury Hill Rd Lagrangeville NY 12540 USA Lagrangeville New York 12540 United States;X-APPLE-RADIUS=500;X-TITLE=650 Waterbury Hill Rd\, Lagrangeville\, NY 12540\, USA:geo:-73.706758,41.69856
END:VEVENT
BEGIN:VEVENT
DTSTART;TZID=America/Chicago:20180602T000000
DTEND;TZID=America/Chicago:20180603T000000
DTSTAMP:20260424T073703
CREATED:20250611T183259Z
LAST-MODIFIED:20250611T183259Z
UID:10009690-1527897600-1527984000@essft.com
SUMMARY:AKC Week 22
DESCRIPTION:
URL:https://essft.com/event/akc-week-22/
LOCATION:New Hampshire
END:VEVENT
BEGIN:VEVENT
DTSTART;TZID=America/Chicago:20180602T000000
DTEND;TZID=America/Chicago:20180603T000000
DTSTAMP:20260424T073703
CREATED:20250611T183259Z
LAST-MODIFIED:20250611T183259Z
UID:10009691-1527897600-1527984000@essft.com
SUMMARY:North Dakota Hunting Spaniel - Hunt Tests
DESCRIPTION:Entries due May 21\, 2018 on EntryExpress.net \n 
URL:https://essft.com/event/north-dakota-hunting-spaniel-hunt-tests/
LOCATION:New Hampshire
CATEGORIES:Hunt Tests
ORGANIZER;CN="Sue Wilson%2C FTS":MAILTO:suezannebwilson@yahoo.com
END:VEVENT
BEGIN:VEVENT
DTSTART;TZID=America/Chicago:20180526T000000
DTEND;TZID=America/Chicago:20180527T000000
DTSTAMP:20260424T073703
CREATED:20250611T183259Z
LAST-MODIFIED:20250611T183259Z
UID:10009688-1527292800-1527379200@essft.com
SUMMARY:Eastern Slopes Spaniel Association
DESCRIPTION:https://www.dogshow.ca/en/1602?club=Eastern-Slopes-Spaniel-Association \n 
URL:https://essft.com/event/eastern-slopes-spaniel-association-3/
LOCATION:New Hampshire
CATEGORIES:Canadian FT
END:VEVENT
BEGIN:VEVENT
DTSTART;TZID=America/Chicago:20180526T000000
DTEND;TZID=America/Chicago:20180527T000000
DTSTAMP:20260424T073703
CREATED:20250611T183259Z
LAST-MODIFIED:20250611T183259Z
UID:10009689-1527292800-1527379200@essft.com
SUMMARY:AKC Week 21
DESCRIPTION:
URL:https://essft.com/event/akc-week-21/
LOCATION:New Hampshire
END:VEVENT
BEGIN:VEVENT
DTSTART;TZID=America/Chicago:20180525T000000
DTEND;TZID=America/Chicago:20180528T000000
DTSTAMP:20260424T073703
CREATED:20250611T183259Z
LAST-MODIFIED:20250611T183259Z
UID:10009687-1527206400-1527465600@essft.com
SUMMARY:Western Washington ESS Club  and Cascade ECSF  Hunt Test
DESCRIPTION:Waiting for more information from the Hunt Test Secretary.  Thank you for your patience. \n  \n[wunderground location=”Rochester\, WA” numdays=”5″ showdata=”alert\,daynames\,pop\,icon\,highlow\,conditions\,date” layout=”table-horizontal”] \n  \n  \n  \n  \n  \n 
URL:https://essft.com/event/western-washington-ess-club-and-cascade-ecsf-hunt-test/
LOCATION:Scatter Creek WDFW Area (North Unit)\, 17100 Case Rd SW\, Rochester\, WA 98579\, USA\, Rochester\, Washington\, 98579\, United States
CATEGORIES:Hunt Tests
ORGANIZER;CN="Melissa Knapp":MAILTO:melissa.s.knapp@gmail.com
GEO:46.828064;-123.07553
X-APPLE-STRUCTURED-LOCATION;VALUE=URI;X-ADDRESS=Scatter Creek WDFW Area (North Unit) 17100 Case Rd SW Rochester WA 98579 USA Rochester Washington 98579 United States;X-APPLE-RADIUS=500;X-TITLE=17100 Case Rd SW\, Rochester\, WA 98579\, USA:geo:-123.07553,46.828064
END:VEVENT
BEGIN:VEVENT
DTSTART;TZID=America/Chicago:20180525T000000
DTEND;TZID=America/Chicago:20180527T000000
DTSTAMP:20260424T073703
CREATED:20250611T183235Z
LAST-MODIFIED:20250611T183235Z
UID:10009686-1527206400-1527379200@essft.com
SUMMARY:South Western Ontario Spaniel Club
DESCRIPTION:Entries Close: TBD  on https://www.dogshow.ca/en/1664?club=South-Western-Ontario-Spaniel-Club \nJudges: \nChad Betts\n        May 25th — Open All Age;  May 26th — Amateur All Age;  May 27th — Open All Age.\nMorgan Haglin\n         May 25th — Open All Age;  May 26th — Amateur All Age.\nKevin Stewart\n         May 27th — Open All Age.\nFrank Wiseman\n         May 25th — Puppy stake;   May 27th — Limit stake.\nDavid Morris\n         May 25th — Puppy stake;   May 27th — Limit stake.\n  \n  \n[wunderground location=”Fisherville\, Ontario” numdays=”5″ showdata=”alert\,daynames\,pop\,icon\,highlow\,conditions\,date” layout=”table-horizontal”] \n 
URL:https://essft.com/event/south-western-ontario-spaniel-club/
LOCATION:New Hampshire
CATEGORIES:Canadian FT
END:VEVENT
BEGIN:VEVENT
DTSTART;TZID=America/Chicago:20180520T000000
DTEND;TZID=America/Chicago:20180520T000000
DTSTAMP:20260424T073703
CREATED:20250611T183235Z
LAST-MODIFIED:20250611T183235Z
UID:10009685-1526774400-1526774400@essft.com
SUMMARY:Gunning Seminar - Missouri
DESCRIPTION:Missouri Hunting Spaniel Club – May 20 – Presenter Wayne Tisue
URL:https://essft.com/event/gunning-seminar-missouri/
LOCATION:New Hampshire
CATEGORIES:Gunning Seminars
END:VEVENT
BEGIN:VEVENT
DTSTART;TZID=America/Chicago:20180519T000000
DTEND;TZID=America/Chicago:20180520T000000
DTSTAMP:20260424T073703
CREATED:20250611T183235Z
LAST-MODIFIED:20250611T183235Z
UID:10009684-1526688000-1526774400@essft.com
SUMMARY:Central Ontario Spaniel Club
DESCRIPTION:
URL:https://essft.com/event/central-ontario-spaniel-club/
LOCATION:New Hampshire
CATEGORIES:Canadian FT
END:VEVENT
BEGIN:VEVENT
DTSTART;TZID=America/Chicago:20180519T000000
DTEND;TZID=America/Chicago:20180520T000000
DTSTAMP:20260424T073703
CREATED:20250611T183220Z
LAST-MODIFIED:20250611T183220Z
UID:10009679-1526688000-1526774400@essft.com
SUMMARY:AKC Week 20
DESCRIPTION:
URL:https://essft.com/event/akc-week-20/
LOCATION:New Hampshire
END:VEVENT
BEGIN:VEVENT
DTSTART;TZID=America/Chicago:20180519T000000
DTEND;TZID=America/Chicago:20180520T000000
DTSTAMP:20260424T073703
CREATED:20250611T183220Z
LAST-MODIFIED:20250611T183220Z
UID:10009680-1526688000-1526774400@essft.com
SUMMARY:Pittsburgh English Springer Spaniel FTC   Hunt Test
DESCRIPTION:Enter online at www.entryexpress.net \n 
URL:https://essft.com/event/pittsburgh-english-springer-spaniel-ftc-hunt-test/
LOCATION:New Hampshire
CATEGORIES:Hunt Tests
ORGANIZER;CN="Justin Smith":MAILTO:pittsburghhuntingspaniels@yahoo.com
END:VEVENT
BEGIN:VEVENT
DTSTART;TZID=America/Chicago:20180519T000000
DTEND;TZID=America/Chicago:20180520T000000
DTSTAMP:20260424T073703
CREATED:20250611T183220Z
LAST-MODIFIED:20250611T183220Z
UID:10009681-1526688000-1526774400@essft.com
SUMMARY:Central Connecticut Spaniel Club - Hunt Tests
DESCRIPTION:ENTRIES WILL CLOSE WITH THE HUNT TEST SECRETARY a 5:00 P.M.  (EDST)\, Friday May 11\, 2018 \nHunt Test Premium 2018 Spring Updated 24APRIL2018 \n\n		\n			\n			\n		\n\n		\n 
URL:https://essft.com/event/central-connecticut-spaniel-club-hunt-tests/
LOCATION:NOD BROOK WILDLIFE MANAGEMENT AREA\,\, Simsbury\, CT\, USA\, Simsbury\, Connecticut\, United States
CATEGORIES:Hunt Tests
ORGANIZER;CN="Suzanne Smith":MAILTO:ssmith@interimhealthcr.com
GEO:41.854009;-72.827915
X-APPLE-STRUCTURED-LOCATION;VALUE=URI;X-ADDRESS=NOD BROOK WILDLIFE MANAGEMENT AREA Simsbury CT USA Simsbury Connecticut United States;X-APPLE-RADIUS=500;X-TITLE=Simsbury\, CT\, USA:geo:-72.827915,41.854009
END:VEVENT
BEGIN:VEVENT
DTSTART;TZID=America/Chicago:20180519T000000
DTEND;TZID=America/Chicago:20180519T000000
DTSTAMP:20260424T073703
CREATED:20250611T183235Z
LAST-MODIFIED:20250628T012514Z
UID:10009683-1526688000-1526688000@essft.com
SUMMARY:Missouri Hunting Spaniel Club - Water Test
DESCRIPTION:
URL:https://essft.com/event/missouri-hunting-spaniel-club-water-test/
LOCATION:New Hampshire
CATEGORIES:Water Test
END:VEVENT
BEGIN:VEVENT
DTSTART;TZID=America/Chicago:20180519T000000
DTEND;TZID=America/Chicago:20180519T000000
DTSTAMP:20260424T073703
CREATED:20250611T183234Z
LAST-MODIFIED:20250611T183234Z
UID:10009682-1526688000-1526688000@essft.com
SUMMARY:Missouri Hunting Spaniel Club - Hunt Test Seminar
DESCRIPTION:
URL:https://essft.com/event/missouri-hunting-spaniel-club-hunt-test-seminar/
LOCATION:New Hampshire
CATEGORIES:Hunt Tests
END:VEVENT
BEGIN:VEVENT
DTSTART;TZID=America/Chicago:20180512T000000
DTEND;TZID=America/Chicago:20180513T000000
DTSTAMP:20260424T073703
CREATED:20250611T183219Z
LAST-MODIFIED:20250611T183219Z
UID:10009678-1526083200-1526169600@essft.com
SUMMARY:Minnesota Hunting Spaniel Association  - Hunt Test
DESCRIPTION:Entries are limited to 30.  www.entryexpress.net
URL:https://essft.com/event/minnesota-hunting-spaniel-association-hunt-test/
LOCATION:Major Ave Hunt Club\, 11721 Major Ave\, Glencoe\, MN 55336\, USA\, Glencoe\, Minnesota\, 55336\, United States
CATEGORIES:Hunt Tests
GEO:44.784868;-94.277116
X-APPLE-STRUCTURED-LOCATION;VALUE=URI;X-ADDRESS=Major Ave Hunt Club 11721 Major Ave Glencoe MN 55336 USA Glencoe Minnesota 55336 United States;X-APPLE-RADIUS=500;X-TITLE=11721 Major Ave\, Glencoe\, MN 55336\, USA:geo:-94.277116,44.784868
END:VEVENT
BEGIN:VEVENT
DTSTART;TZID=America/Chicago:20180512T000000
DTEND;TZID=America/Chicago:20180513T000000
DTSTAMP:20260424T073703
CREATED:20250611T183219Z
LAST-MODIFIED:20250611T183219Z
UID:10009677-1526083200-1526169600@essft.com
SUMMARY:AKC Week 19
DESCRIPTION:
URL:https://essft.com/event/akc-week-19/
LOCATION:New Hampshire
END:VEVENT
BEGIN:VEVENT
DTSTART;TZID=America/Chicago:20180512T000000
DTEND;TZID=America/Chicago:20180513T000000
DTSTAMP:20260424T073703
CREATED:20250611T183205Z
LAST-MODIFIED:20250611T183205Z
UID:10009676-1526083200-1526169600@essft.com
SUMMARY:North Dakota Sporting Spaniel Club
DESCRIPTION:Entries Close Monday\, April 30\, 2018 on Entry Express. \nJudges: John Smith and Chuck Nelson\n  \n\n		\n			\n			\n		\n\n		\n  \n[wunderground location=”Bismarck\, ND” numdays=”5″ showdata=”alert\,daynames\,pop\,icon\,highlow\,conditions\,date” layout=”table-horizontal”] \n 
URL:https://essft.com/event/north-dakota-sporting-spaniel-club-2/
LOCATION:Hobson Brown Farm\, 16001 48th Ave SE\, Menoken\, ND 58558\, USA\, Menoken\, North Dakota\, 58558\, United States
CATEGORIES:Field Trials - Rocky Mountain
ORGANIZER;CN="Sue Wilson%2C FTS":MAILTO:suezannebwilson@yahoo.com
GEO:46.748796;-100.538811
X-APPLE-STRUCTURED-LOCATION;VALUE=URI;X-ADDRESS=Hobson Brown Farm 16001 48th Ave SE Menoken ND 58558 USA Menoken North Dakota 58558 United States;X-APPLE-RADIUS=500;X-TITLE=16001 48th Ave SE\, Menoken\, ND 58558\, USA:geo:-100.538811,46.748796
END:VEVENT
BEGIN:VEVENT
DTSTART;TZID=America/Chicago:20180511T000000
DTEND;TZID=America/Chicago:20180513T000000
DTSTAMP:20260424T073703
CREATED:20250611T183205Z
LAST-MODIFIED:20250611T183205Z
UID:10009675-1525996800-1526169600@essft.com
SUMMARY:SPANIEL TRAINING SEMINAR WITH RAY CACCHIO MAY 11-13\, 2018
DESCRIPTION:Hint: Depending upon your computer and mouse set up you can scroll through the PDF in different ways.  Regardless of setup if you go to the bottom of the pdf and hover your mouse  you will see a gray bar that will allow you to page through the document\, download it for printing etc. \n 
URL:https://essft.com/event/spaniel-training-seminar-with-ray-cacchio-may-11-13-2018/
LOCATION:Windrift Kennels\, Cochranton\, PA\, USA\, Cochranton\, Pennsylvania\, United States
CATEGORIES:Training Seminar
GEO:41.520053;-80.048393
X-APPLE-STRUCTURED-LOCATION;VALUE=URI;X-ADDRESS=Windrift Kennels Cochranton PA USA Cochranton Pennsylvania United States;X-APPLE-RADIUS=500;X-TITLE=Cochranton\, PA\, USA:geo:-80.048393,41.520053
END:VEVENT
BEGIN:VEVENT
DTSTART;TZID=America/Chicago:20180505T000000
DTEND;TZID=America/Chicago:20180506T000000
DTSTAMP:20260424T073703
CREATED:20250611T183204Z
LAST-MODIFIED:20250611T183204Z
UID:10009673-1525478400-1525564800@essft.com
SUMMARY:AKC Week 18
DESCRIPTION:
URL:https://essft.com/event/akc-week-18/
LOCATION:New Hampshire
END:VEVENT
BEGIN:VEVENT
DTSTART;TZID=America/Chicago:20180505T000000
DTEND;TZID=America/Chicago:20180506T000000
DTSTAMP:20260424T073704
CREATED:20250611T183204Z
LAST-MODIFIED:20250611T183204Z
UID:10009674-1525478400-1525564800@essft.com
SUMMARY:Minnesota English Springer Spaniel Club
DESCRIPTION:DUE TO WEATHER THE APRIL 14 & 15 TRIAL WILL BE MOVED TO MAY 5 & 6. SAME JUDGES AND GROUNDS. \n  \nREOPENED Entries Close: Thursday\, April 26\, 2018 on Hunt Secretary \nESSC field trial that is rescheduled on May 5th and 6th to accept NEW entries. New entries can be made athuntsecretary.com until midnight Thursday\, April 26th.\nDogs originally entered in the April 14th and 15th field trial DO NOT need to re-enter. Dogs originally entered in the April FT that cannot participate on the new dates will need to contact us (the club) so we can issue refunds and remove those dogs from the running orders. \n  \nJudges: Clay Earl and David Sanford    Apprentice Judge: Bob Beauchamp\nRUNNING ORDERS:\n\n		\n			\n			\n		\n\n		\n 
URL:https://essft.com/event/minnesota-english-springer-spaniel-club-3/
LOCATION:New Hampshire
CATEGORIES:Field Trials - Mid West
END:VEVENT
BEGIN:VEVENT
DTSTART;TZID=America/Chicago:20180428T000000
DTEND;TZID=America/Chicago:20180430T000000
DTSTAMP:20260424T073704
CREATED:20250611T183013Z
LAST-MODIFIED:20250611T183013Z
UID:10009668-1524873600-1525046400@essft.com
SUMMARY:Scotia Springer Club Field Trial
DESCRIPTION:FTS: Heather Levy\n39 Birchwood Terrace\nDartmouth\nNova Scotia\nB3A 3W4 \n  \nhttps://www.dogshow.ca/en/1557?club=Scotia-Springer-Club
URL:https://essft.com/event/scotia-springer-club-field-trial/
LOCATION:New Hampshire
CATEGORIES:Canadian FT
END:VEVENT
BEGIN:VEVENT
DTSTART;TZID=America/Chicago:20180428T000000
DTEND;TZID=America/Chicago:20180429T000000
DTSTAMP:20260424T073704
CREATED:20250611T183204Z
LAST-MODIFIED:20250611T183204Z
UID:10009672-1524873600-1524960000@essft.com
SUMMARY:Missouri Hunting Spaniel Club Hunt Tests
DESCRIPTION:Entries are on Hunt Secretary.
URL:https://essft.com/event/missouri-hunting-spaniel-club-hunt-tests/
LOCATION:New Hampshire
CATEGORIES:Hunt Tests
END:VEVENT
BEGIN:VEVENT
DTSTART;TZID=America/Chicago:20180428T000000
DTEND;TZID=America/Chicago:20180429T000000
DTSTAMP:20260424T073704
CREATED:20250611T183014Z
LAST-MODIFIED:20250611T183014Z
UID:10009670-1524873600-1524960000@essft.com
SUMMARY:AKC Week 17
DESCRIPTION:
URL:https://essft.com/event/akc-week-17/
LOCATION:New Hampshire
END:VEVENT
BEGIN:VEVENT
DTSTART;TZID=America/Chicago:20180428T000000
DTEND;TZID=America/Chicago:20180429T000000
DTSTAMP:20260424T073704
CREATED:20250611T183014Z
LAST-MODIFIED:20250611T183014Z
UID:10009671-1524873600-1524960000@essft.com
SUMMARY:Iowa Sporting Spaniel Club Trial #2
DESCRIPTION:Entries Close: Tuesday\, April 17\, 2018  on Hunt Secretary \nJudges: William Gates and Brent LeMaster\n  \nFriday’s Running Orders\n\n		\n			\n			\n		\n\n		\n  \nSaturday and Sunday’s Running Orders\n\n		\n			\n			\n		\n\n		\n  \n  \n  \nPLEASE READ: \n\nThese are new grounds!  If the ground is wet we will NOT be allowing UTVs on the course.\n This is a 3 day event.  Friday and Saturday will each have an Open and Sunday is an Amateur. \n The club will be using Chukar.\n\n \n  \n\n		\n			\n			\n		\n\n		\nField Trial Results\n4/28/18                 OPEN ALL-AGE   \nJudges:             William Gates / Brent LeMaster \nNumber Entered/Number Started:36/35 \n  \nFirst Place \nDog Name:         Drake Hill Willem’s Choice MH- (Keller) \nAKC:                    SR88746907                            Sex:     M                 DOB:   7/21/15 \nSire:                    Syncerus Sweep \nDam:                   Drake Hill Anna \nBreeder:             William D Mcfeely \nOwner:                Patrick Berry \nActual Handler: Jason Givens \n  \nSecond Place \nDog Name:         Breaking Cattails You Can Come Home- (Blane) \nAKC:                    SR93832607                            Sex:     M                 DOB:   5/21/17 \nSire:                    FC Macon Creek Tucker \nDam:                   FC AFC Upland Briars Mistletoe \nBreeder:             Joe Stallman \nOwner:                Joe Stallman \nActual Handler: Jason Givens \n  \nThird Place \nDog Name:         Pine Shadows Flying Hank- (Hank) \nAKC:                    SR87426207                            Sex:     M                 DOB:   4/6/15 \nSire:                    FC Crosswinds Rolling Thunder \nDam:                   Pine Shadows SW Wheaties \nBreeder:             Mark Haglin \nOwner:                Pat Connell \nActual Handler: Morgan Haglin \n  \nFourth Place \nDog Name:         FC-AFC Tuff of Ivanhoe- (Tuffy) \nAKC:                    SR72540706                            Sex:     F                  DOB:   4/29/12 \nSire:                    AFC Ivanhoe’s Red Lion \nDam:                   AFC Ivanhoe’s Irish Cream \nBreeder:             Bill Cosgrove \nActual Handler: William Cosgrove \n  \n  \n  \n4/28/18                 PUPPY   \nJudges:             Aaron Wendel / Jim O’Keefe \nNumber Entered/Number Started:4/4 \n  \nFirst Place \nDog Name:         Pine Shadows Driving Rayn- (Rayn) \nAKC:                    SR98859705                            Sex:     F                  DOB:   1/2/17 \nSire:                    Pine Shadows RD Dozer \nDam:                   Mamre’s Chica Bonita \nBreeder:             M.a. Mattox \nOwner:                Brad Howland \nActual Handler: Morgan Haglin \n  \nSecond Place \nDog Name:         Prairierose’s Breezy Hornig- (Breezy) \nAKC:                    SR96061505                            Sex:     F                  DOB:   11/26/16 \nSire: \nDam: \nBreeder:             Richard Paquin \nOwner:                Win Hornig \nActual Handler: Morgan Haglin \n  \nThird Place \nDog Name:         Drake Hill Gristmill Griffin- (Griffin) \nAKC:                    SR98059707                            Sex:     M                 DOB:   3/22/17 \nSire:                    FC Craney Hill Dalmore Dudley \nDam:                   Drake Hill Anna \nBreeder:             William D. Mcfeely \nOwner:                Patrick Berry \nActual Handler: Patrick Berry \n  \nFourth Place \nDog Name:         Ice Cold Mugs- (Mugzy) \nAKC:                    SR99179101                            Sex:     M                 DOB:   6/28/16 \nSire:                    Courtman’s Rocky Delta Ibis \nDam:                   Courtman’sMiss Kara \nBreeder:             Alex Anf Alice Stewart \nOwner:                Ray Jack \nActual Handler: Morgan Haglin \n  \n. \n4/29/18                 AMATEUR ALL-AGE   \nJudges:             William Gates / Brent LeMaster \nNumber Entered/Number Started: 47/44 \nFirst Place \nDog Name:         Coals Creek Practically Perfect- (Pip) \nAKC:                    SR82443403                            Sex:     F                  DOB:   4/28/14 \nSire:                    Hillside Hickory Sir Winston \nDam:                   Hillside Hickory Dakota \nBreeder:             Miss Anna Liegel \nOwner:                Jason Saunders \nO-Address:         7711 Sharts Rd\, Springboro\, OH 45066 \nActual Handler: Mike Elsasser \n  \nSecond Place \nDog Name:         Rockhaven’s Little Lass- (Delaney) \nAKC:                    SR91129802                            Sex:     F                  DOB:   12/11/15 \nSire:                    FC AFC Prince Padraig of Rockhaven \nDam:                   FC AFC Grouse Moor Tina \nBreeder:             John Knowles \nOwner:                James O’keefe \nActual Handler: James O’keefe \n  \nThird Place \nDog Name:         FC-AFC Narvin’s Sully of Ivanhoe- (Sully) \nAKC:                    SR84815001                            Sex:     M                 DOB:   6/3/14 \nSire:                    NFC NAFC  Blackriver Tanner \nDam:                   Lady Caramel \nBreeder:             Tanya Mccaffery \nOwner:                William Cosgrove \nO-Address:         2970 Shoemaker Road\, Lebanon\, OH \nActual Handler: William Cosgrove \n  \nFourth Place \nDog Name:         Juneau’s Gypsy Girl- (Juneau) \nAKC:                    SR87967908                            Sex:     F                  DOB:   5/13/15 \nSire:                    NAFC FC AFC Pheasant Feathers Black Powder JH \nDam:                   FC AFC Z&Z’s Sky Dancer of Fallen Wings \nBreeder:             Michael F. Nolan \nOwner:                Ann Theisen \nActual Handler: Joel Theisen \n[wunderground location=”Monroe\, IA” numdays=”5″ showdata=”alert\,daynames\,pop\,icon\,highlow\,conditions\,date” layout=”table-horizontal”] \n 
URL:https://essft.com/event/iowa-sporting-spaniel-club-trial-2/
LOCATION:Mike Nolan\, 2941 Rosebud Ave\, Monroe\, IA 50170\, USA\, Monroe\, Iowa\, 50170\, United States
CATEGORIES:Field Trials - Mid West
GEO:41.531214;-93.086823
X-APPLE-STRUCTURED-LOCATION;VALUE=URI;X-ADDRESS=Mike Nolan 2941 Rosebud Ave Monroe IA 50170 USA Monroe Iowa 50170 United States;X-APPLE-RADIUS=500;X-TITLE=2941 Rosebud Ave\, Monroe\, IA 50170\, USA:geo:-93.086823,41.531214
END:VEVENT
BEGIN:VEVENT
DTSTART;TZID=America/Chicago:20180428T000000
DTEND;TZID=America/Chicago:20180429T000000
DTSTAMP:20260424T073704
CREATED:20250611T183013Z
LAST-MODIFIED:20250611T183013Z
UID:10009669-1524873600-1524960000@essft.com
SUMMARY:Central New England Sporting Spaniel Club
DESCRIPTION:Entries Close:  Tuesday\, April 17\, 2018 on Hunt Secretary \nJudges:  Robert Ryan and Jon Cook\nCHANGE OF LOCATION:  Dublin Road\, Howard\, New York\n“Lunch is on us!”\n\n		\n			\n			\n		\n\n		\n  \n  \n[wunderground location=”Howard\, NY” numdays=”5″ showdata=”alert\,daynames\,pop\,icon\,highlow\,conditions\,date” layout=”table-horizontal”] \n  \n 
URL:https://essft.com/event/central-new-england-sporting-spaniel-club-3/
LOCATION:New Location as of April 11th – Howard NY\, Dublin Rd\, Canisteo\, NY 14823\, USA\, Canisteo\, New York\, 14823\, United States
CATEGORIES:Field Trials - East
GEO:42.300534;-77.483167
X-APPLE-STRUCTURED-LOCATION;VALUE=URI;X-ADDRESS=DESCRIPTION:Entries Close:  Tuesday April 17 2018 on Hunt Secretary \nJudges:  Robert Ryan and Jon Cook\nCHANGE OF   Dublin Road Howard New York\n“Lunch is on us!”\n\n		\n			\n			\n		\n\n		\n  \n  \n[wunderground location=”Howard NY” numdays=”5″ showdata=”alertdaynamespopiconhighlowconditionsdate” layout=”table-horizontal”] \n  \n ;X-APPLE-RADIUS=500;X-TITLE=Dublin Rd\, Canisteo\, NY 14823\, USA:geo:-77.483167,42.300534
END:VEVENT
END:VCALENDAR