BEGIN:VCALENDAR
VERSION:2.0
PRODID:-//English Springer Spaniel Field Trials - ECPv6.15.20//NONSGML v1.0//EN
CALSCALE:GREGORIAN
METHOD:PUBLISH
X-WR-CALNAME:English Springer Spaniel Field Trials
X-ORIGINAL-URL:https://essft.com
X-WR-CALDESC:Events for English Springer Spaniel Field Trials
REFRESH-INTERVAL;VALUE=DURATION:PT1H
X-Robots-Tag:noindex
X-PUBLISHED-TTL:PT1H
BEGIN:VTIMEZONE
TZID:America/Chicago
BEGIN:DAYLIGHT
TZOFFSETFROM:-0600
TZOFFSETTO:-0500
TZNAME:CDT
DTSTART:20150308T080000
END:DAYLIGHT
BEGIN:STANDARD
TZOFFSETFROM:-0500
TZOFFSETTO:-0600
TZNAME:CST
DTSTART:20151101T070000
END:STANDARD
BEGIN:DAYLIGHT
TZOFFSETFROM:-0600
TZOFFSETTO:-0500
TZNAME:CDT
DTSTART:20160313T080000
END:DAYLIGHT
BEGIN:STANDARD
TZOFFSETFROM:-0500
TZOFFSETTO:-0600
TZNAME:CST
DTSTART:20161106T070000
END:STANDARD
BEGIN:DAYLIGHT
TZOFFSETFROM:-0600
TZOFFSETTO:-0500
TZNAME:CDT
DTSTART:20170312T080000
END:DAYLIGHT
BEGIN:STANDARD
TZOFFSETFROM:-0500
TZOFFSETTO:-0600
TZNAME:CST
DTSTART:20171105T070000
END:STANDARD
BEGIN:DAYLIGHT
TZOFFSETFROM:-0600
TZOFFSETTO:-0500
TZNAME:CDT
DTSTART:20180311T080000
END:DAYLIGHT
BEGIN:STANDARD
TZOFFSETFROM:-0500
TZOFFSETTO:-0600
TZNAME:CST
DTSTART:20181104T070000
END:STANDARD
END:VTIMEZONE
BEGIN:VTIMEZONE
TZID:America/Los_Angeles
BEGIN:DAYLIGHT
TZOFFSETFROM:-0800
TZOFFSETTO:-0700
TZNAME:PDT
DTSTART:20160313T100000
END:DAYLIGHT
BEGIN:STANDARD
TZOFFSETFROM:-0700
TZOFFSETTO:-0800
TZNAME:PST
DTSTART:20161106T090000
END:STANDARD
BEGIN:DAYLIGHT
TZOFFSETFROM:-0800
TZOFFSETTO:-0700
TZNAME:PDT
DTSTART:20170312T100000
END:DAYLIGHT
BEGIN:STANDARD
TZOFFSETFROM:-0700
TZOFFSETTO:-0800
TZNAME:PST
DTSTART:20171105T090000
END:STANDARD
BEGIN:DAYLIGHT
TZOFFSETFROM:-0800
TZOFFSETTO:-0700
TZNAME:PDT
DTSTART:20180311T100000
END:DAYLIGHT
BEGIN:STANDARD
TZOFFSETFROM:-0700
TZOFFSETTO:-0800
TZNAME:PST
DTSTART:20181104T090000
END:STANDARD
END:VTIMEZONE
BEGIN:VTIMEZONE
TZID:America/New_York
BEGIN:DAYLIGHT
TZOFFSETFROM:-0500
TZOFFSETTO:-0400
TZNAME:EDT
DTSTART:20160313T070000
END:DAYLIGHT
BEGIN:STANDARD
TZOFFSETFROM:-0400
TZOFFSETTO:-0500
TZNAME:EST
DTSTART:20161106T060000
END:STANDARD
BEGIN:DAYLIGHT
TZOFFSETFROM:-0500
TZOFFSETTO:-0400
TZNAME:EDT
DTSTART:20170312T070000
END:DAYLIGHT
BEGIN:STANDARD
TZOFFSETFROM:-0400
TZOFFSETTO:-0500
TZNAME:EST
DTSTART:20171105T060000
END:STANDARD
BEGIN:DAYLIGHT
TZOFFSETFROM:-0500
TZOFFSETTO:-0400
TZNAME:EDT
DTSTART:20180311T070000
END:DAYLIGHT
BEGIN:STANDARD
TZOFFSETFROM:-0400
TZOFFSETTO:-0500
TZNAME:EST
DTSTART:20181104T060000
END:STANDARD
END:VTIMEZONE
BEGIN:VEVENT
DTSTART;TZID=America/Chicago:20170304T000000
DTEND;TZID=America/Chicago:20170305T000000
DTSTAMP:20260424T041812
CREATED:20250611T055612Z
LAST-MODIFIED:20250611T055612Z
UID:10009445-1488585600-1488672000@essft.com
SUMMARY:Cincinnati ESS Field Trial Club
DESCRIPTION:Judges: Jim O’Keefe and  Elaine Vanderslice
URL:https://essft.com/event/cincinnati-ess-field-trial-club/
LOCATION:Michigan
CATEGORIES:Field Trials - Mid East
END:VEVENT
BEGIN:VEVENT
DTSTART;TZID=America/Los_Angeles:20170303T000000
DTEND;TZID=America/Los_Angeles:20170303T000000
DTSTAMP:20260424T041812
CREATED:20250611T055612Z
LAST-MODIFIED:20250611T055612Z
UID:10009442-1488499200-1488499200@essft.com
SUMMARY:Stockton ESS Training Club
DESCRIPTION:Judges: Dominique Savoie and Jim O’Shea
URL:https://essft.com/event/stockton-ess-training-club-2/
LOCATION:Michigan
CATEGORIES:Field Trials - West
END:VEVENT
BEGIN:VEVENT
DTSTART;TZID=America/Los_Angeles:20170225T000000
DTEND;TZID=America/Los_Angeles:20170226T000000
DTSTAMP:20260424T041812
CREATED:20250611T055411Z
LAST-MODIFIED:20250611T055411Z
UID:10009441-1487980800-1488067200@essft.com
SUMMARY:Southern California Sporting Spaniel Club
DESCRIPTION:Judges: Joe Coady and Daryl Johnson
URL:https://essft.com/event/southern-california-sporting-spaniel-club-2/
LOCATION:Michigan
CATEGORIES:Field Trials - West
END:VEVENT
BEGIN:VEVENT
DTSTART;TZID=America/New_York:20170224T000000
DTEND;TZID=America/New_York:20170225T000000
DTSTAMP:20260424T041812
CREATED:20250611T055411Z
LAST-MODIFIED:20250628T012342Z
UID:10009440-1487894400-1487980800@essft.com
SUMMARY:Central Virginia ESS FT Club
DESCRIPTION:Water Test offered. \nJudges: John Meyer\, Deb Olszewski
URL:https://essft.com/event/central-virginia-ess-ft-club/
LOCATION:Michigan
CATEGORIES:Field Trials - East
END:VEVENT
BEGIN:VEVENT
DTSTART;TZID=America/Los_Angeles:20170220T000000
DTEND;TZID=America/Los_Angeles:20170220T000000
DTSTAMP:20260424T041812
CREATED:20250611T055411Z
LAST-MODIFIED:20250611T055411Z
UID:10009439-1487548800-1487548800@essft.com
SUMMARY:San Fernando Valley Spaniel Club
DESCRIPTION:Judges: Greg Kuhlman and Bob Bullard
URL:https://essft.com/event/san-fernando-valley-spaniel-club/
LOCATION:Michigan
CATEGORIES:Field Trials - West
END:VEVENT
BEGIN:VEVENT
DTSTART;TZID=America/Chicago:20170218T000000
DTEND;TZID=America/Chicago:20170219T000000
DTSTAMP:20260424T041812
CREATED:20250611T055411Z
LAST-MODIFIED:20250611T055411Z
UID:10009438-1487376000-1487462400@essft.com
SUMMARY:Northeastern Ohio Bird Dog Association
DESCRIPTION:Judges: Arron Wendel and Brian Young
URL:https://essft.com/event/northeastern-ohio-bird-dog-association/
LOCATION:Michigan
CATEGORIES:Field Trials - Mid East
END:VEVENT
BEGIN:VEVENT
DTSTART;TZID=America/Chicago:20170218T000000
DTEND;TZID=America/Chicago:20170219T000000
DTSTAMP:20260424T041812
CREATED:20250611T055411Z
LAST-MODIFIED:20250611T055411Z
UID:10009437-1487376000-1487462400@essft.com
SUMMARY:Missouri Hunting Spaniel Club
DESCRIPTION:Entries Close: February 7th \nJudges: Lynn Miller and John Knowles
URL:https://essft.com/event/missouri-hunting-spaniel-club-2/
LOCATION:Michigan
CATEGORIES:Field Trials - Rocky Mountain
END:VEVENT
BEGIN:VEVENT
DTSTART;TZID=America/Chicago:20170218T000000
DTEND;TZID=America/Chicago:20170219T000000
DTSTAMP:20260424T041812
CREATED:20250611T055356Z
LAST-MODIFIED:20250611T055356Z
UID:10009436-1487376000-1487462400@essft.com
SUMMARY:Arrowhead ESS Club
DESCRIPTION:Judges: Dan Lussen and Kevin Martineau
URL:https://essft.com/event/arrowhead-ess-club-2/
LOCATION:Michigan
CATEGORIES:Field Trials - West
END:VEVENT
BEGIN:VEVENT
DTSTART;TZID=America/Los_Angeles:20170211T000000
DTEND;TZID=America/Los_Angeles:20170212T000000
DTSTAMP:20260424T041812
CREATED:20250611T055356Z
LAST-MODIFIED:20250611T055356Z
UID:10009434-1486771200-1486857600@essft.com
SUMMARY:Stockton ESS Training Club
DESCRIPTION:Entries Close: January 31 \nJudges: John Leininger and Robert Murdock
URL:https://essft.com/event/stockton-ess-training-club/
LOCATION:Michigan
CATEGORIES:Field Trials - West
END:VEVENT
BEGIN:VEVENT
DTSTART;TZID=America/Chicago:20170211T000000
DTEND;TZID=America/Chicago:20170212T000000
DTSTAMP:20260424T041812
CREATED:20250611T055356Z
LAST-MODIFIED:20250611T055356Z
UID:10009435-1486771200-1486857600@essft.com
SUMMARY:Stillwater Valley ESS Club
DESCRIPTION:Judges:  George Kittle and John Halpin
URL:https://essft.com/event/stillwater-valley-ess-club-4/
LOCATION:Michigan
CATEGORIES:Field Trials - Mid East
END:VEVENT
BEGIN:VEVENT
DTSTART;TZID=America/Chicago:20170208T000000
DTEND;TZID=America/Chicago:20170212T000000
DTSTAMP:20260424T041812
CREATED:20250611T055356Z
LAST-MODIFIED:20250628T024147Z
UID:10009433-1486512000-1486857600@essft.com
SUMMARY:Volunteer ESS Club  Hall of Fame Trial
DESCRIPTION:wed/thurs Judges- Casey Butz\, Richie Whelan \nfri/sun Judges- Mhari Peschel\, Randy Bartsch \nApprentice- Todd Agnew(second trial only)
URL:https://essft.com/event/volunteer-ess-club-hall-of-fame-trial/
LOCATION:Hall of Fame\, LaGrange\, TN
CATEGORIES:Field Trials - Rocky Mountain
END:VEVENT
BEGIN:VEVENT
DTSTART;TZID=America/Chicago:20170128T000000
DTEND;TZID=America/Chicago:20170129T000000
DTSTAMP:20260424T041812
CREATED:20250611T055356Z
LAST-MODIFIED:20250611T055356Z
UID:10009432-1485561600-1485648000@essft.com
SUMMARY:Wateree Spaniel Club HT
DESCRIPTION:2017 Wateree SC Spring HT Letter \n2017 Wateree SC Spring HT Premium
URL:https://essft.com/event/wateree-spaniel-club-ht/
LOCATION:Michigan
CATEGORIES:Hunt Tests
END:VEVENT
BEGIN:VEVENT
DTSTART;TZID=America/Los_Angeles:20170128T000000
DTEND;TZID=America/Los_Angeles:20170129T000000
DTSTAMP:20260424T041812
CREATED:20250611T055352Z
LAST-MODIFIED:20250611T055352Z
UID:10009430-1485561600-1485648000@essft.com
SUMMARY:ESS Club of Southern California
DESCRIPTION:Judges: Paul McGagh and Chad Betts
URL:https://essft.com/event/ess-club-of-southern-california/
LOCATION:Michigan
CATEGORIES:Field Trials - West
END:VEVENT
BEGIN:VEVENT
DTSTART;TZID=America/Chicago:20170128T000000
DTEND;TZID=America/Chicago:20170129T000000
DTSTAMP:20260424T041812
CREATED:20250611T055352Z
LAST-MODIFIED:20250611T055352Z
UID:10009431-1485561600-1485648000@essft.com
SUMMARY:Houston English Springer Spaniel Club
DESCRIPTION:Judges:  Gary Hanvey and Mike Noland
URL:https://essft.com/event/houston-english-springer-spaniel-club/
LOCATION:Michigan
CATEGORIES:Field Trials - Rocky Mountain
END:VEVENT
BEGIN:VEVENT
DTSTART;TZID=America/Chicago:20170126T000000
DTEND;TZID=America/Chicago:20170127T000000
DTSTAMP:20260424T041812
CREATED:20250611T055352Z
LAST-MODIFIED:20250611T055352Z
UID:10009429-1485388800-1485475200@essft.com
SUMMARY:SE Texas ESS Club
DESCRIPTION:Judges:  Pete Zuleger and Justin Smith
URL:https://essft.com/event/se-texas-ess-club/
LOCATION:Michigan
CATEGORIES:Field Trials - Rocky Mountain
END:VEVENT
BEGIN:VEVENT
DTSTART;TZID=America/Chicago:20170121T000000
DTEND;TZID=America/Chicago:20170122T000000
DTSTAMP:20260424T041812
CREATED:20250611T055352Z
LAST-MODIFIED:20250611T055352Z
UID:10009428-1484956800-1485043200@essft.com
SUMMARY:North Texas Sporting Spaniel Club
DESCRIPTION:Judges: Alex and Alice Stewart
URL:https://essft.com/event/north-texas-sporting-spaniel-club/
LOCATION:Michigan
CATEGORIES:Field Trials - Rocky Mountain
END:VEVENT
BEGIN:VEVENT
DTSTART;TZID=America/Chicago:20170114T000000
DTEND;TZID=America/Chicago:20170115T000000
DTSTAMP:20260424T041812
CREATED:20250611T055352Z
LAST-MODIFIED:20250611T055352Z
UID:10009427-1484352000-1484438400@essft.com
SUMMARY:Ravenna Memorial
DESCRIPTION:Judges: Ryan Lamberg  and Randy Manore
URL:https://essft.com/event/ravenna-memorial-2/
LOCATION:Michigan
CATEGORIES:Field Trials - Mid East
END:VEVENT
BEGIN:VEVENT
DTSTART;TZID=America/Chicago:20161217T000000
DTEND;TZID=America/Chicago:20161218T000000
DTSTAMP:20260424T041812
CREATED:20250611T174048Z
LAST-MODIFIED:20250611T174048Z
UID:10009528-1481932800-1482019200@essft.com
SUMMARY:LASHA
DESCRIPTION:Judges- Mike Elsasser\, Trent Bosse
URL:https://essft.com/event/lasha-2/
LOCATION:Michigan
CATEGORIES:Field Trials - East
END:VEVENT
BEGIN:VEVENT
DTSTART;TZID=America/Chicago:20161206T000000
DTEND;TZID=America/Chicago:20161206T000000
DTSTAMP:20260424T041812
CREATED:20250611T174048Z
LAST-MODIFIED:20250628T024259Z
UID:10009527-1480982400-1480982400@essft.com
SUMMARY:National Open Championship
DESCRIPTION:Judges- Clay Earl\, Randy Bartsch
URL:https://essft.com/event/national-open-championship/
LOCATION:Michigan
CATEGORIES:NATIONAL FIELD TRIALS
END:VEVENT
BEGIN:VEVENT
DTSTART;TZID=America/Chicago:20161117T000000
DTEND;TZID=America/Chicago:20161117T000000
DTSTAMP:20260424T041812
CREATED:20250611T055303Z
LAST-MODIFIED:20250628T024342Z
UID:10009426-1479340800-1479340800@essft.com
SUMMARY:National Amateur Championship
DESCRIPTION:Judges- Mike Elsasser\, Rick Shivley \nCongratulations Jeff Miller and 2016 NAFC Tanner!
URL:https://essft.com/event/national-amateur-championship/
LOCATION:Michigan
CATEGORIES:NATIONAL FIELD TRIALS
END:VEVENT
BEGIN:VEVENT
DTSTART;TZID=America/Chicago:20161112T000000
DTEND;TZID=America/Chicago:20161113T000000
DTSTAMP:20260424T041812
CREATED:20250611T055303Z
LAST-MODIFIED:20250611T174043Z
UID:10009424-1478908800-1478995200@essft.com
SUMMARY:Iowa SSC (Trial #2)
DESCRIPTION:Judges- Kathy Sleavin\, Ralph Botti \nsat- Open and Puppy \nsun- Amateur
URL:https://essft.com/event/iowa-ssc-trial-2/
LOCATION:Michigan
CATEGORIES:Field Trials - Mid West
END:VEVENT
BEGIN:VEVENT
DTSTART;TZID=America/Chicago:20161112T000000
DTEND;TZID=America/Chicago:20161113T000000
DTSTAMP:20260424T041812
CREATED:20250611T055303Z
LAST-MODIFIED:20250611T174044Z
UID:10009425-1478908800-1478995200@essft.com
SUMMARY:Central New England SSC
DESCRIPTION:Judges- David Granatir\, Alex Smith
URL:https://essft.com/event/central-new-england-ssc-4/
LOCATION:Michigan
CATEGORIES:Field Trials - East
END:VEVENT
BEGIN:VEVENT
DTSTART;TZID=America/Chicago:20161111T000000
DTEND;TZID=America/Chicago:20161112T000000
DTSTAMP:20260424T041812
CREATED:20250611T055303Z
LAST-MODIFIED:20250611T174043Z
UID:10009422-1478822400-1478908800@essft.com
SUMMARY:Utah SSC
DESCRIPTION:Judges- Gary McDonald (change of judge) to Brent Blundell
URL:https://essft.com/event/utah-ssc-3/
LOCATION:Michigan
CATEGORIES:Field Trials - West
END:VEVENT
BEGIN:VEVENT
DTSTART;TZID=America/Chicago:20161111T000000
DTEND;TZID=America/Chicago:20161112T000000
DTSTAMP:20260424T041812
CREATED:20250611T055303Z
LAST-MODIFIED:20250611T174043Z
UID:10009423-1478822400-1478908800@essft.com
SUMMARY:Iowa SSC (trial #1)
DESCRIPTION:Judges- John Knowles\, Ken Hanson \nOpen and Puppy
URL:https://essft.com/event/iowa-ssc-trial-1/
LOCATION:Michigan
CATEGORIES:Field Trials - Mid West
END:VEVENT
BEGIN:VEVENT
DTSTART;TZID=America/Chicago:20161105T000000
DTEND;TZID=America/Chicago:20161106T000000
DTSTAMP:20260424T041812
CREATED:20250611T055103Z
LAST-MODIFIED:20250611T055103Z
UID:10009417-1478304000-1478390400@essft.com
SUMMARY:Western Washington ESSC
DESCRIPTION:Judges- Casey Butz\, Cindy Williams
URL:https://essft.com/event/western-washington-essc-2/
LOCATION:Michigan
CATEGORIES:Field Trials - West
END:VEVENT
BEGIN:VEVENT
DTSTART;TZID=America/Chicago:20161105T000000
DTEND;TZID=America/Chicago:20161106T000000
DTSTAMP:20260424T041812
CREATED:20250611T055103Z
LAST-MODIFIED:20250611T055103Z
UID:10009418-1478304000-1478390400@essft.com
SUMMARY:Houston ESSC
DESCRIPTION:Judges- Aaron Wendle\, John Meyer
URL:https://essft.com/event/houston-essc-3/
LOCATION:Michigan
CATEGORIES:Field Trials - Rocky Mountain
END:VEVENT
BEGIN:VEVENT
DTSTART;TZID=America/Chicago:20161105T000000
DTEND;TZID=America/Chicago:20161106T000000
DTSTAMP:20260424T041812
CREATED:20250611T055103Z
LAST-MODIFIED:20250611T055103Z
UID:10009419-1478304000-1478390400@essft.com
SUMMARY:West Allis Training and Kennel Club
DESCRIPTION:Judges- Ryan Lamberg\, John Lindsay
URL:https://essft.com/event/west-allis-training-and-kennel-club/
LOCATION:Michigan
CATEGORIES:Field Trials - Mid West
END:VEVENT
BEGIN:VEVENT
DTSTART;TZID=America/Chicago:20161105T000000
DTEND;TZID=America/Chicago:20161106T000000
DTSTAMP:20260424T041812
CREATED:20250611T055103Z
LAST-MODIFIED:20250611T055103Z
UID:10009420-1478304000-1478390400@essft.com
SUMMARY:Stillwater Valley ESS Club
DESCRIPTION:Judges- Dan Lussen\, Richard Wheelan
URL:https://essft.com/event/stillwater-valley-ess-club-3/
LOCATION:Michigan
CATEGORIES:Field Trials - Mid East
END:VEVENT
BEGIN:VEVENT
DTSTART;TZID=America/Chicago:20161105T000000
DTEND;TZID=America/Chicago:20161106T000000
DTSTAMP:20260424T041812
CREATED:20250611T055103Z
LAST-MODIFIED:20250611T055103Z
UID:10009421-1478304000-1478390400@essft.com
SUMMARY:Valley Forge FTA
DESCRIPTION:Judges- Frank MacKinson\, Ray Wunderlich
URL:https://essft.com/event/valley-forge-fta-3/
LOCATION:Michigan
CATEGORIES:Field Trials - East
END:VEVENT
BEGIN:VEVENT
DTSTART;TZID=America/Chicago:20161103T000000
DTEND;TZID=America/Chicago:20161104T000000
DTSTAMP:20260424T041812
CREATED:20250611T054903Z
LAST-MODIFIED:20250611T054903Z
UID:10009415-1478131200-1478217600@essft.com
SUMMARY:Texas ESSC
DESCRIPTION:Judges- Gunther Boettcher\, Roland Snyder
URL:https://essft.com/event/texas-essc/
LOCATION:Michigan
CATEGORIES:Field Trials - Rocky Mountain
END:VEVENT
END:VCALENDAR